BEGIN:VCALENDAR
PRODID:-//eluceo/ical//2.0/EN
VERSION:2.0
CALSCALE:GREGORIAN
BEGIN:VEVENT
UID:https://hbb.rivio.dev/senioren/2030/wedstrijd/38550
DTSTAMP:20260420T150726Z
SUMMARY:Con Brio 1 - Con Brio 1
DESCRIPTION:Baan 1\, Wedstrijdnummer 1\, Afdeling Test klasse TEST
DTSTART:20260125T200000
DTEND:20260125T230000
LOCATION:City Resort Helmond
ATTACH;FMTTYPE=text/plain:https://hbb.rivio.dev/senioren/2030/wedstrijd/385
 50
END:VEVENT
BEGIN:VEVENT
UID:https://hbb.rivio.dev/senioren/2030/wedstrijd/38552
DTSTAMP:20260420T150726Z
SUMMARY:Con Brio 1 - Con Brio 1
DESCRIPTION:Baan 1\, Wedstrijdnummer 3\, Afdeling Test klasse TEST
DTSTART:20261125T200000
DTEND:20261125T230000
LOCATION:City Resort Helmond
ATTACH;FMTTYPE=text/plain:https://hbb.rivio.dev/senioren/2030/wedstrijd/385
 52
END:VEVENT
BEGIN:VEVENT
UID:https://hbb.rivio.dev/senioren/2030/wedstrijd/38553
DTSTAMP:20260420T150726Z
SUMMARY:Con Brio 1 - Con Brio 1
DESCRIPTION:Baan 1\, Wedstrijdnummer 4\, Afdeling Test klasse TEST
DTSTART:20261125T200000
DTEND:20261125T230000
LOCATION:City Resort Helmond
ATTACH;FMTTYPE=text/plain:https://hbb.rivio.dev/senioren/2030/wedstrijd/385
 53
END:VEVENT
BEGIN:VEVENT
UID:https://hbb.rivio.dev/senioren/2030/wedstrijd/38554
DTSTAMP:20260420T150726Z
SUMMARY:Con Brio 1 - Bakel 1
DESCRIPTION:Baan 2\, Wedstrijdnummer 3\, Afdeling Test klasse TEST
DTSTART:20300611T200000
DTEND:20300611T230000
LOCATION:City Resort Helmond
ATTACH;FMTTYPE=text/plain:https://hbb.rivio.dev/senioren/2030/wedstrijd/385
 54
END:VEVENT
BEGIN:VTIMEZONE
TZID:Europe/Amsterdam
BEGIN:STANDARD
DTSTART:20260101T000000
TZNAME:CET
TZOFFSETTO:+0100
TZOFFSETFROM:+0100
END:STANDARD
BEGIN:DAYLIGHT
DTSTART:20260329T030000
TZNAME:CEST
TZOFFSETTO:+0200
TZOFFSETFROM:+0100
END:DAYLIGHT
BEGIN:STANDARD
DTSTART:20261025T020000
TZNAME:CET
TZOFFSETTO:+0100
TZOFFSETFROM:+0200
END:STANDARD
END:VTIMEZONE
END:VCALENDAR
