BEGIN:VCALENDAR
PRODID:-//eluceo/ical//2.0/EN
VERSION:2.0
CALSCALE:GREGORIAN
BEGIN:VEVENT
UID:https://hbb.rivio.dev/senioren/2025/wedstrijd/36263
DTSTAMP:20260419T150606Z
SUMMARY:VBSC 1 - Mierlo 5
DESCRIPTION:Baan 11\, Wedstrijdnummer 93\, Afdeling 2e klasse II
DTSTART:20250924T200000
DTEND:20250924T230000
LOCATION:City Resort Helmond
ATTACH;FMTTYPE=text/plain:https://hbb.rivio.dev/senioren/2025/wedstrijd/362
 63
END:VEVENT
BEGIN:VEVENT
UID:https://hbb.rivio.dev/senioren/2025/wedstrijd/36300
DTSTAMP:20260419T150606Z
SUMMARY:VBSC 1 - De Valken 4
DESCRIPTION:Baan 3\, Wedstrijdnummer 97\, Afdeling 2e klasse II
DTSTART:20251008T200000
DTEND:20251008T230000
LOCATION:City Resort Helmond
ATTACH;FMTTYPE=text/plain:https://hbb.rivio.dev/senioren/2025/wedstrijd/363
 00
END:VEVENT
BEGIN:VEVENT
UID:https://hbb.rivio.dev/senioren/2025/wedstrijd/36325
DTSTAMP:20260419T150606Z
SUMMARY:VBSC 1 - Mixed 3
DESCRIPTION:Baan 13\, Wedstrijdnummer 101\, Afdeling 2e klasse II
DTSTART:20251022T200000
DTEND:20251022T230000
LOCATION:City Resort Helmond
ATTACH;FMTTYPE=text/plain:https://hbb.rivio.dev/senioren/2025/wedstrijd/363
 25
END:VEVENT
BEGIN:VEVENT
UID:https://hbb.rivio.dev/senioren/2025/wedstrijd/36364
DTSTAMP:20260419T150606Z
SUMMARY:Con Brio 3 - VBSC 1
DESCRIPTION:Baan 12\, Wedstrijdnummer 107\, Afdeling 2e klasse II
DTSTART:20251105T200000
DTEND:20251105T230000
LOCATION:City Resort Helmond
ATTACH;FMTTYPE=text/plain:https://hbb.rivio.dev/senioren/2025/wedstrijd/363
 64
END:VEVENT
BEGIN:VEVENT
UID:https://hbb.rivio.dev/senioren/2025/wedstrijd/36397
DTSTAMP:20260419T150606Z
SUMMARY:Someren 2 - VBSC 1
DESCRIPTION:Baan 15\, Wedstrijdnummer 109\, Afdeling 2e klasse II
DTSTART:20251120T200000
DTEND:20251120T230000
LOCATION:City Resort Helmond
ATTACH;FMTTYPE=text/plain:https://hbb.rivio.dev/senioren/2025/wedstrijd/363
 97
END:VEVENT
BEGIN:VEVENT
UID:https://hbb.rivio.dev/senioren/2025/wedstrijd/36416
DTSTAMP:20260419T150606Z
SUMMARY:Bakel 3 - VBSC 1
DESCRIPTION:Baan 14\, Wedstrijdnummer 111\, Afdeling 2e klasse II
DTSTART:20251127T200000
DTEND:20251127T230000
LOCATION:City Resort Helmond
ATTACH;FMTTYPE=text/plain:https://hbb.rivio.dev/senioren/2025/wedstrijd/364
 16
END:VEVENT
BEGIN:VEVENT
UID:https://hbb.rivio.dev/senioren/2025/wedstrijd/36419
DTSTAMP:20260419T150606Z
SUMMARY:Con Brio 2 - VBSC 1
DESCRIPTION:Baan 2\, Wedstrijdnummer 3005\, Afdeling 2e klasse I
DTSTART:20251203T200000
DTEND:20251203T230000
LOCATION:City Resort Helmond
ATTACH;FMTTYPE=text/plain:https://hbb.rivio.dev/senioren/2025/wedstrijd/364
 19
END:VEVENT
BEGIN:VEVENT
UID:https://hbb.rivio.dev/senioren/2025/wedstrijd/36478
DTSTAMP:20260419T150606Z
SUMMARY:Mierlo 5 - VBSC 1
DESCRIPTION:Baan 2\, Wedstrijdnummer 1093\, Afdeling 2e klasse II
DTSTART:20260114T200000
DTEND:20260114T230000
LOCATION:City Resort Helmond
ATTACH;FMTTYPE=text/plain:https://hbb.rivio.dev/senioren/2025/wedstrijd/364
 78
END:VEVENT
BEGIN:VEVENT
UID:https://hbb.rivio.dev/senioren/2025/wedstrijd/36509
DTSTAMP:20260419T150606Z
SUMMARY:De Valken 4 - VBSC 1
DESCRIPTION:Baan 5\, Wedstrijdnummer 1097\, Afdeling 2e klasse II
DTSTART:20260122T200000
DTEND:20260122T230000
LOCATION:City Resort Helmond
ATTACH;FMTTYPE=text/plain:https://hbb.rivio.dev/senioren/2025/wedstrijd/365
 09
END:VEVENT
BEGIN:VEVENT
UID:https://hbb.rivio.dev/senioren/2025/wedstrijd/36531
DTSTAMP:20260419T150606Z
SUMMARY:Mixed 3 - VBSC 1
DESCRIPTION:Baan 14\, Wedstrijdnummer 1101\, Afdeling 2e klasse II
DTSTART:20260204T200000
DTEND:20260204T230000
LOCATION:City Resort Helmond
ATTACH;FMTTYPE=text/plain:https://hbb.rivio.dev/senioren/2025/wedstrijd/365
 31
END:VEVENT
BEGIN:VEVENT
UID:https://hbb.rivio.dev/senioren/2025/wedstrijd/36587
DTSTAMP:20260419T150606Z
SUMMARY:VBSC 1 - Con Brio 3
DESCRIPTION:Baan 11\, Wedstrijdnummer 1107\, Afdeling 2e klasse II
DTSTART:20260304T200000
DTEND:20260304T230000
LOCATION:City Resort Helmond
ATTACH;FMTTYPE=text/plain:https://hbb.rivio.dev/senioren/2025/wedstrijd/365
 87
END:VEVENT
BEGIN:VEVENT
UID:https://hbb.rivio.dev/senioren/2025/wedstrijd/36620
DTSTAMP:20260419T150606Z
SUMMARY:VBSC 1 - Someren 2
DESCRIPTION:Baan 1\, Wedstrijdnummer 1109\, Afdeling 2e klasse II
DTSTART:20260325T200000
DTEND:20260325T230000
LOCATION:City Resort Helmond
ATTACH;FMTTYPE=text/plain:https://hbb.rivio.dev/senioren/2025/wedstrijd/366
 20
END:VEVENT
BEGIN:VEVENT
UID:https://hbb.rivio.dev/senioren/2025/wedstrijd/36645
DTSTAMP:20260419T150606Z
SUMMARY:VBSC 1 - Bakel 3
DESCRIPTION:Baan 12\, Wedstrijdnummer 1111\, Afdeling 2e klasse II
DTSTART:20260401T200000
DTEND:20260401T230000
LOCATION:City Resort Helmond
ATTACH;FMTTYPE=text/plain:https://hbb.rivio.dev/senioren/2025/wedstrijd/366
 45
END:VEVENT
BEGIN:VTIMEZONE
TZID:Europe/Amsterdam
BEGIN:STANDARD
DTSTART:20250101T000000
TZNAME:CET
TZOFFSETTO:+0100
TZOFFSETFROM:+0100
END:STANDARD
BEGIN:DAYLIGHT
DTSTART:20250330T030000
TZNAME:CEST
TZOFFSETTO:+0200
TZOFFSETFROM:+0100
END:DAYLIGHT
BEGIN:STANDARD
DTSTART:20251026T020000
TZNAME:CET
TZOFFSETTO:+0100
TZOFFSETFROM:+0200
END:STANDARD
BEGIN:DAYLIGHT
DTSTART:20260329T030000
TZNAME:CEST
TZOFFSETTO:+0200
TZOFFSETFROM:+0100
END:DAYLIGHT
BEGIN:STANDARD
DTSTART:20261025T020000
TZNAME:CET
TZOFFSETTO:+0100
TZOFFSETFROM:+0200
END:STANDARD
END:VTIMEZONE
END:VCALENDAR
