BEGIN:VCALENDAR
PRODID:-//eluceo/ical//2.0/EN
VERSION:2.0
CALSCALE:GREGORIAN
BEGIN:VEVENT
UID:https://hbb.rivio.dev/senioren/2025/wedstrijd/36277
DTSTAMP:20260420T153448Z
SUMMARY:Someren 2 - De Valken 4
DESCRIPTION:Baan 15\, Wedstrijdnummer 95\, Afdeling 2e klasse II
DTSTART:20250925T200000
DTEND:20250925T230000
LOCATION:City Resort Helmond
ATTACH;FMTTYPE=text/plain:https://hbb.rivio.dev/senioren/2025/wedstrijd/362
 77
END:VEVENT
BEGIN:VEVENT
UID:https://hbb.rivio.dev/senioren/2025/wedstrijd/36297
DTSTAMP:20260420T153448Z
SUMMARY:Mixed 3 - Someren 2
DESCRIPTION:Baan 15\, Wedstrijdnummer 98\, Afdeling 2e klasse II
DTSTART:20251002T200000
DTEND:20251002T230000
LOCATION:City Resort Helmond
ATTACH;FMTTYPE=text/plain:https://hbb.rivio.dev/senioren/2025/wedstrijd/362
 97
END:VEVENT
BEGIN:VEVENT
UID:https://hbb.rivio.dev/senioren/2025/wedstrijd/36357
DTSTAMP:20260420T153448Z
SUMMARY:Con Brio 3 - Someren 2
DESCRIPTION:Baan 15\, Wedstrijdnummer 103\, Afdeling 2e klasse II
DTSTART:20251030T200000
DTEND:20251030T230000
LOCATION:City Resort Helmond
ATTACH;FMTTYPE=text/plain:https://hbb.rivio.dev/senioren/2025/wedstrijd/363
 57
END:VEVENT
BEGIN:VEVENT
UID:https://hbb.rivio.dev/senioren/2025/wedstrijd/36380
DTSTAMP:20260420T153448Z
SUMMARY:Bakel 3 - Someren 2
DESCRIPTION:Baan 3\, Wedstrijdnummer 105\, Afdeling 2e klasse II
DTSTART:20251113T200000
DTEND:20251113T230000
LOCATION:City Resort Helmond
ATTACH;FMTTYPE=text/plain:https://hbb.rivio.dev/senioren/2025/wedstrijd/363
 80
END:VEVENT
BEGIN:VEVENT
UID:https://hbb.rivio.dev/senioren/2025/wedstrijd/36397
DTSTAMP:20260420T153448Z
SUMMARY:Someren 2 - VBSC 1
DESCRIPTION:Baan 15\, Wedstrijdnummer 109\, Afdeling 2e klasse II
DTSTART:20251120T200000
DTEND:20251120T230000
LOCATION:City Resort Helmond
ATTACH;FMTTYPE=text/plain:https://hbb.rivio.dev/senioren/2025/wedstrijd/363
 97
END:VEVENT
BEGIN:VEVENT
UID:https://hbb.rivio.dev/senioren/2025/wedstrijd/36453
DTSTAMP:20260420T153448Z
SUMMARY:Someren 2 - Mierlo 5
DESCRIPTION:Baan 12\, Wedstrijdnummer 112\, Afdeling 2e klasse II
DTSTART:20251211T200000
DTEND:20251211T230000
LOCATION:City Resort Helmond
ATTACH;FMTTYPE=text/plain:https://hbb.rivio.dev/senioren/2025/wedstrijd/364
 53
END:VEVENT
BEGIN:VEVENT
UID:https://hbb.rivio.dev/senioren/2025/wedstrijd/36475
DTSTAMP:20260420T153448Z
SUMMARY:De Valken 4 - Someren 2
DESCRIPTION:Baan 14\, Wedstrijdnummer 1095\, Afdeling 2e klasse II
DTSTART:20260108T200000
DTEND:20260108T230000
LOCATION:City Resort Helmond
ATTACH;FMTTYPE=text/plain:https://hbb.rivio.dev/senioren/2025/wedstrijd/364
 75
END:VEVENT
BEGIN:VEVENT
UID:https://hbb.rivio.dev/senioren/2025/wedstrijd/36510
DTSTAMP:20260420T153448Z
SUMMARY:Someren 2 - Mixed 3
DESCRIPTION:Baan 11\, Wedstrijdnummer 1098\, Afdeling 2e klasse II
DTSTART:20260122T200000
DTEND:20260122T230000
LOCATION:City Resort Helmond
ATTACH;FMTTYPE=text/plain:https://hbb.rivio.dev/senioren/2025/wedstrijd/365
 10
END:VEVENT
BEGIN:VEVENT
UID:https://hbb.rivio.dev/senioren/2025/wedstrijd/36576
DTSTAMP:20260420T153448Z
SUMMARY:Someren 2 - Con Brio 3
DESCRIPTION:Baan 5\, Wedstrijdnummer 1103\, Afdeling 2e klasse II
DTSTART:20260226T200000
DTEND:20260226T230000
LOCATION:City Resort Helmond
ATTACH;FMTTYPE=text/plain:https://hbb.rivio.dev/senioren/2025/wedstrijd/365
 76
END:VEVENT
BEGIN:VEVENT
UID:https://hbb.rivio.dev/senioren/2025/wedstrijd/36596
DTSTAMP:20260420T153448Z
SUMMARY:Someren 2 - Bakel 3
DESCRIPTION:Baan 5\, Wedstrijdnummer 1105\, Afdeling 2e klasse II
DTSTART:20260305T200000
DTEND:20260305T230000
LOCATION:City Resort Helmond
ATTACH;FMTTYPE=text/plain:https://hbb.rivio.dev/senioren/2025/wedstrijd/365
 96
END:VEVENT
BEGIN:VEVENT
UID:https://hbb.rivio.dev/senioren/2025/wedstrijd/36620
DTSTAMP:20260420T153448Z
SUMMARY:VBSC 1 - Someren 2
DESCRIPTION:Baan 1\, Wedstrijdnummer 1109\, Afdeling 2e klasse II
DTSTART:20260325T200000
DTEND:20260325T230000
LOCATION:City Resort Helmond
ATTACH;FMTTYPE=text/plain:https://hbb.rivio.dev/senioren/2025/wedstrijd/366
 20
END:VEVENT
BEGIN:VEVENT
UID:https://hbb.rivio.dev/senioren/2025/wedstrijd/36652
DTSTAMP:20260420T153448Z
SUMMARY:Mierlo 5 - Someren 2
DESCRIPTION:Baan 5\, Wedstrijdnummer 1112\, Afdeling 2e klasse II
DTSTART:20260402T200000
DTEND:20260402T230000
LOCATION:City Resort Helmond
ATTACH;FMTTYPE=text/plain:https://hbb.rivio.dev/senioren/2025/wedstrijd/366
 52
END:VEVENT
BEGIN:VTIMEZONE
TZID:Europe/Amsterdam
BEGIN:STANDARD
DTSTART:20250101T000000
TZNAME:CET
TZOFFSETTO:+0100
TZOFFSETFROM:+0100
END:STANDARD
BEGIN:DAYLIGHT
DTSTART:20250330T030000
TZNAME:CEST
TZOFFSETTO:+0200
TZOFFSETFROM:+0100
END:DAYLIGHT
BEGIN:STANDARD
DTSTART:20251026T020000
TZNAME:CET
TZOFFSETTO:+0100
TZOFFSETFROM:+0200
END:STANDARD
BEGIN:DAYLIGHT
DTSTART:20260329T030000
TZNAME:CEST
TZOFFSETTO:+0200
TZOFFSETFROM:+0100
END:DAYLIGHT
BEGIN:STANDARD
DTSTART:20261025T020000
TZNAME:CET
TZOFFSETTO:+0100
TZOFFSETFROM:+0200
END:STANDARD
END:VTIMEZONE
END:VCALENDAR
