BEGIN:VCALENDAR
PRODID:-//eluceo/ical//2.0/EN
VERSION:2.0
CALSCALE:GREGORIAN
BEGIN:VEVENT
UID:https://hbb.rivio.dev/senioren/2025/wedstrijd/36271
DTSTAMP:20260419T132416Z
SUMMARY:Bakel 2 - Venray 1
DESCRIPTION:Baan 4\, Wedstrijdnummer 29\, Afdeling Hoofdklasse 
DTSTART:20250925T200000
DTEND:20250925T230000
LOCATION:City Resort Helmond
ATTACH;FMTTYPE=text/plain:https://hbb.rivio.dev/senioren/2025/wedstrijd/362
 71
END:VEVENT
BEGIN:VEVENT
UID:https://hbb.rivio.dev/senioren/2025/wedstrijd/36284
DTSTAMP:20260419T132416Z
SUMMARY:Venray 1 - RBC 1
DESCRIPTION:Baan 12\, Wedstrijdnummer 34\, Afdeling Hoofdklasse 
DTSTART:20251001T200000
DTEND:20251001T230000
LOCATION:City Resort Helmond
ATTACH;FMTTYPE=text/plain:https://hbb.rivio.dev/senioren/2025/wedstrijd/362
 84
END:VEVENT
BEGIN:VEVENT
UID:https://hbb.rivio.dev/senioren/2025/wedstrijd/36319
DTSTAMP:20260419T132416Z
SUMMARY:Venray 1 - Mierlo 2
DESCRIPTION:Baan 2\, Wedstrijdnummer 39\, Afdeling Hoofdklasse 
DTSTART:20251022T200000
DTEND:20251022T230000
LOCATION:City Resort Helmond
ATTACH;FMTTYPE=text/plain:https://hbb.rivio.dev/senioren/2025/wedstrijd/363
 19
END:VEVENT
BEGIN:VEVENT
UID:https://hbb.rivio.dev/senioren/2025/wedstrijd/36341
DTSTAMP:20260419T132416Z
SUMMARY:Venray 1 - De Valken 2
DESCRIPTION:Baan 4\, Wedstrijdnummer 44\, Afdeling Hoofdklasse 
DTSTART:20251029T200000
DTEND:20251029T230000
LOCATION:City Resort Helmond
ATTACH;FMTTYPE=text/plain:https://hbb.rivio.dev/senioren/2025/wedstrijd/363
 41
END:VEVENT
BEGIN:VEVENT
UID:https://hbb.rivio.dev/senioren/2025/wedstrijd/36378
DTSTAMP:20260419T132416Z
SUMMARY:Someren 1 - Venray 1
DESCRIPTION:Baan 1\, Wedstrijdnummer 48\, Afdeling Hoofdklasse 
DTSTART:20251113T200000
DTEND:20251113T230000
LOCATION:City Resort Helmond
ATTACH;FMTTYPE=text/plain:https://hbb.rivio.dev/senioren/2025/wedstrijd/363
 78
END:VEVENT
BEGIN:VEVENT
UID:https://hbb.rivio.dev/senioren/2025/wedstrijd/36400
DTSTAMP:20260419T132416Z
SUMMARY:Mixed 2 - Venray 1
DESCRIPTION:Baan 3\, Wedstrijdnummer 51\, Afdeling Hoofdklasse 
DTSTART:20251126T200000
DTEND:20251126T230000
LOCATION:City Resort Helmond
ATTACH;FMTTYPE=text/plain:https://hbb.rivio.dev/senioren/2025/wedstrijd/364
 00
END:VEVENT
BEGIN:VEVENT
UID:https://hbb.rivio.dev/senioren/2025/wedstrijd/36446
DTSTAMP:20260419T132416Z
SUMMARY:Ganzeveer 1 - Venray 1
DESCRIPTION:Baan 15\, Wedstrijdnummer 54\, Afdeling Hoofdklasse 
DTSTART:20251210T200000
DTEND:20251210T230000
LOCATION:City Resort Helmond
ATTACH;FMTTYPE=text/plain:https://hbb.rivio.dev/senioren/2025/wedstrijd/364
 46
END:VEVENT
BEGIN:VEVENT
UID:https://hbb.rivio.dev/senioren/2025/wedstrijd/36458
DTSTAMP:20260419T132416Z
SUMMARY:Venray 1 - Bakel 2
DESCRIPTION:Baan 2\, Wedstrijdnummer 1029\, Afdeling Hoofdklasse 
DTSTART:20260107T200000
DTEND:20260107T230000
LOCATION:City Resort Helmond
ATTACH;FMTTYPE=text/plain:https://hbb.rivio.dev/senioren/2025/wedstrijd/364
 58
END:VEVENT
BEGIN:VEVENT
UID:https://hbb.rivio.dev/senioren/2025/wedstrijd/36496
DTSTAMP:20260419T132416Z
SUMMARY:RBC 1 - Venray 1
DESCRIPTION:Baan 15\, Wedstrijdnummer 1034\, Afdeling Hoofdklasse 
DTSTART:20260115T200000
DTEND:20260115T230000
LOCATION:City Resort Helmond
ATTACH;FMTTYPE=text/plain:https://hbb.rivio.dev/senioren/2025/wedstrijd/364
 96
END:VEVENT
BEGIN:VEVENT
UID:https://hbb.rivio.dev/senioren/2025/wedstrijd/36521
DTSTAMP:20260419T132416Z
SUMMARY:Bakel 2 - Venray 1
DESCRIPTION:Baan 12\, Wedstrijdnummer 3025\, Afdeling Hoofdklasse 
DTSTART:20260129T200000
DTEND:20260129T230000
LOCATION:City Resort Helmond
ATTACH;FMTTYPE=text/plain:https://hbb.rivio.dev/senioren/2025/wedstrijd/365
 21
END:VEVENT
BEGIN:VEVENT
UID:https://hbb.rivio.dev/senioren/2025/wedstrijd/36526
DTSTAMP:20260419T132416Z
SUMMARY:Mierlo 2 - Venray 1
DESCRIPTION:Baan 4\, Wedstrijdnummer 1039\, Afdeling Hoofdklasse 
DTSTART:20260204T200000
DTEND:20260204T230000
LOCATION:City Resort Helmond
ATTACH;FMTTYPE=text/plain:https://hbb.rivio.dev/senioren/2025/wedstrijd/365
 26
END:VEVENT
BEGIN:VEVENT
UID:https://hbb.rivio.dev/senioren/2025/wedstrijd/36561
DTSTAMP:20260419T132416Z
SUMMARY:De Valken 2 - Venray 1
DESCRIPTION:Baan 15\, Wedstrijdnummer 1044\, Afdeling Hoofdklasse 
DTSTART:20260212T200000
DTEND:20260212T230000
LOCATION:City Resort Helmond
ATTACH;FMTTYPE=text/plain:https://hbb.rivio.dev/senioren/2025/wedstrijd/365
 61
END:VEVENT
BEGIN:VEVENT
UID:https://hbb.rivio.dev/senioren/2025/wedstrijd/36582
DTSTAMP:20260419T132416Z
SUMMARY:Venray 1 - Someren 1
DESCRIPTION:Baan 1\, Wedstrijdnummer 1048\, Afdeling Hoofdklasse 
DTSTART:20260304T200000
DTEND:20260304T230000
LOCATION:City Resort Helmond
ATTACH;FMTTYPE=text/plain:https://hbb.rivio.dev/senioren/2025/wedstrijd/365
 82
END:VEVENT
BEGIN:VEVENT
UID:https://hbb.rivio.dev/senioren/2025/wedstrijd/36605
DTSTAMP:20260419T132416Z
SUMMARY:Venray 1 - Mixed 2
DESCRIPTION:Baan 11\, Wedstrijdnummer 1051\, Afdeling Hoofdklasse 
DTSTART:20260318T200000
DTEND:20260318T230000
LOCATION:City Resort Helmond
ATTACH;FMTTYPE=text/plain:https://hbb.rivio.dev/senioren/2025/wedstrijd/366
 05
END:VEVENT
BEGIN:VEVENT
UID:https://hbb.rivio.dev/senioren/2025/wedstrijd/36639
DTSTAMP:20260419T132416Z
SUMMARY:Venray 1 - Ganzeveer 1
DESCRIPTION:Baan 1\, Wedstrijdnummer 1054\, Afdeling Hoofdklasse 
DTSTART:20260401T200000
DTEND:20260401T230000
LOCATION:City Resort Helmond
ATTACH;FMTTYPE=text/plain:https://hbb.rivio.dev/senioren/2025/wedstrijd/366
 39
END:VEVENT
BEGIN:VTIMEZONE
TZID:Europe/Amsterdam
BEGIN:STANDARD
DTSTART:20250101T000000
TZNAME:CET
TZOFFSETTO:+0100
TZOFFSETFROM:+0100
END:STANDARD
BEGIN:DAYLIGHT
DTSTART:20250330T030000
TZNAME:CEST
TZOFFSETTO:+0200
TZOFFSETFROM:+0100
END:DAYLIGHT
BEGIN:STANDARD
DTSTART:20251026T020000
TZNAME:CET
TZOFFSETTO:+0100
TZOFFSETFROM:+0200
END:STANDARD
BEGIN:DAYLIGHT
DTSTART:20260329T030000
TZNAME:CEST
TZOFFSETTO:+0200
TZOFFSETFROM:+0100
END:DAYLIGHT
BEGIN:STANDARD
DTSTART:20261025T020000
TZNAME:CET
TZOFFSETTO:+0100
TZOFFSETFROM:+0200
END:STANDARD
END:VTIMEZONE
END:VCALENDAR
