BEGIN:VCALENDAR
PRODID:-//eluceo/ical//2.0/EN
VERSION:2.0
CALSCALE:GREGORIAN
BEGIN:VEVENT
UID:https://hbb.rivio.dev/jeugd/2025/wedstrijd/36695
DTSTAMP:20260420T171903Z
SUMMARY:Mierlo 6 - Veldhoven 6
DESCRIPTION:Baan 5\, Wedstrijdnummer 135\, Afdeling P-klasse 
DTSTART:20250928T123000
DTEND:20250928T230000
LOCATION:City Resort Helmond
ATTACH;FMTTYPE=text/plain:https://hbb.rivio.dev/jeugd/2025/wedstrijd/36695
END:VEVENT
BEGIN:VEVENT
UID:https://hbb.rivio.dev/jeugd/2025/wedstrijd/36717
DTSTAMP:20260420T171904Z
SUMMARY:Veldhoven 6 - Mixed 10
DESCRIPTION:Baan 10\, Wedstrijdnummer 136\, Afdeling P-klasse 
DTSTART:20251102T093000
DTEND:20251102T111500
LOCATION:City Resort Helmond
ATTACH;FMTTYPE=text/plain:https://hbb.rivio.dev/jeugd/2025/wedstrijd/36717
END:VEVENT
BEGIN:VEVENT
UID:https://hbb.rivio.dev/jeugd/2025/wedstrijd/36738
DTSTAMP:20260420T171904Z
SUMMARY:Veldhoven 6 - Phoenix 5
DESCRIPTION:Baan 11\, Wedstrijdnummer 139\, Afdeling P-klasse 
DTSTART:20251109T093000
DTEND:20251109T111500
LOCATION:City Resort Helmond
ATTACH;FMTTYPE=text/plain:https://hbb.rivio.dev/jeugd/2025/wedstrijd/36738
END:VEVENT
BEGIN:VEVENT
UID:https://hbb.rivio.dev/jeugd/2025/wedstrijd/36800
DTSTAMP:20260420T171904Z
SUMMARY:Mixed 11 - Veldhoven 6
DESCRIPTION:Baan 10\, Wedstrijdnummer 142\, Afdeling P-klasse 
DTSTART:20251207T093000
DTEND:20251207T111500
LOCATION:City Resort Helmond
ATTACH;FMTTYPE=text/plain:https://hbb.rivio.dev/jeugd/2025/wedstrijd/36800
END:VEVENT
BEGIN:VEVENT
UID:https://hbb.rivio.dev/jeugd/2025/wedstrijd/36825
DTSTAMP:20260420T171904Z
SUMMARY:Veldhoven 6 - Mierlo 6
DESCRIPTION:Baan 15\, Wedstrijdnummer 1135\, Afdeling P-klasse 
DTSTART:20260111T093000
DTEND:20260111T111500
LOCATION:City Resort Helmond
ATTACH;FMTTYPE=text/plain:https://hbb.rivio.dev/jeugd/2025/wedstrijd/36825
END:VEVENT
BEGIN:VEVENT
UID:https://hbb.rivio.dev/jeugd/2025/wedstrijd/36869
DTSTAMP:20260420T171904Z
SUMMARY:Mixed 10 - Veldhoven 6
DESCRIPTION:Baan 15\, Wedstrijdnummer 1136\, Afdeling P-klasse 
DTSTART:20260208T093000
DTEND:20260208T111500
LOCATION:City Resort Helmond
ATTACH;FMTTYPE=text/plain:https://hbb.rivio.dev/jeugd/2025/wedstrijd/36869
END:VEVENT
BEGIN:VEVENT
UID:https://hbb.rivio.dev/jeugd/2025/wedstrijd/36891
DTSTAMP:20260420T171904Z
SUMMARY:Phoenix 5 - Veldhoven 6
DESCRIPTION:Baan 15\, Wedstrijdnummer 1139\, Afdeling P-klasse 
DTSTART:20260322T093000
DTEND:20260322T111500
LOCATION:City Resort Helmond
ATTACH;FMTTYPE=text/plain:https://hbb.rivio.dev/jeugd/2025/wedstrijd/36891
END:VEVENT
BEGIN:VEVENT
UID:https://hbb.rivio.dev/jeugd/2025/wedstrijd/36928
DTSTAMP:20260420T171904Z
SUMMARY:Veldhoven 6 - Mixed 11
DESCRIPTION:Baan 10\, Wedstrijdnummer 1142\, Afdeling P-klasse 
DTSTART:20260412T093000
DTEND:20260412T111500
LOCATION:City Resort Helmond
ATTACH;FMTTYPE=text/plain:https://hbb.rivio.dev/jeugd/2025/wedstrijd/36928
END:VEVENT
BEGIN:VTIMEZONE
TZID:Europe/Amsterdam
BEGIN:STANDARD
DTSTART:20250101T000000
TZNAME:CET
TZOFFSETTO:+0100
TZOFFSETFROM:+0100
END:STANDARD
BEGIN:DAYLIGHT
DTSTART:20250330T030000
TZNAME:CEST
TZOFFSETTO:+0200
TZOFFSETFROM:+0100
END:DAYLIGHT
BEGIN:STANDARD
DTSTART:20251026T020000
TZNAME:CET
TZOFFSETTO:+0100
TZOFFSETFROM:+0200
END:STANDARD
BEGIN:DAYLIGHT
DTSTART:20260329T030000
TZNAME:CEST
TZOFFSETTO:+0200
TZOFFSETFROM:+0100
END:DAYLIGHT
BEGIN:STANDARD
DTSTART:20261025T020000
TZNAME:CET
TZOFFSETTO:+0100
TZOFFSETFROM:+0200
END:STANDARD
END:VTIMEZONE
END:VCALENDAR
