BEGIN:VCALENDAR
PRODID:-//eluceo/ical//2.0/EN
VERSION:2.0
CALSCALE:GREGORIAN
BEGIN:VEVENT
UID:https://hbb.rivio.dev/jeugd/2025/wedstrijd/36676
DTSTAMP:20260420T150721Z
SUMMARY:Ganzeveer 2 - Veldhoven 5
DESCRIPTION:Baan 12\, Wedstrijdnummer 109\, Afdeling H-klasse 
DTSTART:20250921T093000
DTEND:20250921T111500
LOCATION:City Resort Helmond
ATTACH;FMTTYPE=text/plain:https://hbb.rivio.dev/jeugd/2025/wedstrijd/36676
END:VEVENT
BEGIN:VEVENT
UID:https://hbb.rivio.dev/jeugd/2025/wedstrijd/36698
DTSTAMP:20260420T150721Z
SUMMARY:Nuenen 4 - Veldhoven 5
DESCRIPTION:Baan 13\, Wedstrijdnummer 111\, Afdeling H-klasse 
DTSTART:20250928T123000
DTEND:20250928T230000
LOCATION:City Resort Helmond
ATTACH;FMTTYPE=text/plain:https://hbb.rivio.dev/jeugd/2025/wedstrijd/36698
END:VEVENT
BEGIN:VEVENT
UID:https://hbb.rivio.dev/jeugd/2025/wedstrijd/36719
DTSTAMP:20260420T150721Z
SUMMARY:Mixed 8 - Veldhoven 5
DESCRIPTION:Baan 12\, Wedstrijdnummer 114\, Afdeling H-klasse 
DTSTART:20251102T093000
DTEND:20251102T111500
LOCATION:City Resort Helmond
ATTACH;FMTTYPE=text/plain:https://hbb.rivio.dev/jeugd/2025/wedstrijd/36719
END:VEVENT
BEGIN:VEVENT
UID:https://hbb.rivio.dev/jeugd/2025/wedstrijd/36740
DTSTAMP:20260420T150721Z
SUMMARY:Veldhoven 5 - De Valken 1
DESCRIPTION:Baan 13\, Wedstrijdnummer 119\, Afdeling H-klasse 
DTSTART:20251109T093000
DTEND:20251109T111500
LOCATION:City Resort Helmond
ATTACH;FMTTYPE=text/plain:https://hbb.rivio.dev/jeugd/2025/wedstrijd/36740
END:VEVENT
BEGIN:VEVENT
UID:https://hbb.rivio.dev/jeugd/2025/wedstrijd/36761
DTSTAMP:20260420T150721Z
SUMMARY:Veldhoven 5 - Mixed 9
DESCRIPTION:Baan 13\, Wedstrijdnummer 124\, Afdeling H-klasse 
DTSTART:20251116T093000
DTEND:20251116T111500
LOCATION:City Resort Helmond
ATTACH;FMTTYPE=text/plain:https://hbb.rivio.dev/jeugd/2025/wedstrijd/36761
END:VEVENT
BEGIN:VEVENT
UID:https://hbb.rivio.dev/jeugd/2025/wedstrijd/36779
DTSTAMP:20260420T150721Z
SUMMARY:Veldhoven 5 - Geldrop 2
DESCRIPTION:Baan 10\, Wedstrijdnummer 129\, Afdeling H-klasse 
DTSTART:20251123T093000
DTEND:20251123T111500
LOCATION:City Resort Helmond
ATTACH;FMTTYPE=text/plain:https://hbb.rivio.dev/jeugd/2025/wedstrijd/36779
END:VEVENT
BEGIN:VEVENT
UID:https://hbb.rivio.dev/jeugd/2025/wedstrijd/36804
DTSTAMP:20260420T150721Z
SUMMARY:Phoenix 4 - Veldhoven 5
DESCRIPTION:Baan 14\, Wedstrijdnummer 132\, Afdeling H-klasse 
DTSTART:20251207T093000
DTEND:20251207T111500
LOCATION:City Resort Helmond
ATTACH;FMTTYPE=text/plain:https://hbb.rivio.dev/jeugd/2025/wedstrijd/36804
END:VEVENT
BEGIN:VEVENT
UID:https://hbb.rivio.dev/jeugd/2025/wedstrijd/36823
DTSTAMP:20260420T150721Z
SUMMARY:Veldhoven 5 - Ganzeveer 2
DESCRIPTION:Baan 13\, Wedstrijdnummer 1109\, Afdeling H-klasse 
DTSTART:20260111T093000
DTEND:20260111T111500
LOCATION:City Resort Helmond
ATTACH;FMTTYPE=text/plain:https://hbb.rivio.dev/jeugd/2025/wedstrijd/36823
END:VEVENT
BEGIN:VEVENT
UID:https://hbb.rivio.dev/jeugd/2025/wedstrijd/36843
DTSTAMP:20260420T150721Z
SUMMARY:Veldhoven 5 - Nuenen 4
DESCRIPTION:Baan 11\, Wedstrijdnummer 1111\, Afdeling H-klasse 
DTSTART:20260125T093000
DTEND:20260125T111500
LOCATION:City Resort Helmond
ATTACH;FMTTYPE=text/plain:https://hbb.rivio.dev/jeugd/2025/wedstrijd/36843
END:VEVENT
BEGIN:VEVENT
UID:https://hbb.rivio.dev/jeugd/2025/wedstrijd/36856
DTSTAMP:20260420T150721Z
SUMMARY:Veldhoven 5 - Mixed 8
DESCRIPTION:Baan 13\, Wedstrijdnummer 1114\, Afdeling H-klasse 
DTSTART:20260201T093000
DTEND:20260201T111500
LOCATION:City Resort Helmond
ATTACH;FMTTYPE=text/plain:https://hbb.rivio.dev/jeugd/2025/wedstrijd/36856
END:VEVENT
BEGIN:VEVENT
UID:https://hbb.rivio.dev/jeugd/2025/wedstrijd/36878
DTSTAMP:20260420T150721Z
SUMMARY:De Valken 1 - Veldhoven 5
DESCRIPTION:Baan 13\, Wedstrijdnummer 1119\, Afdeling H-klasse 
DTSTART:20260308T093000
DTEND:20260308T111500
LOCATION:City Resort Helmond
ATTACH;FMTTYPE=text/plain:https://hbb.rivio.dev/jeugd/2025/wedstrijd/36878
END:VEVENT
BEGIN:VEVENT
UID:https://hbb.rivio.dev/jeugd/2025/wedstrijd/36900
DTSTAMP:20260420T150721Z
SUMMARY:Mixed 9 - Veldhoven 5
DESCRIPTION:Baan 14\, Wedstrijdnummer 1124\, Afdeling H-klasse 
DTSTART:20260322T123000
DTEND:20260322T230000
LOCATION:City Resort Helmond
ATTACH;FMTTYPE=text/plain:https://hbb.rivio.dev/jeugd/2025/wedstrijd/36900
END:VEVENT
BEGIN:VEVENT
UID:https://hbb.rivio.dev/jeugd/2025/wedstrijd/36922
DTSTAMP:20260420T150721Z
SUMMARY:Geldrop 2 - Veldhoven 5
DESCRIPTION:Baan 15\, Wedstrijdnummer 1129\, Afdeling H-klasse 
DTSTART:20260329T123000
DTEND:20260329T230000
LOCATION:City Resort Helmond
ATTACH;FMTTYPE=text/plain:https://hbb.rivio.dev/jeugd/2025/wedstrijd/36922
END:VEVENT
BEGIN:VEVENT
UID:https://hbb.rivio.dev/jeugd/2025/wedstrijd/36942
DTSTAMP:20260420T150721Z
SUMMARY:Veldhoven 5 - Phoenix 4
DESCRIPTION:Baan 14\, Wedstrijdnummer 1132\, Afdeling H-klasse 
DTSTART:20260412T123000
DTEND:20260412T230000
LOCATION:City Resort Helmond
ATTACH;FMTTYPE=text/plain:https://hbb.rivio.dev/jeugd/2025/wedstrijd/36942
END:VEVENT
BEGIN:VTIMEZONE
TZID:Europe/Amsterdam
BEGIN:STANDARD
DTSTART:20250101T000000
TZNAME:CET
TZOFFSETTO:+0100
TZOFFSETFROM:+0100
END:STANDARD
BEGIN:DAYLIGHT
DTSTART:20250330T030000
TZNAME:CEST
TZOFFSETTO:+0200
TZOFFSETFROM:+0100
END:DAYLIGHT
BEGIN:STANDARD
DTSTART:20251026T020000
TZNAME:CET
TZOFFSETTO:+0100
TZOFFSETFROM:+0200
END:STANDARD
BEGIN:DAYLIGHT
DTSTART:20260329T030000
TZNAME:CEST
TZOFFSETTO:+0200
TZOFFSETFROM:+0100
END:DAYLIGHT
BEGIN:STANDARD
DTSTART:20261025T020000
TZNAME:CET
TZOFFSETTO:+0100
TZOFFSETFROM:+0200
END:STANDARD
END:VTIMEZONE
END:VCALENDAR
