BEGIN:VCALENDAR
PRODID:-//eluceo/ical//2.0/EN
VERSION:2.0
CALSCALE:GREGORIAN
BEGIN:VEVENT
UID:https://hbb.rivio.dev/senioren/2025/wedstrijd/36265
DTSTAMP:20260419T164705Z
SUMMARY:Gemert 4 - Heiakker 1
DESCRIPTION:Baan 13\, Wedstrijdnummer 166\, Afdeling 4e klasse II
DTSTART:20250924T200000
DTEND:20250924T230000
LOCATION:City Resort Helmond
ATTACH;FMTTYPE=text/plain:https://hbb.rivio.dev/senioren/2025/wedstrijd/362
 65
END:VEVENT
BEGIN:VEVENT
UID:https://hbb.rivio.dev/senioren/2025/wedstrijd/36332
DTSTAMP:20260419T164705Z
SUMMARY:Someren 5 - Heiakker 1
DESCRIPTION:Baan 5\, Wedstrijdnummer 171\, Afdeling 4e klasse II
DTSTART:20251023T200000
DTEND:20251023T230000
LOCATION:City Resort Helmond
ATTACH;FMTTYPE=text/plain:https://hbb.rivio.dev/senioren/2025/wedstrijd/363
 32
END:VEVENT
BEGIN:VEVENT
UID:https://hbb.rivio.dev/senioren/2025/wedstrijd/36376
DTSTAMP:20260419T164705Z
SUMMARY:Heiakker 1 - Phoenix 3
DESCRIPTION:Baan 14\, Wedstrijdnummer 175\, Afdeling 4e klasse II
DTSTART:20251106T200000
DTEND:20251106T230000
LOCATION:City Resort Helmond
ATTACH;FMTTYPE=text/plain:https://hbb.rivio.dev/senioren/2025/wedstrijd/363
 76
END:VEVENT
BEGIN:VEVENT
UID:https://hbb.rivio.dev/senioren/2025/wedstrijd/36384
DTSTAMP:20260419T164705Z
SUMMARY:Heiakker 1 - De Valken 5
DESCRIPTION:Baan 12\, Wedstrijdnummer 179\, Afdeling 4e klasse II
DTSTART:20251113T200000
DTEND:20251113T230000
LOCATION:City Resort Helmond
ATTACH;FMTTYPE=text/plain:https://hbb.rivio.dev/senioren/2025/wedstrijd/363
 84
END:VEVENT
BEGIN:VEVENT
UID:https://hbb.rivio.dev/senioren/2025/wedstrijd/36409
DTSTAMP:20260419T164705Z
SUMMARY:Heiakker 1 - BC '85 1
DESCRIPTION:Baan 2\, Wedstrijdnummer 182\, Afdeling 4e klasse II
DTSTART:20251127T200000
DTEND:20251127T230000
LOCATION:City Resort Helmond
ATTACH;FMTTYPE=text/plain:https://hbb.rivio.dev/senioren/2025/wedstrijd/364
 09
END:VEVENT
BEGIN:VEVENT
UID:https://hbb.rivio.dev/senioren/2025/wedstrijd/36431
DTSTAMP:20260419T164705Z
SUMMARY:Never Down 1 - Heiakker 1
DESCRIPTION:Baan 5\, Wedstrijdnummer 3013\, Afdeling 4e klasse I
DTSTART:20251204T200000
DTEND:20251204T230000
LOCATION:City Resort Helmond
ATTACH;FMTTYPE=text/plain:https://hbb.rivio.dev/senioren/2025/wedstrijd/364
 31
END:VEVENT
BEGIN:VEVENT
UID:https://hbb.rivio.dev/senioren/2025/wedstrijd/36455
DTSTAMP:20260419T164705Z
SUMMARY:Bakel 5 - Heiakker 1
DESCRIPTION:Baan 14\, Wedstrijdnummer 185\, Afdeling 4e klasse II
DTSTART:20251211T200000
DTEND:20251211T230000
LOCATION:City Resort Helmond
ATTACH;FMTTYPE=text/plain:https://hbb.rivio.dev/senioren/2025/wedstrijd/364
 55
END:VEVENT
BEGIN:VEVENT
UID:https://hbb.rivio.dev/senioren/2025/wedstrijd/36476
DTSTAMP:20260419T164705Z
SUMMARY:Heiakker 1 - Gemert 4
DESCRIPTION:Baan 15\, Wedstrijdnummer 1166\, Afdeling 4e klasse II
DTSTART:20260108T200000
DTEND:20260108T230000
LOCATION:City Resort Helmond
ATTACH;FMTTYPE=text/plain:https://hbb.rivio.dev/senioren/2025/wedstrijd/364
 76
END:VEVENT
BEGIN:VEVENT
UID:https://hbb.rivio.dev/senioren/2025/wedstrijd/36554
DTSTAMP:20260419T164705Z
SUMMARY:Heiakker 1 - Someren 5
DESCRIPTION:Baan 3\, Wedstrijdnummer 1171\, Afdeling 4e klasse II
DTSTART:20260212T200000
DTEND:20260212T230000
LOCATION:City Resort Helmond
ATTACH;FMTTYPE=text/plain:https://hbb.rivio.dev/senioren/2025/wedstrijd/365
 54
END:VEVENT
BEGIN:VEVENT
UID:https://hbb.rivio.dev/senioren/2025/wedstrijd/36563
DTSTAMP:20260419T164705Z
SUMMARY:Phoenix 3 - Heiakker 1
DESCRIPTION:Baan 2\, Wedstrijdnummer 1175\, Afdeling 4e klasse II
DTSTART:20260225T200000
DTEND:20260225T230000
LOCATION:City Resort Helmond
ATTACH;FMTTYPE=text/plain:https://hbb.rivio.dev/senioren/2025/wedstrijd/365
 63
END:VEVENT
BEGIN:VEVENT
UID:https://hbb.rivio.dev/senioren/2025/wedstrijd/36598
DTSTAMP:20260419T164705Z
SUMMARY:De Valken 5 - Heiakker 1
DESCRIPTION:Baan 12\, Wedstrijdnummer 1179\, Afdeling 4e klasse II
DTSTART:20260305T200000
DTEND:20260305T230000
LOCATION:City Resort Helmond
ATTACH;FMTTYPE=text/plain:https://hbb.rivio.dev/senioren/2025/wedstrijd/365
 98
END:VEVENT
BEGIN:VEVENT
UID:https://hbb.rivio.dev/senioren/2025/wedstrijd/36631
DTSTAMP:20260419T164705Z
SUMMARY:BC '85 1 - Heiakker 1
DESCRIPTION:Baan 3\, Wedstrijdnummer 1182\, Afdeling 4e klasse II
DTSTART:20260326T200000
DTEND:20260326T230000
LOCATION:City Resort Helmond
ATTACH;FMTTYPE=text/plain:https://hbb.rivio.dev/senioren/2025/wedstrijd/366
 31
END:VEVENT
BEGIN:VEVENT
UID:https://hbb.rivio.dev/senioren/2025/wedstrijd/36656
DTSTAMP:20260419T164705Z
SUMMARY:Heiakker 1 - Bakel 5
DESCRIPTION:Baan 14\, Wedstrijdnummer 1185\, Afdeling 4e klasse II
DTSTART:20260402T200000
DTEND:20260402T230000
LOCATION:City Resort Helmond
ATTACH;FMTTYPE=text/plain:https://hbb.rivio.dev/senioren/2025/wedstrijd/366
 56
END:VEVENT
BEGIN:VTIMEZONE
TZID:Europe/Amsterdam
BEGIN:STANDARD
DTSTART:20250101T000000
TZNAME:CET
TZOFFSETTO:+0100
TZOFFSETFROM:+0100
END:STANDARD
BEGIN:DAYLIGHT
DTSTART:20250330T030000
TZNAME:CEST
TZOFFSETTO:+0200
TZOFFSETFROM:+0100
END:DAYLIGHT
BEGIN:STANDARD
DTSTART:20251026T020000
TZNAME:CET
TZOFFSETTO:+0100
TZOFFSETFROM:+0200
END:STANDARD
BEGIN:DAYLIGHT
DTSTART:20260329T030000
TZNAME:CEST
TZOFFSETTO:+0200
TZOFFSETFROM:+0100
END:DAYLIGHT
BEGIN:STANDARD
DTSTART:20261025T020000
TZNAME:CET
TZOFFSETTO:+0100
TZOFFSETFROM:+0200
END:STANDARD
END:VTIMEZONE
END:VCALENDAR
