BEGIN:VCALENDAR
PRODID:-//eluceo/ical//2.0/EN
VERSION:2.0
CALSCALE:GREGORIAN
BEGIN:VEVENT
UID:https://hbb.rivio.dev/senioren/2025/wedstrijd/36287
DTSTAMP:20260419T164706Z
SUMMARY:ASML 1 - Ganzeveer 2
DESCRIPTION:Baan 15\, Wedstrijdnummer 79\, Afdeling 2e klasse I
DTSTART:20251001T200000
DTEND:20251001T230000
LOCATION:City Resort Helmond
ATTACH;FMTTYPE=text/plain:https://hbb.rivio.dev/senioren/2025/wedstrijd/362
 87
END:VEVENT
BEGIN:VEVENT
UID:https://hbb.rivio.dev/senioren/2025/wedstrijd/36320
DTSTAMP:20260419T164706Z
SUMMARY:Ganzeveer 2 - Mixed 4
DESCRIPTION:Baan 3\, Wedstrijdnummer 81\, Afdeling 2e klasse I
DTSTART:20251022T200000
DTEND:20251022T230000
LOCATION:City Resort Helmond
ATTACH;FMTTYPE=text/plain:https://hbb.rivio.dev/senioren/2025/wedstrijd/363
 20
END:VEVENT
BEGIN:VEVENT
UID:https://hbb.rivio.dev/senioren/2025/wedstrijd/36346
DTSTAMP:20260419T164706Z
SUMMARY:Ganzeveer 2 - Mierlo 6
DESCRIPTION:Baan 14\, Wedstrijdnummer 85\, Afdeling 2e klasse I
DTSTART:20251029T200000
DTEND:20251029T230000
LOCATION:City Resort Helmond
ATTACH;FMTTYPE=text/plain:https://hbb.rivio.dev/senioren/2025/wedstrijd/363
 46
END:VEVENT
BEGIN:VEVENT
UID:https://hbb.rivio.dev/senioren/2025/wedstrijd/36405
DTSTAMP:20260419T164706Z
SUMMARY:Ganzeveer 2 - Geldrop 2
DESCRIPTION:Baan 13\, Wedstrijdnummer 89\, Afdeling 2e klasse I
DTSTART:20251126T200000
DTEND:20251126T230000
LOCATION:City Resort Helmond
ATTACH;FMTTYPE=text/plain:https://hbb.rivio.dev/senioren/2025/wedstrijd/364
 05
END:VEVENT
BEGIN:VEVENT
UID:https://hbb.rivio.dev/senioren/2025/wedstrijd/36418
DTSTAMP:20260419T164706Z
SUMMARY:Ganzeveer 2 - Mierlo 5
DESCRIPTION:Baan 1\, Wedstrijdnummer 3001\, Afdeling 2e klasse I
DTSTART:20251203T200000
DTEND:20251203T230000
LOCATION:City Resort Helmond
ATTACH;FMTTYPE=text/plain:https://hbb.rivio.dev/senioren/2025/wedstrijd/364
 18
END:VEVENT
BEGIN:VEVENT
UID:https://hbb.rivio.dev/senioren/2025/wedstrijd/36457
DTSTAMP:20260419T164706Z
SUMMARY:Con Brio 2 - Ganzeveer 2
DESCRIPTION:Baan 1\, Wedstrijdnummer 92\, Afdeling 2e klasse I
DTSTART:20260107T200000
DTEND:20260107T230000
LOCATION:City Resort Helmond
ATTACH;FMTTYPE=text/plain:https://hbb.rivio.dev/senioren/2025/wedstrijd/364
 57
END:VEVENT
BEGIN:VEVENT
UID:https://hbb.rivio.dev/senioren/2025/wedstrijd/36486
DTSTAMP:20260419T164706Z
SUMMARY:Ganzeveer 2 - ASML 1
DESCRIPTION:Baan 15\, Wedstrijdnummer 1079\, Afdeling 2e klasse I
DTSTART:20260114T200000
DTEND:20260114T230000
LOCATION:City Resort Helmond
ATTACH;FMTTYPE=text/plain:https://hbb.rivio.dev/senioren/2025/wedstrijd/364
 86
END:VEVENT
BEGIN:VEVENT
UID:https://hbb.rivio.dev/senioren/2025/wedstrijd/36528
DTSTAMP:20260419T164706Z
SUMMARY:Mixed 4 - Ganzeveer 2
DESCRIPTION:Baan 11\, Wedstrijdnummer 1081\, Afdeling 2e klasse I
DTSTART:20260204T200000
DTEND:20260204T230000
LOCATION:City Resort Helmond
ATTACH;FMTTYPE=text/plain:https://hbb.rivio.dev/senioren/2025/wedstrijd/365
 28
END:VEVENT
BEGIN:VEVENT
UID:https://hbb.rivio.dev/senioren/2025/wedstrijd/36584
DTSTAMP:20260419T164706Z
SUMMARY:Mierlo 6 - Ganzeveer 2
DESCRIPTION:Baan 3\, Wedstrijdnummer 1085\, Afdeling 2e klasse I
DTSTART:20260304T200000
DTEND:20260304T230000
LOCATION:City Resort Helmond
ATTACH;FMTTYPE=text/plain:https://hbb.rivio.dev/senioren/2025/wedstrijd/365
 84
END:VEVENT
BEGIN:VEVENT
UID:https://hbb.rivio.dev/senioren/2025/wedstrijd/36608
DTSTAMP:20260419T164706Z
SUMMARY:Geldrop 2 - Ganzeveer 2
DESCRIPTION:Baan 14\, Wedstrijdnummer 1089\, Afdeling 2e klasse I
DTSTART:20260318T200000
DTEND:20260318T230000
LOCATION:City Resort Helmond
ATTACH;FMTTYPE=text/plain:https://hbb.rivio.dev/senioren/2025/wedstrijd/366
 08
END:VEVENT
BEGIN:VEVENT
UID:https://hbb.rivio.dev/senioren/2025/wedstrijd/36641
DTSTAMP:20260419T164706Z
SUMMARY:Ganzeveer 2 - Con Brio 2
DESCRIPTION:Baan 3\, Wedstrijdnummer 1092\, Afdeling 2e klasse I
DTSTART:20260401T200000
DTEND:20260401T230000
LOCATION:City Resort Helmond
ATTACH;FMTTYPE=text/plain:https://hbb.rivio.dev/senioren/2025/wedstrijd/366
 41
END:VEVENT
BEGIN:VTIMEZONE
TZID:Europe/Amsterdam
BEGIN:STANDARD
DTSTART:20250101T000000
TZNAME:CET
TZOFFSETTO:+0100
TZOFFSETFROM:+0100
END:STANDARD
BEGIN:DAYLIGHT
DTSTART:20250330T030000
TZNAME:CEST
TZOFFSETTO:+0200
TZOFFSETFROM:+0100
END:DAYLIGHT
BEGIN:STANDARD
DTSTART:20251026T020000
TZNAME:CET
TZOFFSETTO:+0100
TZOFFSETFROM:+0200
END:STANDARD
BEGIN:DAYLIGHT
DTSTART:20260329T030000
TZNAME:CEST
TZOFFSETTO:+0200
TZOFFSETFROM:+0100
END:DAYLIGHT
BEGIN:STANDARD
DTSTART:20261025T020000
TZNAME:CET
TZOFFSETTO:+0100
TZOFFSETFROM:+0200
END:STANDARD
END:VTIMEZONE
END:VCALENDAR
