BEGIN:VCALENDAR
PRODID:-//eluceo/ical//2.0/EN
VERSION:2.0
CALSCALE:GREGORIAN
BEGIN:VEVENT
UID:https://hbb.rivio.dev/senioren/2025/wedstrijd/36261
DTSTAMP:20260419T164706Z
SUMMARY:Ganzeveer 1 - RBC 1
DESCRIPTION:Baan 4\, Wedstrijdnummer 31\, Afdeling Hoofdklasse 
DTSTART:20250924T200000
DTEND:20250924T230000
LOCATION:City Resort Helmond
ATTACH;FMTTYPE=text/plain:https://hbb.rivio.dev/senioren/2025/wedstrijd/362
 61
END:VEVENT
BEGIN:VEVENT
UID:https://hbb.rivio.dev/senioren/2025/wedstrijd/36285
DTSTAMP:20260419T164706Z
SUMMARY:Ganzeveer 1 - Mierlo 2
DESCRIPTION:Baan 13\, Wedstrijdnummer 36\, Afdeling Hoofdklasse 
DTSTART:20251001T200000
DTEND:20251001T230000
LOCATION:City Resort Helmond
ATTACH;FMTTYPE=text/plain:https://hbb.rivio.dev/senioren/2025/wedstrijd/362
 85
END:VEVENT
BEGIN:VEVENT
UID:https://hbb.rivio.dev/senioren/2025/wedstrijd/36328
DTSTAMP:20260419T164706Z
SUMMARY:De Valken 2 - Ganzeveer 1
DESCRIPTION:Baan 1\, Wedstrijdnummer 40\, Afdeling Hoofdklasse 
DTSTART:20251023T200000
DTEND:20251023T230000
LOCATION:City Resort Helmond
ATTACH;FMTTYPE=text/plain:https://hbb.rivio.dev/senioren/2025/wedstrijd/363
 28
END:VEVENT
BEGIN:VEVENT
UID:https://hbb.rivio.dev/senioren/2025/wedstrijd/36355
DTSTAMP:20260419T164706Z
SUMMARY:Someren 1 - Ganzeveer 1
DESCRIPTION:Baan 13\, Wedstrijdnummer 43\, Afdeling Hoofdklasse 
DTSTART:20251030T200000
DTEND:20251030T230000
LOCATION:City Resort Helmond
ATTACH;FMTTYPE=text/plain:https://hbb.rivio.dev/senioren/2025/wedstrijd/363
 55
END:VEVENT
BEGIN:VEVENT
UID:https://hbb.rivio.dev/senioren/2025/wedstrijd/36361
DTSTAMP:20260419T164706Z
SUMMARY:Mixed 2 - Ganzeveer 1
DESCRIPTION:Baan 4\, Wedstrijdnummer 46\, Afdeling Hoofdklasse 
DTSTART:20251105T200000
DTEND:20251105T230000
LOCATION:City Resort Helmond
ATTACH;FMTTYPE=text/plain:https://hbb.rivio.dev/senioren/2025/wedstrijd/363
 61
END:VEVENT
BEGIN:VEVENT
UID:https://hbb.rivio.dev/senioren/2025/wedstrijd/36399
DTSTAMP:20260419T164706Z
SUMMARY:Ganzeveer 1 - Bakel 2
DESCRIPTION:Baan 2\, Wedstrijdnummer 49\, Afdeling Hoofdklasse 
DTSTART:20251126T200000
DTEND:20251126T230000
LOCATION:City Resort Helmond
ATTACH;FMTTYPE=text/plain:https://hbb.rivio.dev/senioren/2025/wedstrijd/363
 99
END:VEVENT
BEGIN:VEVENT
UID:https://hbb.rivio.dev/senioren/2025/wedstrijd/36446
DTSTAMP:20260419T164706Z
SUMMARY:Ganzeveer 1 - Venray 1
DESCRIPTION:Baan 15\, Wedstrijdnummer 54\, Afdeling Hoofdklasse 
DTSTART:20251210T200000
DTEND:20251210T230000
LOCATION:City Resort Helmond
ATTACH;FMTTYPE=text/plain:https://hbb.rivio.dev/senioren/2025/wedstrijd/364
 46
END:VEVENT
BEGIN:VEVENT
UID:https://hbb.rivio.dev/senioren/2025/wedstrijd/36472
DTSTAMP:20260419T164706Z
SUMMARY:RBC 1 - Ganzeveer 1
DESCRIPTION:Baan 11\, Wedstrijdnummer 1031\, Afdeling Hoofdklasse 
DTSTART:20260108T200000
DTEND:20260108T230000
LOCATION:City Resort Helmond
ATTACH;FMTTYPE=text/plain:https://hbb.rivio.dev/senioren/2025/wedstrijd/364
 72
END:VEVENT
BEGIN:VEVENT
UID:https://hbb.rivio.dev/senioren/2025/wedstrijd/36484
DTSTAMP:20260419T164706Z
SUMMARY:Mierlo 2 - Ganzeveer 1
DESCRIPTION:Baan 13\, Wedstrijdnummer 1036\, Afdeling Hoofdklasse 
DTSTART:20260114T200000
DTEND:20260114T230000
LOCATION:City Resort Helmond
ATTACH;FMTTYPE=text/plain:https://hbb.rivio.dev/senioren/2025/wedstrijd/364
 84
END:VEVENT
BEGIN:VEVENT
UID:https://hbb.rivio.dev/senioren/2025/wedstrijd/36515
DTSTAMP:20260419T164706Z
SUMMARY:Ganzeveer 1 - Someren 1
DESCRIPTION:Baan 3\, Wedstrijdnummer 3027\, Afdeling Hoofdklasse 
DTSTART:20260128T200000
DTEND:20260128T230000
LOCATION:City Resort Helmond
ATTACH;FMTTYPE=text/plain:https://hbb.rivio.dev/senioren/2025/wedstrijd/365
 15
END:VEVENT
BEGIN:VEVENT
UID:https://hbb.rivio.dev/senioren/2025/wedstrijd/36527
DTSTAMP:20260419T164706Z
SUMMARY:Ganzeveer 1 - De Valken 2
DESCRIPTION:Baan 5\, Wedstrijdnummer 1040\, Afdeling Hoofdklasse 
DTSTART:20260204T200000
DTEND:20260204T230000
LOCATION:City Resort Helmond
ATTACH;FMTTYPE=text/plain:https://hbb.rivio.dev/senioren/2025/wedstrijd/365
 27
END:VEVENT
BEGIN:VEVENT
UID:https://hbb.rivio.dev/senioren/2025/wedstrijd/36550
DTSTAMP:20260419T164706Z
SUMMARY:Ganzeveer 1 - Someren 1
DESCRIPTION:Baan 13\, Wedstrijdnummer 1043\, Afdeling Hoofdklasse 
DTSTART:20260211T200000
DTEND:20260211T230000
LOCATION:City Resort Helmond
ATTACH;FMTTYPE=text/plain:https://hbb.rivio.dev/senioren/2025/wedstrijd/365
 50
END:VEVENT
BEGIN:VEVENT
UID:https://hbb.rivio.dev/senioren/2025/wedstrijd/36571
DTSTAMP:20260419T164706Z
SUMMARY:Ganzeveer 1 - Mixed 2
DESCRIPTION:Baan 15\, Wedstrijdnummer 1046\, Afdeling Hoofdklasse 
DTSTART:20260225T200000
DTEND:20260225T230000
LOCATION:City Resort Helmond
ATTACH;FMTTYPE=text/plain:https://hbb.rivio.dev/senioren/2025/wedstrijd/365
 71
END:VEVENT
BEGIN:VEVENT
UID:https://hbb.rivio.dev/senioren/2025/wedstrijd/36615
DTSTAMP:20260419T164706Z
SUMMARY:Bakel 2 - Ganzeveer 1
DESCRIPTION:Baan 11\, Wedstrijdnummer 1049\, Afdeling Hoofdklasse 
DTSTART:20260319T200000
DTEND:20260319T230000
LOCATION:City Resort Helmond
ATTACH;FMTTYPE=text/plain:https://hbb.rivio.dev/senioren/2025/wedstrijd/366
 15
END:VEVENT
BEGIN:VEVENT
UID:https://hbb.rivio.dev/senioren/2025/wedstrijd/36639
DTSTAMP:20260419T164706Z
SUMMARY:Venray 1 - Ganzeveer 1
DESCRIPTION:Baan 1\, Wedstrijdnummer 1054\, Afdeling Hoofdklasse 
DTSTART:20260401T200000
DTEND:20260401T230000
LOCATION:City Resort Helmond
ATTACH;FMTTYPE=text/plain:https://hbb.rivio.dev/senioren/2025/wedstrijd/366
 39
END:VEVENT
BEGIN:VTIMEZONE
TZID:Europe/Amsterdam
BEGIN:STANDARD
DTSTART:20250101T000000
TZNAME:CET
TZOFFSETTO:+0100
TZOFFSETFROM:+0100
END:STANDARD
BEGIN:DAYLIGHT
DTSTART:20250330T030000
TZNAME:CEST
TZOFFSETTO:+0200
TZOFFSETFROM:+0100
END:DAYLIGHT
BEGIN:STANDARD
DTSTART:20251026T020000
TZNAME:CET
TZOFFSETTO:+0100
TZOFFSETFROM:+0200
END:STANDARD
BEGIN:DAYLIGHT
DTSTART:20260329T030000
TZNAME:CEST
TZOFFSETTO:+0200
TZOFFSETFROM:+0100
END:DAYLIGHT
BEGIN:STANDARD
DTSTART:20261025T020000
TZNAME:CET
TZOFFSETTO:+0100
TZOFFSETFROM:+0200
END:STANDARD
END:VTIMEZONE
END:VCALENDAR
