BEGIN:VCALENDAR
PRODID:-//eluceo/ical//2.0/EN
VERSION:2.0
CALSCALE:GREGORIAN
BEGIN:VEVENT
UID:https://hbb.rivio.dev/jeugd/2025/wedstrijd/36667
DTSTAMP:20260420T203301Z
SUMMARY:Veldhoven 3 - Veldhoven 2
DESCRIPTION:Baan 14\, Wedstrijdnummer 44\, Afdeling E-klasse 
DTSTART:20250914T093000
DTEND:20250914T111500
LOCATION:City Resort Helmond
ATTACH;FMTTYPE=text/plain:https://hbb.rivio.dev/jeugd/2025/wedstrijd/36667
END:VEVENT
BEGIN:VEVENT
UID:https://hbb.rivio.dev/jeugd/2025/wedstrijd/36704
DTSTAMP:20260420T203301Z
SUMMARY:Mixed 4 - Veldhoven 3
DESCRIPTION:Baan 4\, Wedstrijdnummer 49\, Afdeling E-klasse 
DTSTART:20251005T093000
DTEND:20251005T111500
LOCATION:City Resort Helmond
ATTACH;FMTTYPE=text/plain:https://hbb.rivio.dev/jeugd/2025/wedstrijd/36704
END:VEVENT
BEGIN:VEVENT
UID:https://hbb.rivio.dev/jeugd/2025/wedstrijd/36726
DTSTAMP:20260420T203301Z
SUMMARY:Ganzeveer 1 - Veldhoven 3
DESCRIPTION:Baan 4\, Wedstrijdnummer 53\, Afdeling E-klasse 
DTSTART:20251102T123000
DTEND:20251102T230000
LOCATION:City Resort Helmond
ATTACH;FMTTYPE=text/plain:https://hbb.rivio.dev/jeugd/2025/wedstrijd/36726
END:VEVENT
BEGIN:VEVENT
UID:https://hbb.rivio.dev/jeugd/2025/wedstrijd/36747
DTSTAMP:20260420T203301Z
SUMMARY:Veldhoven 3 - Gemert 3
DESCRIPTION:Baan 5\, Wedstrijdnummer 57\, Afdeling E-klasse 
DTSTART:20251109T123000
DTEND:20251109T230000
LOCATION:City Resort Helmond
ATTACH;FMTTYPE=text/plain:https://hbb.rivio.dev/jeugd/2025/wedstrijd/36747
END:VEVENT
BEGIN:VEVENT
UID:https://hbb.rivio.dev/jeugd/2025/wedstrijd/36769
DTSTAMP:20260420T203301Z
SUMMARY:Veldhoven 3 - Nuenen 1
DESCRIPTION:Baan 11\, Wedstrijdnummer 60\, Afdeling E-klasse 
DTSTART:20251116T123000
DTEND:20251116T230000
LOCATION:City Resort Helmond
ATTACH;FMTTYPE=text/plain:https://hbb.rivio.dev/jeugd/2025/wedstrijd/36769
END:VEVENT
BEGIN:VEVENT
UID:https://hbb.rivio.dev/jeugd/2025/wedstrijd/36787
DTSTAMP:20260420T203301Z
SUMMARY:Mixed 5 - Veldhoven 3
DESCRIPTION:Baan 3\, Wedstrijdnummer 63\, Afdeling E-klasse 
DTSTART:20251130T093000
DTEND:20251130T111500
LOCATION:City Resort Helmond
ATTACH;FMTTYPE=text/plain:https://hbb.rivio.dev/jeugd/2025/wedstrijd/36787
END:VEVENT
BEGIN:VEVENT
UID:https://hbb.rivio.dev/jeugd/2025/wedstrijd/36807
DTSTAMP:20260420T203301Z
SUMMARY:Veldhoven 2 - Veldhoven 3
DESCRIPTION:Baan 2\, Wedstrijdnummer 1044\, Afdeling E-klasse 
DTSTART:20251214T093000
DTEND:20251214T111500
LOCATION:City Resort Helmond
ATTACH;FMTTYPE=text/plain:https://hbb.rivio.dev/jeugd/2025/wedstrijd/36807
END:VEVENT
BEGIN:VEVENT
UID:https://hbb.rivio.dev/jeugd/2025/wedstrijd/36847
DTSTAMP:20260420T203301Z
SUMMARY:Veldhoven 3 - Mixed 4
DESCRIPTION:Baan 15\, Wedstrijdnummer 1049\, Afdeling E-klasse 
DTSTART:20260125T093000
DTEND:20260125T111500
LOCATION:City Resort Helmond
ATTACH;FMTTYPE=text/plain:https://hbb.rivio.dev/jeugd/2025/wedstrijd/36847
END:VEVENT
BEGIN:VEVENT
UID:https://hbb.rivio.dev/jeugd/2025/wedstrijd/36867
DTSTAMP:20260420T203302Z
SUMMARY:Veldhoven 3 - Ganzeveer 1
DESCRIPTION:Baan 13\, Wedstrijdnummer 1053\, Afdeling E-klasse 
DTSTART:20260208T093000
DTEND:20260208T111500
LOCATION:City Resort Helmond
ATTACH;FMTTYPE=text/plain:https://hbb.rivio.dev/jeugd/2025/wedstrijd/36867
END:VEVENT
BEGIN:VEVENT
UID:https://hbb.rivio.dev/jeugd/2025/wedstrijd/36890
DTSTAMP:20260420T203302Z
SUMMARY:Gemert 3 - Veldhoven 3
DESCRIPTION:Baan 14\, Wedstrijdnummer 1057\, Afdeling E-klasse 
DTSTART:20260322T093000
DTEND:20260322T111500
LOCATION:City Resort Helmond
ATTACH;FMTTYPE=text/plain:https://hbb.rivio.dev/jeugd/2025/wedstrijd/36890
END:VEVENT
BEGIN:VEVENT
UID:https://hbb.rivio.dev/jeugd/2025/wedstrijd/36911
DTSTAMP:20260420T203302Z
SUMMARY:Nuenen 1 - Veldhoven 3
DESCRIPTION:Baan 14\, Wedstrijdnummer 1060\, Afdeling E-klasse 
DTSTART:20260329T093000
DTEND:20260329T111500
LOCATION:City Resort Helmond
ATTACH;FMTTYPE=text/plain:https://hbb.rivio.dev/jeugd/2025/wedstrijd/36911
END:VEVENT
BEGIN:VEVENT
UID:https://hbb.rivio.dev/jeugd/2025/wedstrijd/36932
DTSTAMP:20260420T203302Z
SUMMARY:Veldhoven 3 - Mixed 5
DESCRIPTION:Baan 14\, Wedstrijdnummer 1063\, Afdeling E-klasse 
DTSTART:20260412T093000
DTEND:20260412T111500
LOCATION:City Resort Helmond
ATTACH;FMTTYPE=text/plain:https://hbb.rivio.dev/jeugd/2025/wedstrijd/36932
END:VEVENT
BEGIN:VTIMEZONE
TZID:Europe/Amsterdam
BEGIN:STANDARD
DTSTART:20250101T000000
TZNAME:CET
TZOFFSETTO:+0100
TZOFFSETFROM:+0100
END:STANDARD
BEGIN:DAYLIGHT
DTSTART:20250330T030000
TZNAME:CEST
TZOFFSETTO:+0200
TZOFFSETFROM:+0100
END:DAYLIGHT
BEGIN:STANDARD
DTSTART:20251026T020000
TZNAME:CET
TZOFFSETTO:+0100
TZOFFSETFROM:+0200
END:STANDARD
BEGIN:DAYLIGHT
DTSTART:20260329T030000
TZNAME:CEST
TZOFFSETTO:+0200
TZOFFSETFROM:+0100
END:DAYLIGHT
BEGIN:STANDARD
DTSTART:20261025T020000
TZNAME:CET
TZOFFSETTO:+0100
TZOFFSETFROM:+0200
END:STANDARD
END:VTIMEZONE
END:VCALENDAR
