BEGIN:VCALENDAR
PRODID:-//eluceo/ical//2.0/EN
VERSION:2.0
CALSCALE:GREGORIAN
BEGIN:VEVENT
UID:https://hbb.rivio.dev/senioren/2025/wedstrijd/36280
DTSTAMP:20260420T190315Z
SUMMARY:'t Veertje 1 - De Valken 3
DESCRIPTION:Baan 3\, Wedstrijdnummer 60\, Afdeling 1e klasse 
DTSTART:20251001T200000
DTEND:20251001T230000
LOCATION:City Resort Helmond
ATTACH;FMTTYPE=text/plain:https://hbb.rivio.dev/senioren/2025/wedstrijd/362
 80
END:VEVENT
BEGIN:VEVENT
UID:https://hbb.rivio.dev/senioren/2025/wedstrijd/36305
DTSTAMP:20260420T190315Z
SUMMARY:De Valken 3 - Smashing Bruang 1
DESCRIPTION:Baan 13\, Wedstrijdnummer 63\, Afdeling 1e klasse 
DTSTART:20251008T200000
DTEND:20251008T230000
LOCATION:City Resort Helmond
ATTACH;FMTTYPE=text/plain:https://hbb.rivio.dev/senioren/2025/wedstrijd/363
 05
END:VEVENT
BEGIN:VEVENT
UID:https://hbb.rivio.dev/senioren/2025/wedstrijd/36349
DTSTAMP:20260420T190315Z
SUMMARY:Mierlo 4 - De Valken 3
DESCRIPTION:Baan 2\, Wedstrijdnummer 66\, Afdeling 1e klasse 
DTSTART:20251030T200000
DTEND:20251030T230000
LOCATION:City Resort Helmond
ATTACH;FMTTYPE=text/plain:https://hbb.rivio.dev/senioren/2025/wedstrijd/363
 49
END:VEVENT
BEGIN:VEVENT
UID:https://hbb.rivio.dev/senioren/2025/wedstrijd/36360
DTSTAMP:20260420T190315Z
SUMMARY:De Valken 3 - Mierlo 3
DESCRIPTION:Baan 3\, Wedstrijdnummer 69\, Afdeling 1e klasse 
DTSTART:20251105T200000
DTEND:20251105T230000
LOCATION:City Resort Helmond
ATTACH;FMTTYPE=text/plain:https://hbb.rivio.dev/senioren/2025/wedstrijd/363
 60
END:VEVENT
BEGIN:VEVENT
UID:https://hbb.rivio.dev/senioren/2025/wedstrijd/36401
DTSTAMP:20260420T190315Z
SUMMARY:Heeze 1 - De Valken 3
DESCRIPTION:Baan 4\, Wedstrijdnummer 72\, Afdeling 1e klasse 
DTSTART:20251126T200000
DTEND:20251126T230000
LOCATION:City Resort Helmond
ATTACH;FMTTYPE=text/plain:https://hbb.rivio.dev/senioren/2025/wedstrijd/364
 01
END:VEVENT
BEGIN:VEVENT
UID:https://hbb.rivio.dev/senioren/2025/wedstrijd/36442
DTSTAMP:20260420T190315Z
SUMMARY:De Valken 3 - Gemert 1
DESCRIPTION:Baan 11\, Wedstrijdnummer 75\, Afdeling 1e klasse 
DTSTART:20251210T200000
DTEND:20251210T230000
LOCATION:City Resort Helmond
ATTACH;FMTTYPE=text/plain:https://hbb.rivio.dev/senioren/2025/wedstrijd/364
 42
END:VEVENT
BEGIN:VEVENT
UID:https://hbb.rivio.dev/senioren/2025/wedstrijd/36481
DTSTAMP:20260420T190315Z
SUMMARY:De Valken 3 - 't Veertje 1
DESCRIPTION:Baan 5\, Wedstrijdnummer 1060\, Afdeling 1e klasse 
DTSTART:20260114T200000
DTEND:20260114T230000
LOCATION:City Resort Helmond
ATTACH;FMTTYPE=text/plain:https://hbb.rivio.dev/senioren/2025/wedstrijd/364
 81
END:VEVENT
BEGIN:VEVENT
UID:https://hbb.rivio.dev/senioren/2025/wedstrijd/36504
DTSTAMP:20260420T190315Z
SUMMARY:De Valken 3 - Heeze 1
DESCRIPTION:Baan 14\, Wedstrijdnummer 3029\, Afdeling 1e klasse 
DTSTART:20260121T200000
DTEND:20260121T230000
LOCATION:City Resort Helmond
ATTACH;FMTTYPE=text/plain:https://hbb.rivio.dev/senioren/2025/wedstrijd/365
 04
END:VEVENT
BEGIN:VEVENT
UID:https://hbb.rivio.dev/senioren/2025/wedstrijd/36538
DTSTAMP:20260420T190315Z
SUMMARY:Smashing Bruang 1 - De Valken 3
DESCRIPTION:Baan 11\, Wedstrijdnummer 1063\, Afdeling 1e klasse 
DTSTART:20260205T200000
DTEND:20260205T230000
LOCATION:City Resort Helmond
ATTACH;FMTTYPE=text/plain:https://hbb.rivio.dev/senioren/2025/wedstrijd/365
 38
END:VEVENT
BEGIN:VEVENT
UID:https://hbb.rivio.dev/senioren/2025/wedstrijd/36548
DTSTAMP:20260420T190315Z
SUMMARY:De Valken 3 - Mierlo 4
DESCRIPTION:Baan 11\, Wedstrijdnummer 1066\, Afdeling 1e klasse 
DTSTART:20260211T200000
DTEND:20260211T230000
LOCATION:City Resort Helmond
ATTACH;FMTTYPE=text/plain:https://hbb.rivio.dev/senioren/2025/wedstrijd/365
 48
END:VEVENT
BEGIN:VEVENT
UID:https://hbb.rivio.dev/senioren/2025/wedstrijd/36568
DTSTAMP:20260420T190315Z
SUMMARY:Mierlo 3 - De Valken 3
DESCRIPTION:Baan 12\, Wedstrijdnummer 1069\, Afdeling 1e klasse 
DTSTART:20260225T200000
DTEND:20260225T230000
LOCATION:City Resort Helmond
ATTACH;FMTTYPE=text/plain:https://hbb.rivio.dev/senioren/2025/wedstrijd/365
 68
END:VEVENT
BEGIN:VEVENT
UID:https://hbb.rivio.dev/senioren/2025/wedstrijd/36601
DTSTAMP:20260420T190315Z
SUMMARY:De Valken 3 - Heeze 1
DESCRIPTION:Baan 2\, Wedstrijdnummer 1072\, Afdeling 1e klasse 
DTSTART:20260318T200000
DTEND:20260318T230000
LOCATION:City Resort Helmond
ATTACH;FMTTYPE=text/plain:https://hbb.rivio.dev/senioren/2025/wedstrijd/366
 01
END:VEVENT
BEGIN:VEVENT
UID:https://hbb.rivio.dev/senioren/2025/wedstrijd/36623
DTSTAMP:20260420T190315Z
SUMMARY:Gemert 1 - De Valken 3
DESCRIPTION:Baan 4\, Wedstrijdnummer 1075\, Afdeling 1e klasse 
DTSTART:20260325T200000
DTEND:20260325T230000
LOCATION:City Resort Helmond
ATTACH;FMTTYPE=text/plain:https://hbb.rivio.dev/senioren/2025/wedstrijd/366
 23
END:VEVENT
BEGIN:VTIMEZONE
TZID:Europe/Amsterdam
BEGIN:STANDARD
DTSTART:20250101T000000
TZNAME:CET
TZOFFSETTO:+0100
TZOFFSETFROM:+0100
END:STANDARD
BEGIN:DAYLIGHT
DTSTART:20250330T030000
TZNAME:CEST
TZOFFSETTO:+0200
TZOFFSETFROM:+0100
END:DAYLIGHT
BEGIN:STANDARD
DTSTART:20251026T020000
TZNAME:CET
TZOFFSETTO:+0100
TZOFFSETFROM:+0200
END:STANDARD
BEGIN:DAYLIGHT
DTSTART:20260329T030000
TZNAME:CEST
TZOFFSETTO:+0200
TZOFFSETFROM:+0100
END:DAYLIGHT
BEGIN:STANDARD
DTSTART:20261025T020000
TZNAME:CET
TZOFFSETTO:+0100
TZOFFSETFROM:+0200
END:STANDARD
END:VTIMEZONE
END:VCALENDAR
