BEGIN:VCALENDAR
PRODID:-//eluceo/ical//2.0/EN
VERSION:2.0
CALSCALE:GREGORIAN
BEGIN:VEVENT
UID:https://hbb.rivio.dev/senioren/2025/wedstrijd/36310
DTSTAMP:20260419T164707Z
SUMMARY:Someren 3 - Heeze 2
DESCRIPTION:Baan 3\, Wedstrijdnummer 129\, Afdeling 3e klasse II
DTSTART:20251009T200000
DTEND:20251009T230000
LOCATION:City Resort Helmond
ATTACH;FMTTYPE=text/plain:https://hbb.rivio.dev/senioren/2025/wedstrijd/363
 10
END:VEVENT
BEGIN:VEVENT
UID:https://hbb.rivio.dev/senioren/2025/wedstrijd/36326
DTSTAMP:20260419T164707Z
SUMMARY:Heeze 2 - Ganzeveer 3
DESCRIPTION:Baan 14\, Wedstrijdnummer 133\, Afdeling 3e klasse II
DTSTART:20251022T200000
DTEND:20251022T230000
LOCATION:City Resort Helmond
ATTACH;FMTTYPE=text/plain:https://hbb.rivio.dev/senioren/2025/wedstrijd/363
 26
END:VEVENT
BEGIN:VEVENT
UID:https://hbb.rivio.dev/senioren/2025/wedstrijd/36386
DTSTAMP:20260419T164707Z
SUMMARY:Heeze 2 - RBC 2
DESCRIPTION:Baan 14\, Wedstrijdnummer 137\, Afdeling 3e klasse II
DTSTART:20251113T200000
DTEND:20251113T230000
LOCATION:City Resort Helmond
ATTACH;FMTTYPE=text/plain:https://hbb.rivio.dev/senioren/2025/wedstrijd/363
 86
END:VEVENT
BEGIN:VEVENT
UID:https://hbb.rivio.dev/senioren/2025/wedstrijd/36410
DTSTAMP:20260419T164707Z
SUMMARY:Mierlo 7 - Heeze 2
DESCRIPTION:Baan 3\, Wedstrijdnummer 140\, Afdeling 3e klasse II
DTSTART:20251127T200000
DTEND:20251127T230000
LOCATION:City Resort Helmond
ATTACH;FMTTYPE=text/plain:https://hbb.rivio.dev/senioren/2025/wedstrijd/364
 10
END:VEVENT
BEGIN:VEVENT
UID:https://hbb.rivio.dev/senioren/2025/wedstrijd/36421
DTSTAMP:20260419T164707Z
SUMMARY:Geldrop 3 - Heeze 2
DESCRIPTION:Baan 4\, Wedstrijdnummer 3011\, Afdeling 3e klasse I
DTSTART:20251203T200000
DTEND:20251203T230000
LOCATION:City Resort Helmond
ATTACH;FMTTYPE=text/plain:https://hbb.rivio.dev/senioren/2025/wedstrijd/364
 21
END:VEVENT
BEGIN:VEVENT
UID:https://hbb.rivio.dev/senioren/2025/wedstrijd/36460
DTSTAMP:20260419T164707Z
SUMMARY:Phoenix 2 - Heeze 2
DESCRIPTION:Baan 4\, Wedstrijdnummer 142\, Afdeling 3e klasse II
DTSTART:20260107T200000
DTEND:20260107T230000
LOCATION:City Resort Helmond
ATTACH;FMTTYPE=text/plain:https://hbb.rivio.dev/senioren/2025/wedstrijd/364
 60
END:VEVENT
BEGIN:VEVENT
UID:https://hbb.rivio.dev/senioren/2025/wedstrijd/36513
DTSTAMP:20260419T164707Z
SUMMARY:Heeze 2 - Someren 3
DESCRIPTION:Baan 14\, Wedstrijdnummer 1129\, Afdeling 3e klasse II
DTSTART:20260122T200000
DTEND:20260122T230000
LOCATION:City Resort Helmond
ATTACH;FMTTYPE=text/plain:https://hbb.rivio.dev/senioren/2025/wedstrijd/365
 13
END:VEVENT
BEGIN:VEVENT
UID:https://hbb.rivio.dev/senioren/2025/wedstrijd/36544
DTSTAMP:20260419T164707Z
SUMMARY:Ganzeveer 3 - Heeze 2
DESCRIPTION:Baan 2\, Wedstrijdnummer 1133\, Afdeling 3e klasse II
DTSTART:20260211T200000
DTEND:20260211T230000
LOCATION:City Resort Helmond
ATTACH;FMTTYPE=text/plain:https://hbb.rivio.dev/senioren/2025/wedstrijd/365
 44
END:VEVENT
BEGIN:VEVENT
UID:https://hbb.rivio.dev/senioren/2025/wedstrijd/36599
DTSTAMP:20260419T164707Z
SUMMARY:RBC 2 - Heeze 2
DESCRIPTION:Baan 13\, Wedstrijdnummer 1137\, Afdeling 3e klasse II
DTSTART:20260305T200000
DTEND:20260305T230000
LOCATION:City Resort Helmond
ATTACH;FMTTYPE=text/plain:https://hbb.rivio.dev/senioren/2025/wedstrijd/365
 99
END:VEVENT
BEGIN:VEVENT
UID:https://hbb.rivio.dev/senioren/2025/wedstrijd/36627
DTSTAMP:20260419T164707Z
SUMMARY:Heeze 2 - Mierlo 7
DESCRIPTION:Baan 13\, Wedstrijdnummer 1140\, Afdeling 3e klasse II
DTSTART:20260325T200000
DTEND:20260325T230000
LOCATION:City Resort Helmond
ATTACH;FMTTYPE=text/plain:https://hbb.rivio.dev/senioren/2025/wedstrijd/366
 27
END:VEVENT
BEGIN:VEVENT
UID:https://hbb.rivio.dev/senioren/2025/wedstrijd/36646
DTSTAMP:20260419T164707Z
SUMMARY:Heeze 2 - Phoenix 2
DESCRIPTION:Baan 13\, Wedstrijdnummer 1142\, Afdeling 3e klasse II
DTSTART:20260401T200000
DTEND:20260401T230000
LOCATION:City Resort Helmond
ATTACH;FMTTYPE=text/plain:https://hbb.rivio.dev/senioren/2025/wedstrijd/366
 46
END:VEVENT
BEGIN:VTIMEZONE
TZID:Europe/Amsterdam
BEGIN:STANDARD
DTSTART:20250101T000000
TZNAME:CET
TZOFFSETTO:+0100
TZOFFSETFROM:+0100
END:STANDARD
BEGIN:DAYLIGHT
DTSTART:20250330T030000
TZNAME:CEST
TZOFFSETTO:+0200
TZOFFSETFROM:+0100
END:DAYLIGHT
BEGIN:STANDARD
DTSTART:20251026T020000
TZNAME:CET
TZOFFSETTO:+0100
TZOFFSETFROM:+0200
END:STANDARD
BEGIN:DAYLIGHT
DTSTART:20260329T030000
TZNAME:CEST
TZOFFSETTO:+0200
TZOFFSETFROM:+0100
END:DAYLIGHT
BEGIN:STANDARD
DTSTART:20261025T020000
TZNAME:CET
TZOFFSETTO:+0100
TZOFFSETFROM:+0200
END:STANDARD
END:VTIMEZONE
END:VCALENDAR
