BEGIN:VCALENDAR
PRODID:-//eluceo/ical//2.0/EN
VERSION:2.0
CALSCALE:GREGORIAN
BEGIN:VEVENT
UID:https://hbb.rivio.dev/senioren/2025/wedstrijd/36275
DTSTAMP:20260419T200650Z
SUMMARY:Heeze 1 - Smashing Bruang 1
DESCRIPTION:Baan 13\, Wedstrijdnummer 58\, Afdeling 1e klasse 
DTSTART:20250925T200000
DTEND:20250925T230000
LOCATION:City Resort Helmond
ATTACH;FMTTYPE=text/plain:https://hbb.rivio.dev/senioren/2025/wedstrijd/362
 75
END:VEVENT
BEGIN:VEVENT
UID:https://hbb.rivio.dev/senioren/2025/wedstrijd/36282
DTSTAMP:20260419T200650Z
SUMMARY:Heeze 1 - Mierlo 3
DESCRIPTION:Baan 5\, Wedstrijdnummer 62\, Afdeling 1e klasse 
DTSTART:20251001T200000
DTEND:20251001T230000
LOCATION:City Resort Helmond
ATTACH;FMTTYPE=text/plain:https://hbb.rivio.dev/senioren/2025/wedstrijd/362
 82
END:VEVENT
BEGIN:VEVENT
UID:https://hbb.rivio.dev/senioren/2025/wedstrijd/36307
DTSTAMP:20260419T200650Z
SUMMARY:Gemert 1 - Heeze 1
DESCRIPTION:Baan 15\, Wedstrijdnummer 65\, Afdeling 1e klasse 
DTSTART:20251008T200000
DTEND:20251008T230000
LOCATION:City Resort Helmond
ATTACH;FMTTYPE=text/plain:https://hbb.rivio.dev/senioren/2025/wedstrijd/363
 07
END:VEVENT
BEGIN:VEVENT
UID:https://hbb.rivio.dev/senioren/2025/wedstrijd/36339
DTSTAMP:20260419T200650Z
SUMMARY:'t Veertje 1 - Heeze 1
DESCRIPTION:Baan 2\, Wedstrijdnummer 68\, Afdeling 1e klasse 
DTSTART:20251029T200000
DTEND:20251029T230000
LOCATION:City Resort Helmond
ATTACH;FMTTYPE=text/plain:https://hbb.rivio.dev/senioren/2025/wedstrijd/363
 39
END:VEVENT
BEGIN:VEVENT
UID:https://hbb.rivio.dev/senioren/2025/wedstrijd/36372
DTSTAMP:20260419T200650Z
SUMMARY:Mierlo 4 - Heeze 1
DESCRIPTION:Baan 5\, Wedstrijdnummer 70\, Afdeling 1e klasse 
DTSTART:20251106T200000
DTEND:20251106T230000
LOCATION:City Resort Helmond
ATTACH;FMTTYPE=text/plain:https://hbb.rivio.dev/senioren/2025/wedstrijd/363
 72
END:VEVENT
BEGIN:VEVENT
UID:https://hbb.rivio.dev/senioren/2025/wedstrijd/36401
DTSTAMP:20260419T200650Z
SUMMARY:Heeze 1 - De Valken 3
DESCRIPTION:Baan 4\, Wedstrijdnummer 72\, Afdeling 1e klasse 
DTSTART:20251126T200000
DTEND:20251126T230000
LOCATION:City Resort Helmond
ATTACH;FMTTYPE=text/plain:https://hbb.rivio.dev/senioren/2025/wedstrijd/364
 01
END:VEVENT
BEGIN:VEVENT
UID:https://hbb.rivio.dev/senioren/2025/wedstrijd/36469
DTSTAMP:20260419T200650Z
SUMMARY:Smashing Bruang 1 - Heeze 1
DESCRIPTION:Baan 3\, Wedstrijdnummer 1058\, Afdeling 1e klasse 
DTSTART:20260108T200000
DTEND:20260108T230000
LOCATION:City Resort Helmond
ATTACH;FMTTYPE=text/plain:https://hbb.rivio.dev/senioren/2025/wedstrijd/364
 69
END:VEVENT
BEGIN:VEVENT
UID:https://hbb.rivio.dev/senioren/2025/wedstrijd/36482
DTSTAMP:20260419T200650Z
SUMMARY:Mierlo 3 - Heeze 1
DESCRIPTION:Baan 11\, Wedstrijdnummer 1062\, Afdeling 1e klasse 
DTSTART:20260114T200000
DTEND:20260114T230000
LOCATION:City Resort Helmond
ATTACH;FMTTYPE=text/plain:https://hbb.rivio.dev/senioren/2025/wedstrijd/364
 82
END:VEVENT
BEGIN:VEVENT
UID:https://hbb.rivio.dev/senioren/2025/wedstrijd/36504
DTSTAMP:20260419T200650Z
SUMMARY:De Valken 3 - Heeze 1
DESCRIPTION:Baan 14\, Wedstrijdnummer 3029\, Afdeling 1e klasse 
DTSTART:20260121T200000
DTEND:20260121T230000
LOCATION:City Resort Helmond
ATTACH;FMTTYPE=text/plain:https://hbb.rivio.dev/senioren/2025/wedstrijd/365
 04
END:VEVENT
BEGIN:VEVENT
UID:https://hbb.rivio.dev/senioren/2025/wedstrijd/36523
DTSTAMP:20260419T200650Z
SUMMARY:Heeze 1 - Gemert 1
DESCRIPTION:Baan 1\, Wedstrijdnummer 1065\, Afdeling 1e klasse 
DTSTART:20260204T200000
DTEND:20260204T230000
LOCATION:City Resort Helmond
ATTACH;FMTTYPE=text/plain:https://hbb.rivio.dev/senioren/2025/wedstrijd/365
 23
END:VEVENT
BEGIN:VEVENT
UID:https://hbb.rivio.dev/senioren/2025/wedstrijd/36549
DTSTAMP:20260419T200650Z
SUMMARY:Heeze 1 - 't Veertje 1
DESCRIPTION:Baan 12\, Wedstrijdnummer 1068\, Afdeling 1e klasse 
DTSTART:20260211T200000
DTEND:20260211T230000
LOCATION:City Resort Helmond
ATTACH;FMTTYPE=text/plain:https://hbb.rivio.dev/senioren/2025/wedstrijd/365
 49
END:VEVENT
BEGIN:VEVENT
UID:https://hbb.rivio.dev/senioren/2025/wedstrijd/36579
DTSTAMP:20260419T200650Z
SUMMARY:Heeze 1 - Mierlo 4
DESCRIPTION:Baan 13\, Wedstrijdnummer 1070\, Afdeling 1e klasse 
DTSTART:20260226T200000
DTEND:20260226T230000
LOCATION:City Resort Helmond
ATTACH;FMTTYPE=text/plain:https://hbb.rivio.dev/senioren/2025/wedstrijd/365
 79
END:VEVENT
BEGIN:VEVENT
UID:https://hbb.rivio.dev/senioren/2025/wedstrijd/36601
DTSTAMP:20260419T200650Z
SUMMARY:De Valken 3 - Heeze 1
DESCRIPTION:Baan 2\, Wedstrijdnummer 1072\, Afdeling 1e klasse 
DTSTART:20260318T200000
DTEND:20260318T230000
LOCATION:City Resort Helmond
ATTACH;FMTTYPE=text/plain:https://hbb.rivio.dev/senioren/2025/wedstrijd/366
 01
END:VEVENT
BEGIN:VTIMEZONE
TZID:Europe/Amsterdam
BEGIN:STANDARD
DTSTART:20250101T000000
TZNAME:CET
TZOFFSETTO:+0100
TZOFFSETFROM:+0100
END:STANDARD
BEGIN:DAYLIGHT
DTSTART:20250330T030000
TZNAME:CEST
TZOFFSETTO:+0200
TZOFFSETFROM:+0100
END:DAYLIGHT
BEGIN:STANDARD
DTSTART:20251026T020000
TZNAME:CET
TZOFFSETTO:+0100
TZOFFSETFROM:+0200
END:STANDARD
BEGIN:DAYLIGHT
DTSTART:20260329T030000
TZNAME:CEST
TZOFFSETTO:+0200
TZOFFSETFROM:+0100
END:DAYLIGHT
BEGIN:STANDARD
DTSTART:20261025T020000
TZNAME:CET
TZOFFSETTO:+0100
TZOFFSETFROM:+0200
END:STANDARD
END:VTIMEZONE
END:VCALENDAR
