BEGIN:VCALENDAR
PRODID:-//eluceo/ical//2.0/EN
VERSION:2.0
CALSCALE:GREGORIAN
BEGIN:VEVENT
UID:https://hbb.rivio.dev/jeugd/2025/wedstrijd/36679
DTSTAMP:20260420T150915Z
SUMMARY:Mierlo 4 - Mierlo 5
DESCRIPTION:Baan 15\, Wedstrijdnummer 87\, Afdeling G-klasse 
DTSTART:20250921T093000
DTEND:20250921T111500
LOCATION:City Resort Helmond
ATTACH;FMTTYPE=text/plain:https://hbb.rivio.dev/jeugd/2025/wedstrijd/36679
END:VEVENT
BEGIN:VEVENT
UID:https://hbb.rivio.dev/jeugd/2025/wedstrijd/36706
DTSTAMP:20260420T150915Z
SUMMARY:Someren 1 - Mierlo 5
DESCRIPTION:Baan 10\, Wedstrijdnummer 91\, Afdeling G-klasse 
DTSTART:20251005T093000
DTEND:20251005T111500
LOCATION:City Resort Helmond
ATTACH;FMTTYPE=text/plain:https://hbb.rivio.dev/jeugd/2025/wedstrijd/36706
END:VEVENT
BEGIN:VEVENT
UID:https://hbb.rivio.dev/jeugd/2025/wedstrijd/36732
DTSTAMP:20260420T150915Z
SUMMARY:Mierlo 5 - Nuenen 3
DESCRIPTION:Baan 15\, Wedstrijdnummer 95\, Afdeling G-klasse 
DTSTART:20251102T123000
DTEND:20251102T230000
LOCATION:City Resort Helmond
ATTACH;FMTTYPE=text/plain:https://hbb.rivio.dev/jeugd/2025/wedstrijd/36732
END:VEVENT
BEGIN:VEVENT
UID:https://hbb.rivio.dev/jeugd/2025/wedstrijd/36772
DTSTAMP:20260420T150915Z
SUMMARY:Mierlo 5 - Phoenix 3
DESCRIPTION:Baan 14\, Wedstrijdnummer 102\, Afdeling G-klasse 
DTSTART:20251116T123000
DTEND:20251116T230000
LOCATION:City Resort Helmond
ATTACH;FMTTYPE=text/plain:https://hbb.rivio.dev/jeugd/2025/wedstrijd/36772
END:VEVENT
BEGIN:VEVENT
UID:https://hbb.rivio.dev/jeugd/2025/wedstrijd/36783
DTSTAMP:20260420T150915Z
SUMMARY:Mierlo 5 - Mixed 7
DESCRIPTION:Baan 14\, Wedstrijdnummer 99\, Afdeling G-klasse 
DTSTART:20251123T093000
DTEND:20251123T111500
LOCATION:City Resort Helmond
ATTACH;FMTTYPE=text/plain:https://hbb.rivio.dev/jeugd/2025/wedstrijd/36783
END:VEVENT
BEGIN:VEVENT
UID:https://hbb.rivio.dev/jeugd/2025/wedstrijd/36792
DTSTAMP:20260420T150915Z
SUMMARY:Veldhoven 4 - Mierlo 5
DESCRIPTION:Baan 13\, Wedstrijdnummer 104\, Afdeling G-klasse 
DTSTART:20251130T093000
DTEND:20251130T111500
LOCATION:City Resort Helmond
ATTACH;FMTTYPE=text/plain:https://hbb.rivio.dev/jeugd/2025/wedstrijd/36792
END:VEVENT
BEGIN:VEVENT
UID:https://hbb.rivio.dev/jeugd/2025/wedstrijd/36814
DTSTAMP:20260420T150915Z
SUMMARY:Mierlo 5 - Mierlo 4
DESCRIPTION:Baan 14\, Wedstrijdnummer 1087\, Afdeling G-klasse 
DTSTART:20251214T093000
DTEND:20251214T111500
LOCATION:City Resort Helmond
ATTACH;FMTTYPE=text/plain:https://hbb.rivio.dev/jeugd/2025/wedstrijd/36814
END:VEVENT
BEGIN:VEVENT
UID:https://hbb.rivio.dev/jeugd/2025/wedstrijd/36853
DTSTAMP:20260420T150915Z
SUMMARY:Mierlo 5 - Someren 1
DESCRIPTION:Baan 10\, Wedstrijdnummer 1091\, Afdeling G-klasse 
DTSTART:20260201T093000
DTEND:20260201T111500
LOCATION:City Resort Helmond
ATTACH;FMTTYPE=text/plain:https://hbb.rivio.dev/jeugd/2025/wedstrijd/36853
END:VEVENT
BEGIN:VEVENT
UID:https://hbb.rivio.dev/jeugd/2025/wedstrijd/36875
DTSTAMP:20260420T150915Z
SUMMARY:Nuenen 3 - Mierlo 5
DESCRIPTION:Baan 10\, Wedstrijdnummer 1095\, Afdeling G-klasse 
DTSTART:20260308T093000
DTEND:20260308T111500
LOCATION:City Resort Helmond
ATTACH;FMTTYPE=text/plain:https://hbb.rivio.dev/jeugd/2025/wedstrijd/36875
END:VEVENT
BEGIN:VEVENT
UID:https://hbb.rivio.dev/jeugd/2025/wedstrijd/36887
DTSTAMP:20260420T150915Z
SUMMARY:Mixed 7 - Mierlo 5
DESCRIPTION:Baan 11\, Wedstrijdnummer 1099\, Afdeling G-klasse 
DTSTART:20260322T093000
DTEND:20260322T111500
LOCATION:City Resort Helmond
ATTACH;FMTTYPE=text/plain:https://hbb.rivio.dev/jeugd/2025/wedstrijd/36887
END:VEVENT
BEGIN:VEVENT
UID:https://hbb.rivio.dev/jeugd/2025/wedstrijd/36908
DTSTAMP:20260420T150915Z
SUMMARY:Phoenix 3 - Mierlo 5
DESCRIPTION:Baan 11\, Wedstrijdnummer 1102\, Afdeling G-klasse 
DTSTART:20260329T093000
DTEND:20260329T111500
LOCATION:City Resort Helmond
ATTACH;FMTTYPE=text/plain:https://hbb.rivio.dev/jeugd/2025/wedstrijd/36908
END:VEVENT
BEGIN:VEVENT
UID:https://hbb.rivio.dev/jeugd/2025/wedstrijd/36938
DTSTAMP:20260420T150915Z
SUMMARY:Mierlo 5 - Veldhoven 4
DESCRIPTION:Baan 5\, Wedstrijdnummer 1104\, Afdeling G-klasse 
DTSTART:20260412T123000
DTEND:20260412T230000
LOCATION:City Resort Helmond
ATTACH;FMTTYPE=text/plain:https://hbb.rivio.dev/jeugd/2025/wedstrijd/36938
END:VEVENT
BEGIN:VTIMEZONE
TZID:Europe/Amsterdam
BEGIN:STANDARD
DTSTART:20250101T000000
TZNAME:CET
TZOFFSETTO:+0100
TZOFFSETFROM:+0100
END:STANDARD
BEGIN:DAYLIGHT
DTSTART:20250330T030000
TZNAME:CEST
TZOFFSETTO:+0200
TZOFFSETFROM:+0100
END:DAYLIGHT
BEGIN:STANDARD
DTSTART:20251026T020000
TZNAME:CET
TZOFFSETTO:+0100
TZOFFSETFROM:+0200
END:STANDARD
BEGIN:DAYLIGHT
DTSTART:20260329T030000
TZNAME:CEST
TZOFFSETTO:+0200
TZOFFSETFROM:+0100
END:DAYLIGHT
BEGIN:STANDARD
DTSTART:20261025T020000
TZNAME:CET
TZOFFSETTO:+0100
TZOFFSETFROM:+0200
END:STANDARD
END:VTIMEZONE
END:VCALENDAR
