BEGIN:VCALENDAR
PRODID:-//eluceo/ical//2.0/EN
VERSION:2.0
CALSCALE:GREGORIAN
BEGIN:VEVENT
UID:https://hbb.rivio.dev/jeugd/2025/wedstrijd/36695
DTSTAMP:20260420T165513Z
SUMMARY:Mierlo 6 - Veldhoven 6
DESCRIPTION:Baan 5\, Wedstrijdnummer 135\, Afdeling P-klasse 
DTSTART:20250928T123000
DTEND:20250928T230000
LOCATION:City Resort Helmond
ATTACH;FMTTYPE=text/plain:https://hbb.rivio.dev/jeugd/2025/wedstrijd/36695
END:VEVENT
BEGIN:VEVENT
UID:https://hbb.rivio.dev/jeugd/2025/wedstrijd/36737
DTSTAMP:20260420T165513Z
SUMMARY:Mixed 10 - Mierlo 6
DESCRIPTION:Baan 5\, Wedstrijdnummer 138\, Afdeling P-klasse 
DTSTART:20251109T093000
DTEND:20251109T111500
LOCATION:City Resort Helmond
ATTACH;FMTTYPE=text/plain:https://hbb.rivio.dev/jeugd/2025/wedstrijd/36737
END:VEVENT
BEGIN:VEVENT
UID:https://hbb.rivio.dev/jeugd/2025/wedstrijd/36758
DTSTAMP:20260420T165513Z
SUMMARY:Mierlo 6 - Mixed 11
DESCRIPTION:Baan 10\, Wedstrijdnummer 141\, Afdeling P-klasse 
DTSTART:20251116T093000
DTEND:20251116T111500
LOCATION:City Resort Helmond
ATTACH;FMTTYPE=text/plain:https://hbb.rivio.dev/jeugd/2025/wedstrijd/36758
END:VEVENT
BEGIN:VEVENT
UID:https://hbb.rivio.dev/jeugd/2025/wedstrijd/36801
DTSTAMP:20260420T165513Z
SUMMARY:Phoenix 5 - Mierlo 6
DESCRIPTION:Baan 11\, Wedstrijdnummer 143\, Afdeling P-klasse 
DTSTART:20251207T093000
DTEND:20251207T111500
LOCATION:City Resort Helmond
ATTACH;FMTTYPE=text/plain:https://hbb.rivio.dev/jeugd/2025/wedstrijd/36801
END:VEVENT
BEGIN:VEVENT
UID:https://hbb.rivio.dev/jeugd/2025/wedstrijd/36825
DTSTAMP:20260420T165513Z
SUMMARY:Veldhoven 6 - Mierlo 6
DESCRIPTION:Baan 15\, Wedstrijdnummer 1135\, Afdeling P-klasse 
DTSTART:20260111T093000
DTEND:20260111T111500
LOCATION:City Resort Helmond
ATTACH;FMTTYPE=text/plain:https://hbb.rivio.dev/jeugd/2025/wedstrijd/36825
END:VEVENT
BEGIN:VEVENT
UID:https://hbb.rivio.dev/jeugd/2025/wedstrijd/36886
DTSTAMP:20260420T165513Z
SUMMARY:Mierlo 6 - Mixed 10
DESCRIPTION:Baan 10\, Wedstrijdnummer 1138\, Afdeling P-klasse 
DTSTART:20260322T093000
DTEND:20260322T111500
LOCATION:City Resort Helmond
ATTACH;FMTTYPE=text/plain:https://hbb.rivio.dev/jeugd/2025/wedstrijd/36886
END:VEVENT
BEGIN:VEVENT
UID:https://hbb.rivio.dev/jeugd/2025/wedstrijd/36912
DTSTAMP:20260420T165513Z
SUMMARY:Mixed 11 - Mierlo 6
DESCRIPTION:Baan 15\, Wedstrijdnummer 1141\, Afdeling P-klasse 
DTSTART:20260329T093000
DTEND:20260329T111500
LOCATION:City Resort Helmond
ATTACH;FMTTYPE=text/plain:https://hbb.rivio.dev/jeugd/2025/wedstrijd/36912
END:VEVENT
BEGIN:VEVENT
UID:https://hbb.rivio.dev/jeugd/2025/wedstrijd/36933
DTSTAMP:20260420T165513Z
SUMMARY:Mierlo 6 - Phoenix 5
DESCRIPTION:Baan 15\, Wedstrijdnummer 1143\, Afdeling P-klasse 
DTSTART:20260412T093000
DTEND:20260412T111500
LOCATION:City Resort Helmond
ATTACH;FMTTYPE=text/plain:https://hbb.rivio.dev/jeugd/2025/wedstrijd/36933
END:VEVENT
BEGIN:VTIMEZONE
TZID:Europe/Amsterdam
BEGIN:STANDARD
DTSTART:20250101T000000
TZNAME:CET
TZOFFSETTO:+0100
TZOFFSETFROM:+0100
END:STANDARD
BEGIN:DAYLIGHT
DTSTART:20250330T030000
TZNAME:CEST
TZOFFSETTO:+0200
TZOFFSETFROM:+0100
END:DAYLIGHT
BEGIN:STANDARD
DTSTART:20251026T020000
TZNAME:CET
TZOFFSETTO:+0100
TZOFFSETFROM:+0200
END:STANDARD
BEGIN:DAYLIGHT
DTSTART:20260329T030000
TZNAME:CEST
TZOFFSETTO:+0200
TZOFFSETFROM:+0100
END:DAYLIGHT
BEGIN:STANDARD
DTSTART:20261025T020000
TZNAME:CET
TZOFFSETTO:+0100
TZOFFSETFROM:+0200
END:STANDARD
END:VTIMEZONE
END:VCALENDAR
