BEGIN:VCALENDAR
PRODID:-//eluceo/ical//2.0/EN
VERSION:2.0
CALSCALE:GREGORIAN
BEGIN:VEVENT
UID:https://hbb.rivio.dev/jeugd/2025/wedstrijd/36663
DTSTAMP:20260420T165859Z
SUMMARY:Mierlo 3 - Mixed 6
DESCRIPTION:Baan 10\, Wedstrijdnummer 64\, Afdeling F-klasse 
DTSTART:20250914T093000
DTEND:20250914T111500
LOCATION:City Resort Helmond
ATTACH;FMTTYPE=text/plain:https://hbb.rivio.dev/jeugd/2025/wedstrijd/36663
END:VEVENT
BEGIN:VEVENT
UID:https://hbb.rivio.dev/jeugd/2025/wedstrijd/36690
DTSTAMP:20260420T165859Z
SUMMARY:Mierlo 3 - Gemert 5
DESCRIPTION:Baan 15\, Wedstrijdnummer 69\, Afdeling F-klasse 
DTSTART:20250928T093000
DTEND:20250928T111500
LOCATION:City Resort Helmond
ATTACH;FMTTYPE=text/plain:https://hbb.rivio.dev/jeugd/2025/wedstrijd/36690
END:VEVENT
BEGIN:VEVENT
UID:https://hbb.rivio.dev/jeugd/2025/wedstrijd/36711
DTSTAMP:20260420T165859Z
SUMMARY:Gemert 4 - Mierlo 3
DESCRIPTION:Baan 15\, Wedstrijdnummer 72\, Afdeling F-klasse 
DTSTART:20251005T093000
DTEND:20251005T111500
LOCATION:City Resort Helmond
ATTACH;FMTTYPE=text/plain:https://hbb.rivio.dev/jeugd/2025/wedstrijd/36711
END:VEVENT
BEGIN:VEVENT
UID:https://hbb.rivio.dev/jeugd/2025/wedstrijd/36730
DTSTAMP:20260420T165859Z
SUMMARY:Nuenen 2 - Mierlo 3
DESCRIPTION:Baan 13\, Wedstrijdnummer 75\, Afdeling F-klasse 
DTSTART:20251102T123000
DTEND:20251102T230000
LOCATION:City Resort Helmond
ATTACH;FMTTYPE=text/plain:https://hbb.rivio.dev/jeugd/2025/wedstrijd/36730
END:VEVENT
BEGIN:VEVENT
UID:https://hbb.rivio.dev/jeugd/2025/wedstrijd/36749
DTSTAMP:20260420T165859Z
SUMMARY:Brabantia 2 - Mierlo 3
DESCRIPTION:Baan 12\, Wedstrijdnummer 77\, Afdeling F-klasse 
DTSTART:20251109T123000
DTEND:20251109T230000
LOCATION:City Resort Helmond
ATTACH;FMTTYPE=text/plain:https://hbb.rivio.dev/jeugd/2025/wedstrijd/36749
END:VEVENT
BEGIN:VEVENT
UID:https://hbb.rivio.dev/jeugd/2025/wedstrijd/36754
DTSTAMP:20260420T165859Z
SUMMARY:Mierlo 3 - Geldrop 1
DESCRIPTION:Baan 2\, Wedstrijdnummer 80\, Afdeling F-klasse 
DTSTART:20251116T093000
DTEND:20251116T111500
LOCATION:City Resort Helmond
ATTACH;FMTTYPE=text/plain:https://hbb.rivio.dev/jeugd/2025/wedstrijd/36754
END:VEVENT
BEGIN:VEVENT
UID:https://hbb.rivio.dev/jeugd/2025/wedstrijd/36809
DTSTAMP:20260420T165859Z
SUMMARY:Mixed 6 - Mierlo 3
DESCRIPTION:Baan 4\, Wedstrijdnummer 1064\, Afdeling F-klasse 
DTSTART:20251214T093000
DTEND:20251214T111500
LOCATION:City Resort Helmond
ATTACH;FMTTYPE=text/plain:https://hbb.rivio.dev/jeugd/2025/wedstrijd/36809
END:VEVENT
BEGIN:VEVENT
UID:https://hbb.rivio.dev/jeugd/2025/wedstrijd/36833
DTSTAMP:20260420T165859Z
SUMMARY:Gemert 5 - Mierlo 3
DESCRIPTION:Baan 12\, Wedstrijdnummer 1069\, Afdeling F-klasse 
DTSTART:20260118T093000
DTEND:20260118T111500
LOCATION:City Resort Helmond
ATTACH;FMTTYPE=text/plain:https://hbb.rivio.dev/jeugd/2025/wedstrijd/36833
END:VEVENT
BEGIN:VEVENT
UID:https://hbb.rivio.dev/jeugd/2025/wedstrijd/36852
DTSTAMP:20260420T165859Z
SUMMARY:Mierlo 3 - Gemert 4
DESCRIPTION:Baan 5\, Wedstrijdnummer 1072\, Afdeling F-klasse 
DTSTART:20260201T093000
DTEND:20260201T111500
LOCATION:City Resort Helmond
ATTACH;FMTTYPE=text/plain:https://hbb.rivio.dev/jeugd/2025/wedstrijd/36852
END:VEVENT
BEGIN:VEVENT
UID:https://hbb.rivio.dev/jeugd/2025/wedstrijd/36873
DTSTAMP:20260420T165859Z
SUMMARY:Mierlo 3 - Nuenen 2
DESCRIPTION:Baan 4\, Wedstrijdnummer 1075\, Afdeling F-klasse 
DTSTART:20260308T093000
DTEND:20260308T111500
LOCATION:City Resort Helmond
ATTACH;FMTTYPE=text/plain:https://hbb.rivio.dev/jeugd/2025/wedstrijd/36873
END:VEVENT
BEGIN:VEVENT
UID:https://hbb.rivio.dev/jeugd/2025/wedstrijd/36893
DTSTAMP:20260420T165859Z
SUMMARY:Mierlo 3 - Brabantia 2
DESCRIPTION:Baan 2\, Wedstrijdnummer 1077\, Afdeling F-klasse 
DTSTART:20260322T123000
DTEND:20260322T230000
LOCATION:City Resort Helmond
ATTACH;FMTTYPE=text/plain:https://hbb.rivio.dev/jeugd/2025/wedstrijd/36893
END:VEVENT
BEGIN:VEVENT
UID:https://hbb.rivio.dev/jeugd/2025/wedstrijd/36917
DTSTAMP:20260420T165859Z
SUMMARY:Geldrop 1 - Mierlo 3
DESCRIPTION:Baan 5\, Wedstrijdnummer 1080\, Afdeling F-klasse 
DTSTART:20260329T123000
DTEND:20260329T230000
LOCATION:City Resort Helmond
ATTACH;FMTTYPE=text/plain:https://hbb.rivio.dev/jeugd/2025/wedstrijd/36917
END:VEVENT
BEGIN:VTIMEZONE
TZID:Europe/Amsterdam
BEGIN:STANDARD
DTSTART:20250101T000000
TZNAME:CET
TZOFFSETTO:+0100
TZOFFSETFROM:+0100
END:STANDARD
BEGIN:DAYLIGHT
DTSTART:20250330T030000
TZNAME:CEST
TZOFFSETTO:+0200
TZOFFSETFROM:+0100
END:DAYLIGHT
BEGIN:STANDARD
DTSTART:20251026T020000
TZNAME:CET
TZOFFSETTO:+0100
TZOFFSETFROM:+0200
END:STANDARD
BEGIN:DAYLIGHT
DTSTART:20260329T030000
TZNAME:CEST
TZOFFSETTO:+0200
TZOFFSETFROM:+0100
END:DAYLIGHT
BEGIN:STANDARD
DTSTART:20261025T020000
TZNAME:CET
TZOFFSETTO:+0100
TZOFFSETFROM:+0200
END:STANDARD
END:VTIMEZONE
END:VCALENDAR
