BEGIN:VCALENDAR
PRODID:-//eluceo/ical//2.0/EN
VERSION:2.0
CALSCALE:GREGORIAN
BEGIN:VEVENT
UID:https://hbb.rivio.dev/jeugd/2025/wedstrijd/36675
DTSTAMP:20260420T151519Z
SUMMARY:De Valken 1 - Geldrop 2
DESCRIPTION:Baan 11\, Wedstrijdnummer 108\, Afdeling H-klasse 
DTSTART:20250921T093000
DTEND:20250921T111500
LOCATION:City Resort Helmond
ATTACH;FMTTYPE=text/plain:https://hbb.rivio.dev/jeugd/2025/wedstrijd/36675
END:VEVENT
BEGIN:VEVENT
UID:https://hbb.rivio.dev/jeugd/2025/wedstrijd/36700
DTSTAMP:20260420T151519Z
SUMMARY:Phoenix 4 - De Valken 1
DESCRIPTION:Baan 15\, Wedstrijdnummer 113\, Afdeling H-klasse 
DTSTART:20250928T123000
DTEND:20250928T230000
LOCATION:City Resort Helmond
ATTACH;FMTTYPE=text/plain:https://hbb.rivio.dev/jeugd/2025/wedstrijd/36700
END:VEVENT
BEGIN:VEVENT
UID:https://hbb.rivio.dev/jeugd/2025/wedstrijd/36721
DTSTAMP:20260420T151519Z
SUMMARY:Nuenen 4 - De Valken 1
DESCRIPTION:Baan 14\, Wedstrijdnummer 116\, Afdeling H-klasse 
DTSTART:20251102T093000
DTEND:20251102T111500
LOCATION:City Resort Helmond
ATTACH;FMTTYPE=text/plain:https://hbb.rivio.dev/jeugd/2025/wedstrijd/36721
END:VEVENT
BEGIN:VEVENT
UID:https://hbb.rivio.dev/jeugd/2025/wedstrijd/36740
DTSTAMP:20260420T151519Z
SUMMARY:Veldhoven 5 - De Valken 1
DESCRIPTION:Baan 13\, Wedstrijdnummer 119\, Afdeling H-klasse 
DTSTART:20251109T093000
DTEND:20251109T111500
LOCATION:City Resort Helmond
ATTACH;FMTTYPE=text/plain:https://hbb.rivio.dev/jeugd/2025/wedstrijd/36740
END:VEVENT
BEGIN:VEVENT
UID:https://hbb.rivio.dev/jeugd/2025/wedstrijd/36763
DTSTAMP:20260420T151519Z
SUMMARY:Mixed 8 - De Valken 1
DESCRIPTION:Baan 15\, Wedstrijdnummer 122\, Afdeling H-klasse 
DTSTART:20251116T093000
DTEND:20251116T111500
LOCATION:City Resort Helmond
ATTACH;FMTTYPE=text/plain:https://hbb.rivio.dev/jeugd/2025/wedstrijd/36763
END:VEVENT
BEGIN:VEVENT
UID:https://hbb.rivio.dev/jeugd/2025/wedstrijd/36781
DTSTAMP:20260420T151519Z
SUMMARY:De Valken 1 - Mixed 9
DESCRIPTION:Baan 12\, Wedstrijdnummer 127\, Afdeling H-klasse 
DTSTART:20251123T093000
DTEND:20251123T111500
LOCATION:City Resort Helmond
ATTACH;FMTTYPE=text/plain:https://hbb.rivio.dev/jeugd/2025/wedstrijd/36781
END:VEVENT
BEGIN:VEVENT
UID:https://hbb.rivio.dev/jeugd/2025/wedstrijd/36805
DTSTAMP:20260420T151519Z
SUMMARY:De Valken 1 - Ganzeveer 2
DESCRIPTION:Baan 15\, Wedstrijdnummer 133\, Afdeling H-klasse 
DTSTART:20251207T093000
DTEND:20251207T111500
LOCATION:City Resort Helmond
ATTACH;FMTTYPE=text/plain:https://hbb.rivio.dev/jeugd/2025/wedstrijd/36805
END:VEVENT
BEGIN:VEVENT
UID:https://hbb.rivio.dev/jeugd/2025/wedstrijd/36822
DTSTAMP:20260420T151519Z
SUMMARY:Geldrop 2 - De Valken 1
DESCRIPTION:Baan 12\, Wedstrijdnummer 1108\, Afdeling H-klasse 
DTSTART:20260111T093000
DTEND:20260111T111500
LOCATION:City Resort Helmond
ATTACH;FMTTYPE=text/plain:https://hbb.rivio.dev/jeugd/2025/wedstrijd/36822
END:VEVENT
BEGIN:VEVENT
UID:https://hbb.rivio.dev/jeugd/2025/wedstrijd/36845
DTSTAMP:20260420T151519Z
SUMMARY:De Valken 1 - Phoenix 4
DESCRIPTION:Baan 13\, Wedstrijdnummer 1113\, Afdeling H-klasse 
DTSTART:20260125T093000
DTEND:20260125T111500
LOCATION:City Resort Helmond
ATTACH;FMTTYPE=text/plain:https://hbb.rivio.dev/jeugd/2025/wedstrijd/36845
END:VEVENT
BEGIN:VEVENT
UID:https://hbb.rivio.dev/jeugd/2025/wedstrijd/36858
DTSTAMP:20260420T151519Z
SUMMARY:De Valken 1 - Nuenen 4
DESCRIPTION:Baan 15\, Wedstrijdnummer 1116\, Afdeling H-klasse 
DTSTART:20260201T093000
DTEND:20260201T111500
LOCATION:City Resort Helmond
ATTACH;FMTTYPE=text/plain:https://hbb.rivio.dev/jeugd/2025/wedstrijd/36858
END:VEVENT
BEGIN:VEVENT
UID:https://hbb.rivio.dev/jeugd/2025/wedstrijd/36878
DTSTAMP:20260420T151519Z
SUMMARY:De Valken 1 - Veldhoven 5
DESCRIPTION:Baan 13\, Wedstrijdnummer 1119\, Afdeling H-klasse 
DTSTART:20260308T093000
DTEND:20260308T111500
LOCATION:City Resort Helmond
ATTACH;FMTTYPE=text/plain:https://hbb.rivio.dev/jeugd/2025/wedstrijd/36878
END:VEVENT
BEGIN:VEVENT
UID:https://hbb.rivio.dev/jeugd/2025/wedstrijd/36898
DTSTAMP:20260420T151519Z
SUMMARY:De Valken 1 - Mixed 8
DESCRIPTION:Baan 12\, Wedstrijdnummer 1122\, Afdeling H-klasse 
DTSTART:20260322T123000
DTEND:20260322T230000
LOCATION:City Resort Helmond
ATTACH;FMTTYPE=text/plain:https://hbb.rivio.dev/jeugd/2025/wedstrijd/36898
END:VEVENT
BEGIN:VEVENT
UID:https://hbb.rivio.dev/jeugd/2025/wedstrijd/36920
DTSTAMP:20260420T151519Z
SUMMARY:Mixed 9 - De Valken 1
DESCRIPTION:Baan 13\, Wedstrijdnummer 1127\, Afdeling H-klasse 
DTSTART:20260329T123000
DTEND:20260329T230000
LOCATION:City Resort Helmond
ATTACH;FMTTYPE=text/plain:https://hbb.rivio.dev/jeugd/2025/wedstrijd/36920
END:VEVENT
BEGIN:VEVENT
UID:https://hbb.rivio.dev/jeugd/2025/wedstrijd/36943
DTSTAMP:20260420T151519Z
SUMMARY:Ganzeveer 2 - De Valken 1
DESCRIPTION:Baan 15\, Wedstrijdnummer 1133\, Afdeling H-klasse 
DTSTART:20260412T123000
DTEND:20260412T230000
LOCATION:City Resort Helmond
ATTACH;FMTTYPE=text/plain:https://hbb.rivio.dev/jeugd/2025/wedstrijd/36943
END:VEVENT
BEGIN:VTIMEZONE
TZID:Europe/Amsterdam
BEGIN:STANDARD
DTSTART:20250101T000000
TZNAME:CET
TZOFFSETTO:+0100
TZOFFSETFROM:+0100
END:STANDARD
BEGIN:DAYLIGHT
DTSTART:20250330T030000
TZNAME:CEST
TZOFFSETTO:+0200
TZOFFSETFROM:+0100
END:DAYLIGHT
BEGIN:STANDARD
DTSTART:20251026T020000
TZNAME:CET
TZOFFSETTO:+0100
TZOFFSETFROM:+0200
END:STANDARD
BEGIN:DAYLIGHT
DTSTART:20260329T030000
TZNAME:CEST
TZOFFSETTO:+0200
TZOFFSETFROM:+0100
END:DAYLIGHT
BEGIN:STANDARD
DTSTART:20261025T020000
TZNAME:CET
TZOFFSETTO:+0100
TZOFFSETFROM:+0200
END:STANDARD
END:VTIMEZONE
END:VCALENDAR
