BEGIN:VCALENDAR
PRODID:-//eluceo/ical//2.0/EN
VERSION:2.0
CALSCALE:GREGORIAN
BEGIN:VEVENT
UID:https://hbb.rivio.dev/senioren/2025/wedstrijd/36308
DTSTAMP:20260419T164707Z
SUMMARY:BC '85 1 - Someren 5
DESCRIPTION:Baan 1\, Wedstrijdnummer 168\, Afdeling 4e klasse II
DTSTART:20251009T200000
DTEND:20251009T230000
LOCATION:City Resort Helmond
ATTACH;FMTTYPE=text/plain:https://hbb.rivio.dev/senioren/2025/wedstrijd/363
 08
END:VEVENT
BEGIN:VEVENT
UID:https://hbb.rivio.dev/senioren/2025/wedstrijd/36332
DTSTAMP:20260419T164707Z
SUMMARY:Someren 5 - Heiakker 1
DESCRIPTION:Baan 5\, Wedstrijdnummer 171\, Afdeling 4e klasse II
DTSTART:20251023T200000
DTEND:20251023T230000
LOCATION:City Resort Helmond
ATTACH;FMTTYPE=text/plain:https://hbb.rivio.dev/senioren/2025/wedstrijd/363
 32
END:VEVENT
BEGIN:VEVENT
UID:https://hbb.rivio.dev/senioren/2025/wedstrijd/36375
DTSTAMP:20260419T164707Z
SUMMARY:Bakel 5 - Someren 5
DESCRIPTION:Baan 13\, Wedstrijdnummer 174\, Afdeling 4e klasse II
DTSTART:20251106T200000
DTEND:20251106T230000
LOCATION:City Resort Helmond
ATTACH;FMTTYPE=text/plain:https://hbb.rivio.dev/senioren/2025/wedstrijd/363
 75
END:VEVENT
BEGIN:VEVENT
UID:https://hbb.rivio.dev/senioren/2025/wedstrijd/36382
DTSTAMP:20260419T164707Z
SUMMARY:Someren 5 - Phoenix 3
DESCRIPTION:Baan 5\, Wedstrijdnummer 177\, Afdeling 4e klasse II
DTSTART:20251113T200000
DTEND:20251113T230000
LOCATION:City Resort Helmond
ATTACH;FMTTYPE=text/plain:https://hbb.rivio.dev/senioren/2025/wedstrijd/363
 82
END:VEVENT
BEGIN:VEVENT
UID:https://hbb.rivio.dev/senioren/2025/wedstrijd/36407
DTSTAMP:20260419T164707Z
SUMMARY:Gemert 4 - Someren 5
DESCRIPTION:Baan 15\, Wedstrijdnummer 180\, Afdeling 4e klasse II
DTSTART:20251126T200000
DTEND:20251126T230000
LOCATION:City Resort Helmond
ATTACH;FMTTYPE=text/plain:https://hbb.rivio.dev/senioren/2025/wedstrijd/364
 07
END:VEVENT
BEGIN:VEVENT
UID:https://hbb.rivio.dev/senioren/2025/wedstrijd/36432
DTSTAMP:20260419T164707Z
SUMMARY:Someren 5 - Ganzeveer 4
DESCRIPTION:Baan 11\, Wedstrijdnummer 3014\, Afdeling 4e klasse II
DTSTART:20251204T200000
DTEND:20251204T230000
LOCATION:City Resort Helmond
ATTACH;FMTTYPE=text/plain:https://hbb.rivio.dev/senioren/2025/wedstrijd/364
 32
END:VEVENT
BEGIN:VEVENT
UID:https://hbb.rivio.dev/senioren/2025/wedstrijd/36467
DTSTAMP:20260419T164707Z
SUMMARY:Someren 5 - De Valken 5
DESCRIPTION:Baan 1\, Wedstrijdnummer 183\, Afdeling 4e klasse II
DTSTART:20260108T200000
DTEND:20260108T230000
LOCATION:City Resort Helmond
ATTACH;FMTTYPE=text/plain:https://hbb.rivio.dev/senioren/2025/wedstrijd/364
 67
END:VEVENT
BEGIN:VEVENT
UID:https://hbb.rivio.dev/senioren/2025/wedstrijd/36511
DTSTAMP:20260419T164707Z
SUMMARY:Someren 5 - BC '85 1
DESCRIPTION:Baan 12\, Wedstrijdnummer 1168\, Afdeling 4e klasse II
DTSTART:20260122T200000
DTEND:20260122T230000
LOCATION:City Resort Helmond
ATTACH;FMTTYPE=text/plain:https://hbb.rivio.dev/senioren/2025/wedstrijd/365
 11
END:VEVENT
BEGIN:VEVENT
UID:https://hbb.rivio.dev/senioren/2025/wedstrijd/36554
DTSTAMP:20260419T164707Z
SUMMARY:Heiakker 1 - Someren 5
DESCRIPTION:Baan 3\, Wedstrijdnummer 1171\, Afdeling 4e klasse II
DTSTART:20260212T200000
DTEND:20260212T230000
LOCATION:City Resort Helmond
ATTACH;FMTTYPE=text/plain:https://hbb.rivio.dev/senioren/2025/wedstrijd/365
 54
END:VEVENT
BEGIN:VEVENT
UID:https://hbb.rivio.dev/senioren/2025/wedstrijd/36577
DTSTAMP:20260419T164707Z
SUMMARY:Someren 5 - Bakel 5
DESCRIPTION:Baan 11\, Wedstrijdnummer 1174\, Afdeling 4e klasse II
DTSTART:20260226T200000
DTEND:20260226T230000
LOCATION:City Resort Helmond
ATTACH;FMTTYPE=text/plain:https://hbb.rivio.dev/senioren/2025/wedstrijd/365
 77
END:VEVENT
BEGIN:VEVENT
UID:https://hbb.rivio.dev/senioren/2025/wedstrijd/36588
DTSTAMP:20260419T164707Z
SUMMARY:Phoenix 3 - Someren 5
DESCRIPTION:Baan 12\, Wedstrijdnummer 1177\, Afdeling 4e klasse II
DTSTART:20260304T200000
DTEND:20260304T230000
LOCATION:City Resort Helmond
ATTACH;FMTTYPE=text/plain:https://hbb.rivio.dev/senioren/2025/wedstrijd/365
 88
END:VEVENT
BEGIN:VEVENT
UID:https://hbb.rivio.dev/senioren/2025/wedstrijd/36629
DTSTAMP:20260419T164707Z
SUMMARY:Someren 5 - Gemert 4
DESCRIPTION:Baan 1\, Wedstrijdnummer 1180\, Afdeling 4e klasse II
DTSTART:20260326T200000
DTEND:20260326T230000
LOCATION:City Resort Helmond
ATTACH;FMTTYPE=text/plain:https://hbb.rivio.dev/senioren/2025/wedstrijd/366
 29
END:VEVENT
BEGIN:VEVENT
UID:https://hbb.rivio.dev/senioren/2025/wedstrijd/36654
DTSTAMP:20260419T164707Z
SUMMARY:De Valken 5 - Someren 5
DESCRIPTION:Baan 12\, Wedstrijdnummer 1183\, Afdeling 4e klasse II
DTSTART:20260402T200000
DTEND:20260402T230000
LOCATION:City Resort Helmond
ATTACH;FMTTYPE=text/plain:https://hbb.rivio.dev/senioren/2025/wedstrijd/366
 54
END:VEVENT
BEGIN:VTIMEZONE
TZID:Europe/Amsterdam
BEGIN:STANDARD
DTSTART:20250101T000000
TZNAME:CET
TZOFFSETTO:+0100
TZOFFSETFROM:+0100
END:STANDARD
BEGIN:DAYLIGHT
DTSTART:20250330T030000
TZNAME:CEST
TZOFFSETTO:+0200
TZOFFSETFROM:+0100
END:DAYLIGHT
BEGIN:STANDARD
DTSTART:20251026T020000
TZNAME:CET
TZOFFSETTO:+0100
TZOFFSETFROM:+0200
END:STANDARD
BEGIN:DAYLIGHT
DTSTART:20260329T030000
TZNAME:CEST
TZOFFSETTO:+0200
TZOFFSETFROM:+0100
END:DAYLIGHT
BEGIN:STANDARD
DTSTART:20261025T020000
TZNAME:CET
TZOFFSETTO:+0100
TZOFFSETFROM:+0200
END:STANDARD
END:VTIMEZONE
END:VCALENDAR
