BEGIN:VCALENDAR
PRODID:-//eluceo/ical//2.0/EN
VERSION:2.0
CALSCALE:GREGORIAN
BEGIN:VEVENT
UID:https://hbb.rivio.dev/senioren/2025/wedstrijd/36291
DTSTAMP:20260419T150253Z
SUMMARY:Someren 4 - Mierlo 8
DESCRIPTION:Baan 4\, Wedstrijdnummer 115\, Afdeling 3e klasse I
DTSTART:20251002T200000
DTEND:20251002T230000
LOCATION:City Resort Helmond
ATTACH;FMTTYPE=text/plain:https://hbb.rivio.dev/senioren/2025/wedstrijd/362
 91
END:VEVENT
BEGIN:VEVENT
UID:https://hbb.rivio.dev/senioren/2025/wedstrijd/36315
DTSTAMP:20260419T150253Z
SUMMARY:Someren 4 - Geldrop 3
DESCRIPTION:Baan 13\, Wedstrijdnummer 119\, Afdeling 3e klasse I
DTSTART:20251009T200000
DTEND:20251009T230000
LOCATION:City Resort Helmond
ATTACH;FMTTYPE=text/plain:https://hbb.rivio.dev/senioren/2025/wedstrijd/363
 15
END:VEVENT
BEGIN:VEVENT
UID:https://hbb.rivio.dev/senioren/2025/wedstrijd/36374
DTSTAMP:20260419T150253Z
SUMMARY:Con Brio 4 - Someren 4
DESCRIPTION:Baan 12\, Wedstrijdnummer 122\, Afdeling 3e klasse I
DTSTART:20251106T200000
DTEND:20251106T230000
LOCATION:City Resort Helmond
ATTACH;FMTTYPE=text/plain:https://hbb.rivio.dev/senioren/2025/wedstrijd/363
 74
END:VEVENT
BEGIN:VEVENT
UID:https://hbb.rivio.dev/senioren/2025/wedstrijd/36391
DTSTAMP:20260419T150253Z
SUMMARY:Veldhoven 1 - Someren 4
DESCRIPTION:Baan 4\, Wedstrijdnummer 124\, Afdeling 3e klasse I
DTSTART:20251120T200000
DTEND:20251120T230000
LOCATION:City Resort Helmond
ATTACH;FMTTYPE=text/plain:https://hbb.rivio.dev/senioren/2025/wedstrijd/363
 91
END:VEVENT
BEGIN:VEVENT
UID:https://hbb.rivio.dev/senioren/2025/wedstrijd/36422
DTSTAMP:20260419T150253Z
SUMMARY:Phoenix 2 - Someren 4
DESCRIPTION:Baan 5\, Wedstrijdnummer 3012\, Afdeling 3e klasse II
DTSTART:20251203T200000
DTEND:20251203T230000
LOCATION:City Resort Helmond
ATTACH;FMTTYPE=text/plain:https://hbb.rivio.dev/senioren/2025/wedstrijd/364
 22
END:VEVENT
BEGIN:VEVENT
UID:https://hbb.rivio.dev/senioren/2025/wedstrijd/36444
DTSTAMP:20260419T150253Z
SUMMARY:Gemert 2 - Someren 4
DESCRIPTION:Baan 13\, Wedstrijdnummer 126\, Afdeling 3e klasse I
DTSTART:20251210T200000
DTEND:20251210T230000
LOCATION:City Resort Helmond
ATTACH;FMTTYPE=text/plain:https://hbb.rivio.dev/senioren/2025/wedstrijd/364
 44
END:VEVENT
BEGIN:VEVENT
UID:https://hbb.rivio.dev/senioren/2025/wedstrijd/36493
DTSTAMP:20260419T150253Z
SUMMARY:Mierlo 8 - Someren 4
DESCRIPTION:Baan 12\, Wedstrijdnummer 1115\, Afdeling 3e klasse I
DTSTART:20260115T200000
DTEND:20260115T230000
LOCATION:City Resort Helmond
ATTACH;FMTTYPE=text/plain:https://hbb.rivio.dev/senioren/2025/wedstrijd/364
 93
END:VEVENT
BEGIN:VEVENT
UID:https://hbb.rivio.dev/senioren/2025/wedstrijd/36525
DTSTAMP:20260419T150253Z
SUMMARY:Geldrop 3 - Someren 4
DESCRIPTION:Baan 3\, Wedstrijdnummer 1119\, Afdeling 3e klasse I
DTSTART:20260204T200000
DTEND:20260204T230000
LOCATION:City Resort Helmond
ATTACH;FMTTYPE=text/plain:https://hbb.rivio.dev/senioren/2025/wedstrijd/365
 25
END:VEVENT
BEGIN:VEVENT
UID:https://hbb.rivio.dev/senioren/2025/wedstrijd/36581
DTSTAMP:20260419T150253Z
SUMMARY:Someren 4 - Con Brio 4
DESCRIPTION:Baan 15\, Wedstrijdnummer 1122\, Afdeling 3e klasse I
DTSTART:20260226T200000
DTEND:20260226T230000
LOCATION:City Resort Helmond
ATTACH;FMTTYPE=text/plain:https://hbb.rivio.dev/senioren/2025/wedstrijd/365
 81
END:VEVENT
BEGIN:VEVENT
UID:https://hbb.rivio.dev/senioren/2025/wedstrijd/36613
DTSTAMP:20260419T150253Z
SUMMARY:Someren 4 - Veldhoven 1
DESCRIPTION:Baan 4\, Wedstrijdnummer 1124\, Afdeling 3e klasse I
DTSTART:20260319T200000
DTEND:20260319T230000
LOCATION:City Resort Helmond
ATTACH;FMTTYPE=text/plain:https://hbb.rivio.dev/senioren/2025/wedstrijd/366
 13
END:VEVENT
BEGIN:VEVENT
UID:https://hbb.rivio.dev/senioren/2025/wedstrijd/36637
DTSTAMP:20260419T150253Z
SUMMARY:Someren 4 - Gemert 2
DESCRIPTION:Baan 14\, Wedstrijdnummer 1126\, Afdeling 3e klasse I
DTSTART:20260326T200000
DTEND:20260326T230000
LOCATION:City Resort Helmond
ATTACH;FMTTYPE=text/plain:https://hbb.rivio.dev/senioren/2025/wedstrijd/366
 37
END:VEVENT
BEGIN:VTIMEZONE
TZID:Europe/Amsterdam
BEGIN:STANDARD
DTSTART:20250101T000000
TZNAME:CET
TZOFFSETTO:+0100
TZOFFSETFROM:+0100
END:STANDARD
BEGIN:DAYLIGHT
DTSTART:20250330T030000
TZNAME:CEST
TZOFFSETTO:+0200
TZOFFSETFROM:+0100
END:DAYLIGHT
BEGIN:STANDARD
DTSTART:20251026T020000
TZNAME:CET
TZOFFSETTO:+0100
TZOFFSETFROM:+0200
END:STANDARD
BEGIN:DAYLIGHT
DTSTART:20260329T030000
TZNAME:CEST
TZOFFSETTO:+0200
TZOFFSETFROM:+0100
END:DAYLIGHT
BEGIN:STANDARD
DTSTART:20261025T020000
TZNAME:CET
TZOFFSETTO:+0100
TZOFFSETFROM:+0200
END:STANDARD
END:VTIMEZONE
END:VCALENDAR
