BEGIN:VCALENDAR
PRODID:-//eluceo/ical//2.0/EN
VERSION:2.0
CALSCALE:GREGORIAN
BEGIN:VEVENT
UID:https://hbb.rivio.dev/senioren/2025/wedstrijd/36310
DTSTAMP:20260419T200651Z
SUMMARY:Someren 3 - Heeze 2
DESCRIPTION:Baan 3\, Wedstrijdnummer 129\, Afdeling 3e klasse II
DTSTART:20251009T200000
DTEND:20251009T230000
LOCATION:City Resort Helmond
ATTACH;FMTTYPE=text/plain:https://hbb.rivio.dev/senioren/2025/wedstrijd/363
 10
END:VEVENT
BEGIN:VEVENT
UID:https://hbb.rivio.dev/senioren/2025/wedstrijd/36335
DTSTAMP:20260419T200651Z
SUMMARY:Mierlo 7 - Someren 3
DESCRIPTION:Baan 13\, Wedstrijdnummer 132\, Afdeling 3e klasse II
DTSTART:20251023T200000
DTEND:20251023T230000
LOCATION:City Resort Helmond
ATTACH;FMTTYPE=text/plain:https://hbb.rivio.dev/senioren/2025/wedstrijd/363
 35
END:VEVENT
BEGIN:VEVENT
UID:https://hbb.rivio.dev/senioren/2025/wedstrijd/36385
DTSTAMP:20260419T200651Z
SUMMARY:Someren 3 - Ganzeveer 3
DESCRIPTION:Baan 13\, Wedstrijdnummer 135\, Afdeling 3e klasse II
DTSTART:20251113T200000
DTEND:20251113T230000
LOCATION:City Resort Helmond
ATTACH;FMTTYPE=text/plain:https://hbb.rivio.dev/senioren/2025/wedstrijd/363
 85
END:VEVENT
BEGIN:VEVENT
UID:https://hbb.rivio.dev/senioren/2025/wedstrijd/36417
DTSTAMP:20260419T200651Z
SUMMARY:Someren 3 - RBC 2
DESCRIPTION:Baan 15\, Wedstrijdnummer 141\, Afdeling 3e klasse II
DTSTART:20251127T200000
DTEND:20251127T230000
LOCATION:City Resort Helmond
ATTACH;FMTTYPE=text/plain:https://hbb.rivio.dev/senioren/2025/wedstrijd/364
 17
END:VEVENT
BEGIN:VEVENT
UID:https://hbb.rivio.dev/senioren/2025/wedstrijd/36430
DTSTAMP:20260419T200651Z
SUMMARY:Someren 3 - Veldhoven 1
DESCRIPTION:Baan 4\, Wedstrijdnummer 3010\, Afdeling 3e klasse II
DTSTART:20251204T200000
DTEND:20251204T230000
LOCATION:City Resort Helmond
ATTACH;FMTTYPE=text/plain:https://hbb.rivio.dev/senioren/2025/wedstrijd/364
 30
END:VEVENT
BEGIN:VEVENT
UID:https://hbb.rivio.dev/senioren/2025/wedstrijd/36438
DTSTAMP:20260419T200651Z
SUMMARY:Phoenix 2 - Someren 3
DESCRIPTION:Baan 2\, Wedstrijdnummer 138\, Afdeling 3e klasse II
DTSTART:20251210T200000
DTEND:20251210T230000
LOCATION:City Resort Helmond
ATTACH;FMTTYPE=text/plain:https://hbb.rivio.dev/senioren/2025/wedstrijd/364
 38
END:VEVENT
BEGIN:VEVENT
UID:https://hbb.rivio.dev/senioren/2025/wedstrijd/36513
DTSTAMP:20260419T200651Z
SUMMARY:Heeze 2 - Someren 3
DESCRIPTION:Baan 14\, Wedstrijdnummer 1129\, Afdeling 3e klasse II
DTSTART:20260122T200000
DTEND:20260122T230000
LOCATION:City Resort Helmond
ATTACH;FMTTYPE=text/plain:https://hbb.rivio.dev/senioren/2025/wedstrijd/365
 13
END:VEVENT
BEGIN:VEVENT
UID:https://hbb.rivio.dev/senioren/2025/wedstrijd/36556
DTSTAMP:20260419T200651Z
SUMMARY:Someren 3 - Mierlo 7
DESCRIPTION:Baan 5\, Wedstrijdnummer 1132\, Afdeling 3e klasse II
DTSTART:20260212T200000
DTEND:20260212T230000
LOCATION:City Resort Helmond
ATTACH;FMTTYPE=text/plain:https://hbb.rivio.dev/senioren/2025/wedstrijd/365
 56
END:VEVENT
BEGIN:VEVENT
UID:https://hbb.rivio.dev/senioren/2025/wedstrijd/36590
DTSTAMP:20260419T200651Z
SUMMARY:Ganzeveer 3 - Someren 3
DESCRIPTION:Baan 14\, Wedstrijdnummer 1135\, Afdeling 3e klasse II
DTSTART:20260304T200000
DTEND:20260304T230000
LOCATION:City Resort Helmond
ATTACH;FMTTYPE=text/plain:https://hbb.rivio.dev/senioren/2025/wedstrijd/365
 90
END:VEVENT
BEGIN:VEVENT
UID:https://hbb.rivio.dev/senioren/2025/wedstrijd/36632
DTSTAMP:20260419T200651Z
SUMMARY:Someren 3 - Phoenix 2
DESCRIPTION:Baan 4\, Wedstrijdnummer 1138\, Afdeling 3e klasse II
DTSTART:20260326T200000
DTEND:20260326T230000
LOCATION:City Resort Helmond
ATTACH;FMTTYPE=text/plain:https://hbb.rivio.dev/senioren/2025/wedstrijd/366
 32
END:VEVENT
BEGIN:VEVENT
UID:https://hbb.rivio.dev/senioren/2025/wedstrijd/36657
DTSTAMP:20260419T200651Z
SUMMARY:RBC 2 - Someren 3
DESCRIPTION:Baan 15\, Wedstrijdnummer 1141\, Afdeling 3e klasse II
DTSTART:20260402T200000
DTEND:20260402T230000
LOCATION:City Resort Helmond
ATTACH;FMTTYPE=text/plain:https://hbb.rivio.dev/senioren/2025/wedstrijd/366
 57
END:VEVENT
BEGIN:VTIMEZONE
TZID:Europe/Amsterdam
BEGIN:STANDARD
DTSTART:20250101T000000
TZNAME:CET
TZOFFSETTO:+0100
TZOFFSETFROM:+0100
END:STANDARD
BEGIN:DAYLIGHT
DTSTART:20250330T030000
TZNAME:CEST
TZOFFSETTO:+0200
TZOFFSETFROM:+0100
END:DAYLIGHT
BEGIN:STANDARD
DTSTART:20251026T020000
TZNAME:CET
TZOFFSETTO:+0100
TZOFFSETFROM:+0200
END:STANDARD
BEGIN:DAYLIGHT
DTSTART:20260329T030000
TZNAME:CEST
TZOFFSETTO:+0200
TZOFFSETFROM:+0100
END:DAYLIGHT
BEGIN:STANDARD
DTSTART:20261025T020000
TZNAME:CET
TZOFFSETTO:+0100
TZOFFSETFROM:+0200
END:STANDARD
END:VTIMEZONE
END:VCALENDAR
