BEGIN:VCALENDAR
PRODID:-//eluceo/ical//2.0/EN
VERSION:2.0
CALSCALE:GREGORIAN
BEGIN:VEVENT
UID:https://hbb.rivio.dev/senioren/2025/wedstrijd/36272
DTSTAMP:20260419T150601Z
SUMMARY:De Valken 2 - Someren 1
DESCRIPTION:Baan 5\, Wedstrijdnummer 30\, Afdeling Hoofdklasse 
DTSTART:20250925T200000
DTEND:20250925T230000
LOCATION:City Resort Helmond
ATTACH;FMTTYPE=text/plain:https://hbb.rivio.dev/senioren/2025/wedstrijd/362
 72
END:VEVENT
BEGIN:VEVENT
UID:https://hbb.rivio.dev/senioren/2025/wedstrijd/36292
DTSTAMP:20260419T150601Z
SUMMARY:Someren 1 - Bakel 2
DESCRIPTION:Baan 5\, Wedstrijdnummer 33\, Afdeling Hoofdklasse 
DTSTART:20251002T200000
DTEND:20251002T230000
LOCATION:City Resort Helmond
ATTACH;FMTTYPE=text/plain:https://hbb.rivio.dev/senioren/2025/wedstrijd/362
 92
END:VEVENT
BEGIN:VEVENT
UID:https://hbb.rivio.dev/senioren/2025/wedstrijd/36317
DTSTAMP:20260419T150601Z
SUMMARY:Someren 1 - Mixed 2
DESCRIPTION:Baan 15\, Wedstrijdnummer 38\, Afdeling Hoofdklasse 
DTSTART:20251009T200000
DTEND:20251009T230000
LOCATION:City Resort Helmond
ATTACH;FMTTYPE=text/plain:https://hbb.rivio.dev/senioren/2025/wedstrijd/363
 17
END:VEVENT
BEGIN:VEVENT
UID:https://hbb.rivio.dev/senioren/2025/wedstrijd/36355
DTSTAMP:20260419T150601Z
SUMMARY:Someren 1 - Ganzeveer 1
DESCRIPTION:Baan 13\, Wedstrijdnummer 43\, Afdeling Hoofdklasse 
DTSTART:20251030T200000
DTEND:20251030T230000
LOCATION:City Resort Helmond
ATTACH;FMTTYPE=text/plain:https://hbb.rivio.dev/senioren/2025/wedstrijd/363
 55
END:VEVENT
BEGIN:VEVENT
UID:https://hbb.rivio.dev/senioren/2025/wedstrijd/36378
DTSTAMP:20260419T150601Z
SUMMARY:Someren 1 - Venray 1
DESCRIPTION:Baan 1\, Wedstrijdnummer 48\, Afdeling Hoofdklasse 
DTSTART:20251113T200000
DTEND:20251113T230000
LOCATION:City Resort Helmond
ATTACH;FMTTYPE=text/plain:https://hbb.rivio.dev/senioren/2025/wedstrijd/363
 78
END:VEVENT
BEGIN:VEVENT
UID:https://hbb.rivio.dev/senioren/2025/wedstrijd/36393
DTSTAMP:20260419T150601Z
SUMMARY:RBC 1 - Someren 1
DESCRIPTION:Baan 11\, Wedstrijdnummer 52\, Afdeling Hoofdklasse 
DTSTART:20251120T200000
DTEND:20251120T230000
LOCATION:City Resort Helmond
ATTACH;FMTTYPE=text/plain:https://hbb.rivio.dev/senioren/2025/wedstrijd/363
 93
END:VEVENT
BEGIN:VEVENT
UID:https://hbb.rivio.dev/senioren/2025/wedstrijd/36414
DTSTAMP:20260419T150601Z
SUMMARY:Mierlo 2 - Someren 1
DESCRIPTION:Baan 12\, Wedstrijdnummer 55\, Afdeling Hoofdklasse 
DTSTART:20251127T200000
DTEND:20251127T230000
LOCATION:City Resort Helmond
ATTACH;FMTTYPE=text/plain:https://hbb.rivio.dev/senioren/2025/wedstrijd/364
 14
END:VEVENT
BEGIN:VEVENT
UID:https://hbb.rivio.dev/senioren/2025/wedstrijd/36471
DTSTAMP:20260419T150601Z
SUMMARY:Someren 1 - De Valken 2
DESCRIPTION:Baan 5\, Wedstrijdnummer 1030\, Afdeling Hoofdklasse 
DTSTART:20260108T200000
DTEND:20260108T230000
LOCATION:City Resort Helmond
ATTACH;FMTTYPE=text/plain:https://hbb.rivio.dev/senioren/2025/wedstrijd/364
 71
END:VEVENT
BEGIN:VEVENT
UID:https://hbb.rivio.dev/senioren/2025/wedstrijd/36495
DTSTAMP:20260419T150601Z
SUMMARY:Bakel 2 - Someren 1
DESCRIPTION:Baan 14\, Wedstrijdnummer 1033\, Afdeling Hoofdklasse 
DTSTART:20260115T200000
DTEND:20260115T230000
LOCATION:City Resort Helmond
ATTACH;FMTTYPE=text/plain:https://hbb.rivio.dev/senioren/2025/wedstrijd/364
 95
END:VEVENT
BEGIN:VEVENT
UID:https://hbb.rivio.dev/senioren/2025/wedstrijd/36515
DTSTAMP:20260419T150601Z
SUMMARY:Ganzeveer 1 - Someren 1
DESCRIPTION:Baan 3\, Wedstrijdnummer 3027\, Afdeling Hoofdklasse 
DTSTART:20260128T200000
DTEND:20260128T230000
LOCATION:City Resort Helmond
ATTACH;FMTTYPE=text/plain:https://hbb.rivio.dev/senioren/2025/wedstrijd/365
 15
END:VEVENT
BEGIN:VEVENT
UID:https://hbb.rivio.dev/senioren/2025/wedstrijd/36537
DTSTAMP:20260419T150601Z
SUMMARY:Mixed 2 - Someren 1
DESCRIPTION:Baan 5\, Wedstrijdnummer 1038\, Afdeling Hoofdklasse 
DTSTART:20260205T200000
DTEND:20260205T230000
LOCATION:City Resort Helmond
ATTACH;FMTTYPE=text/plain:https://hbb.rivio.dev/senioren/2025/wedstrijd/365
 37
END:VEVENT
BEGIN:VEVENT
UID:https://hbb.rivio.dev/senioren/2025/wedstrijd/36550
DTSTAMP:20260419T150601Z
SUMMARY:Ganzeveer 1 - Someren 1
DESCRIPTION:Baan 13\, Wedstrijdnummer 1043\, Afdeling Hoofdklasse 
DTSTART:20260211T200000
DTEND:20260211T230000
LOCATION:City Resort Helmond
ATTACH;FMTTYPE=text/plain:https://hbb.rivio.dev/senioren/2025/wedstrijd/365
 50
END:VEVENT
BEGIN:VEVENT
UID:https://hbb.rivio.dev/senioren/2025/wedstrijd/36582
DTSTAMP:20260419T150601Z
SUMMARY:Venray 1 - Someren 1
DESCRIPTION:Baan 1\, Wedstrijdnummer 1048\, Afdeling Hoofdklasse 
DTSTART:20260304T200000
DTEND:20260304T230000
LOCATION:City Resort Helmond
ATTACH;FMTTYPE=text/plain:https://hbb.rivio.dev/senioren/2025/wedstrijd/365
 82
END:VEVENT
BEGIN:VEVENT
UID:https://hbb.rivio.dev/senioren/2025/wedstrijd/36617
DTSTAMP:20260419T150601Z
SUMMARY:Someren 1 - RBC 1
DESCRIPTION:Baan 13\, Wedstrijdnummer 1052\, Afdeling Hoofdklasse 
DTSTART:20260319T200000
DTEND:20260319T230000
LOCATION:City Resort Helmond
ATTACH;FMTTYPE=text/plain:https://hbb.rivio.dev/senioren/2025/wedstrijd/366
 17
END:VEVENT
BEGIN:VEVENT
UID:https://hbb.rivio.dev/senioren/2025/wedstrijd/36649
DTSTAMP:20260419T150601Z
SUMMARY:Someren 1 - Mierlo 2
DESCRIPTION:Baan 2\, Wedstrijdnummer 1055\, Afdeling Hoofdklasse 
DTSTART:20260402T200000
DTEND:20260402T230000
LOCATION:City Resort Helmond
ATTACH;FMTTYPE=text/plain:https://hbb.rivio.dev/senioren/2025/wedstrijd/366
 49
END:VEVENT
BEGIN:VTIMEZONE
TZID:Europe/Amsterdam
BEGIN:STANDARD
DTSTART:20250101T000000
TZNAME:CET
TZOFFSETTO:+0100
TZOFFSETFROM:+0100
END:STANDARD
BEGIN:DAYLIGHT
DTSTART:20250330T030000
TZNAME:CEST
TZOFFSETTO:+0200
TZOFFSETFROM:+0100
END:DAYLIGHT
BEGIN:STANDARD
DTSTART:20251026T020000
TZNAME:CET
TZOFFSETTO:+0100
TZOFFSETFROM:+0200
END:STANDARD
BEGIN:DAYLIGHT
DTSTART:20260329T030000
TZNAME:CEST
TZOFFSETTO:+0200
TZOFFSETFROM:+0100
END:DAYLIGHT
BEGIN:STANDARD
DTSTART:20261025T020000
TZNAME:CET
TZOFFSETTO:+0100
TZOFFSETFROM:+0200
END:STANDARD
END:VTIMEZONE
END:VCALENDAR
