BEGIN:VCALENDAR
PRODID:-//eluceo/ical//2.0/EN
VERSION:2.0
CALSCALE:GREGORIAN
BEGIN:VEVENT
UID:https://hbb.rivio.dev/jeugd/2025/wedstrijd/36675
DTSTAMP:20260420T220444Z
SUMMARY:De Valken 1 - Geldrop 2
DESCRIPTION:Baan 11\, Wedstrijdnummer 108\, Afdeling H-klasse 
DTSTART:20250921T093000
DTEND:20250921T111500
LOCATION:City Resort Helmond
ATTACH;FMTTYPE=text/plain:https://hbb.rivio.dev/jeugd/2025/wedstrijd/36675
END:VEVENT
BEGIN:VEVENT
UID:https://hbb.rivio.dev/jeugd/2025/wedstrijd/36697
DTSTAMP:20260420T220444Z
SUMMARY:Geldrop 2 - Mixed 8
DESCRIPTION:Baan 12\, Wedstrijdnummer 110\, Afdeling H-klasse 
DTSTART:20250928T123000
DTEND:20250928T230000
LOCATION:City Resort Helmond
ATTACH;FMTTYPE=text/plain:https://hbb.rivio.dev/jeugd/2025/wedstrijd/36697
END:VEVENT
BEGIN:VEVENT
UID:https://hbb.rivio.dev/jeugd/2025/wedstrijd/36720
DTSTAMP:20260420T220444Z
SUMMARY:Geldrop 2 - Ganzeveer 2
DESCRIPTION:Baan 13\, Wedstrijdnummer 115\, Afdeling H-klasse 
DTSTART:20251102T093000
DTEND:20251102T111500
LOCATION:City Resort Helmond
ATTACH;FMTTYPE=text/plain:https://hbb.rivio.dev/jeugd/2025/wedstrijd/36720
END:VEVENT
BEGIN:VEVENT
UID:https://hbb.rivio.dev/jeugd/2025/wedstrijd/36741
DTSTAMP:20260420T220444Z
SUMMARY:Geldrop 2 - Phoenix 4
DESCRIPTION:Baan 14\, Wedstrijdnummer 120\, Afdeling H-klasse 
DTSTART:20251109T093000
DTEND:20251109T111500
LOCATION:City Resort Helmond
ATTACH;FMTTYPE=text/plain:https://hbb.rivio.dev/jeugd/2025/wedstrijd/36741
END:VEVENT
BEGIN:VEVENT
UID:https://hbb.rivio.dev/jeugd/2025/wedstrijd/36762
DTSTAMP:20260420T220444Z
SUMMARY:Geldrop 2 - Nuenen 4
DESCRIPTION:Baan 14\, Wedstrijdnummer 125\, Afdeling H-klasse 
DTSTART:20251116T093000
DTEND:20251116T111500
LOCATION:City Resort Helmond
ATTACH;FMTTYPE=text/plain:https://hbb.rivio.dev/jeugd/2025/wedstrijd/36762
END:VEVENT
BEGIN:VEVENT
UID:https://hbb.rivio.dev/jeugd/2025/wedstrijd/36779
DTSTAMP:20260420T220444Z
SUMMARY:Veldhoven 5 - Geldrop 2
DESCRIPTION:Baan 10\, Wedstrijdnummer 129\, Afdeling H-klasse 
DTSTART:20251123T093000
DTEND:20251123T111500
LOCATION:City Resort Helmond
ATTACH;FMTTYPE=text/plain:https://hbb.rivio.dev/jeugd/2025/wedstrijd/36779
END:VEVENT
BEGIN:VEVENT
UID:https://hbb.rivio.dev/jeugd/2025/wedstrijd/36803
DTSTAMP:20260420T220444Z
SUMMARY:Mixed 9 - Geldrop 2
DESCRIPTION:Baan 13\, Wedstrijdnummer 131\, Afdeling H-klasse 
DTSTART:20251207T093000
DTEND:20251207T111500
LOCATION:City Resort Helmond
ATTACH;FMTTYPE=text/plain:https://hbb.rivio.dev/jeugd/2025/wedstrijd/36803
END:VEVENT
BEGIN:VEVENT
UID:https://hbb.rivio.dev/jeugd/2025/wedstrijd/36822
DTSTAMP:20260420T220444Z
SUMMARY:Geldrop 2 - De Valken 1
DESCRIPTION:Baan 12\, Wedstrijdnummer 1108\, Afdeling H-klasse 
DTSTART:20260111T093000
DTEND:20260111T111500
LOCATION:City Resort Helmond
ATTACH;FMTTYPE=text/plain:https://hbb.rivio.dev/jeugd/2025/wedstrijd/36822
END:VEVENT
BEGIN:VEVENT
UID:https://hbb.rivio.dev/jeugd/2025/wedstrijd/36842
DTSTAMP:20260420T220445Z
SUMMARY:Mixed 8 - Geldrop 2
DESCRIPTION:Baan 10\, Wedstrijdnummer 1110\, Afdeling H-klasse 
DTSTART:20260125T093000
DTEND:20260125T111500
LOCATION:City Resort Helmond
ATTACH;FMTTYPE=text/plain:https://hbb.rivio.dev/jeugd/2025/wedstrijd/36842
END:VEVENT
BEGIN:VEVENT
UID:https://hbb.rivio.dev/jeugd/2025/wedstrijd/36857
DTSTAMP:20260420T220445Z
SUMMARY:Ganzeveer 2 - Geldrop 2
DESCRIPTION:Baan 14\, Wedstrijdnummer 1115\, Afdeling H-klasse 
DTSTART:20260201T093000
DTEND:20260201T111500
LOCATION:City Resort Helmond
ATTACH;FMTTYPE=text/plain:https://hbb.rivio.dev/jeugd/2025/wedstrijd/36857
END:VEVENT
BEGIN:VEVENT
UID:https://hbb.rivio.dev/jeugd/2025/wedstrijd/36879
DTSTAMP:20260420T220445Z
SUMMARY:Phoenix 4 - Geldrop 2
DESCRIPTION:Baan 14\, Wedstrijdnummer 1120\, Afdeling H-klasse 
DTSTART:20260308T093000
DTEND:20260308T111500
LOCATION:City Resort Helmond
ATTACH;FMTTYPE=text/plain:https://hbb.rivio.dev/jeugd/2025/wedstrijd/36879
END:VEVENT
BEGIN:VEVENT
UID:https://hbb.rivio.dev/jeugd/2025/wedstrijd/36901
DTSTAMP:20260420T220445Z
SUMMARY:Nuenen 4 - Geldrop 2
DESCRIPTION:Baan 15\, Wedstrijdnummer 1125\, Afdeling H-klasse 
DTSTART:20260322T123000
DTEND:20260322T230000
LOCATION:City Resort Helmond
ATTACH;FMTTYPE=text/plain:https://hbb.rivio.dev/jeugd/2025/wedstrijd/36901
END:VEVENT
BEGIN:VEVENT
UID:https://hbb.rivio.dev/jeugd/2025/wedstrijd/36922
DTSTAMP:20260420T220445Z
SUMMARY:Geldrop 2 - Veldhoven 5
DESCRIPTION:Baan 15\, Wedstrijdnummer 1129\, Afdeling H-klasse 
DTSTART:20260329T123000
DTEND:20260329T230000
LOCATION:City Resort Helmond
ATTACH;FMTTYPE=text/plain:https://hbb.rivio.dev/jeugd/2025/wedstrijd/36922
END:VEVENT
BEGIN:VEVENT
UID:https://hbb.rivio.dev/jeugd/2025/wedstrijd/36941
DTSTAMP:20260420T220445Z
SUMMARY:Geldrop 2 - Mixed 9
DESCRIPTION:Baan 13\, Wedstrijdnummer 1131\, Afdeling H-klasse 
DTSTART:20260412T123000
DTEND:20260412T230000
LOCATION:City Resort Helmond
ATTACH;FMTTYPE=text/plain:https://hbb.rivio.dev/jeugd/2025/wedstrijd/36941
END:VEVENT
BEGIN:VTIMEZONE
TZID:Europe/Amsterdam
BEGIN:STANDARD
DTSTART:20250101T000000
TZNAME:CET
TZOFFSETTO:+0100
TZOFFSETFROM:+0100
END:STANDARD
BEGIN:DAYLIGHT
DTSTART:20250330T030000
TZNAME:CEST
TZOFFSETTO:+0200
TZOFFSETFROM:+0100
END:DAYLIGHT
BEGIN:STANDARD
DTSTART:20251026T020000
TZNAME:CET
TZOFFSETTO:+0100
TZOFFSETFROM:+0200
END:STANDARD
BEGIN:DAYLIGHT
DTSTART:20260329T030000
TZNAME:CEST
TZOFFSETTO:+0200
TZOFFSETFROM:+0100
END:DAYLIGHT
BEGIN:STANDARD
DTSTART:20261025T020000
TZNAME:CET
TZOFFSETTO:+0100
TZOFFSETFROM:+0200
END:STANDARD
END:VTIMEZONE
END:VCALENDAR
