BEGIN:VCALENDAR
PRODID:-//eluceo/ical//2.0/EN
VERSION:2.0
CALSCALE:GREGORIAN
BEGIN:VEVENT
UID:https://hbb.rivio.dev/jeugd/2025/wedstrijd/36672
DTSTAMP:20260420T151025Z
SUMMARY:Geldrop 1 - Nuenen 2
DESCRIPTION:Baan 4\, Wedstrijdnummer 66\, Afdeling F-klasse 
DTSTART:20250921T093000
DTEND:20250921T111500
LOCATION:City Resort Helmond
ATTACH;FMTTYPE=text/plain:https://hbb.rivio.dev/jeugd/2025/wedstrijd/36672
END:VEVENT
BEGIN:VEVENT
UID:https://hbb.rivio.dev/jeugd/2025/wedstrijd/36709
DTSTAMP:20260420T151025Z
SUMMARY:Mixed 6 - Geldrop 1
DESCRIPTION:Baan 13\, Wedstrijdnummer 70\, Afdeling F-klasse 
DTSTART:20251005T093000
DTEND:20251005T111500
LOCATION:City Resort Helmond
ATTACH;FMTTYPE=text/plain:https://hbb.rivio.dev/jeugd/2025/wedstrijd/36709
END:VEVENT
BEGIN:VEVENT
UID:https://hbb.rivio.dev/jeugd/2025/wedstrijd/36729
DTSTAMP:20260420T151025Z
SUMMARY:Geldrop 1 - Gemert 5
DESCRIPTION:Baan 12\, Wedstrijdnummer 74\, Afdeling F-klasse 
DTSTART:20251102T123000
DTEND:20251102T230000
LOCATION:City Resort Helmond
ATTACH;FMTTYPE=text/plain:https://hbb.rivio.dev/jeugd/2025/wedstrijd/36729
END:VEVENT
BEGIN:VEVENT
UID:https://hbb.rivio.dev/jeugd/2025/wedstrijd/36750
DTSTAMP:20260420T151025Z
SUMMARY:Geldrop 1 - Gemert 4
DESCRIPTION:Baan 13\, Wedstrijdnummer 78\, Afdeling F-klasse 
DTSTART:20251109T123000
DTEND:20251109T230000
LOCATION:City Resort Helmond
ATTACH;FMTTYPE=text/plain:https://hbb.rivio.dev/jeugd/2025/wedstrijd/36750
END:VEVENT
BEGIN:VEVENT
UID:https://hbb.rivio.dev/jeugd/2025/wedstrijd/36754
DTSTAMP:20260420T151025Z
SUMMARY:Mierlo 3 - Geldrop 1
DESCRIPTION:Baan 2\, Wedstrijdnummer 80\, Afdeling F-klasse 
DTSTART:20251116T093000
DTEND:20251116T111500
LOCATION:City Resort Helmond
ATTACH;FMTTYPE=text/plain:https://hbb.rivio.dev/jeugd/2025/wedstrijd/36754
END:VEVENT
BEGIN:VEVENT
UID:https://hbb.rivio.dev/jeugd/2025/wedstrijd/36790
DTSTAMP:20260420T151025Z
SUMMARY:Brabantia 2 - Geldrop 1
DESCRIPTION:Baan 11\, Wedstrijdnummer 84\, Afdeling F-klasse 
DTSTART:20251130T093000
DTEND:20251130T111500
LOCATION:City Resort Helmond
ATTACH;FMTTYPE=text/plain:https://hbb.rivio.dev/jeugd/2025/wedstrijd/36790
END:VEVENT
BEGIN:VEVENT
UID:https://hbb.rivio.dev/jeugd/2025/wedstrijd/36811
DTSTAMP:20260420T151025Z
SUMMARY:Nuenen 2 - Geldrop 1
DESCRIPTION:Baan 11\, Wedstrijdnummer 1066\, Afdeling F-klasse 
DTSTART:20251214T093000
DTEND:20251214T111500
LOCATION:City Resort Helmond
ATTACH;FMTTYPE=text/plain:https://hbb.rivio.dev/jeugd/2025/wedstrijd/36811
END:VEVENT
BEGIN:VEVENT
UID:https://hbb.rivio.dev/jeugd/2025/wedstrijd/36850
DTSTAMP:20260420T151025Z
SUMMARY:Geldrop 1 - Mixed 6
DESCRIPTION:Baan 3\, Wedstrijdnummer 1070\, Afdeling F-klasse 
DTSTART:20260201T093000
DTEND:20260201T111500
LOCATION:City Resort Helmond
ATTACH;FMTTYPE=text/plain:https://hbb.rivio.dev/jeugd/2025/wedstrijd/36850
END:VEVENT
BEGIN:VEVENT
UID:https://hbb.rivio.dev/jeugd/2025/wedstrijd/36872
DTSTAMP:20260420T151025Z
SUMMARY:Gemert 5 - Geldrop 1
DESCRIPTION:Baan 3\, Wedstrijdnummer 1074\, Afdeling F-klasse 
DTSTART:20260308T093000
DTEND:20260308T111500
LOCATION:City Resort Helmond
ATTACH;FMTTYPE=text/plain:https://hbb.rivio.dev/jeugd/2025/wedstrijd/36872
END:VEVENT
BEGIN:VEVENT
UID:https://hbb.rivio.dev/jeugd/2025/wedstrijd/36894
DTSTAMP:20260420T151025Z
SUMMARY:Gemert 4 - Geldrop 1
DESCRIPTION:Baan 3\, Wedstrijdnummer 1078\, Afdeling F-klasse 
DTSTART:20260322T123000
DTEND:20260322T230000
LOCATION:City Resort Helmond
ATTACH;FMTTYPE=text/plain:https://hbb.rivio.dev/jeugd/2025/wedstrijd/36894
END:VEVENT
BEGIN:VEVENT
UID:https://hbb.rivio.dev/jeugd/2025/wedstrijd/36917
DTSTAMP:20260420T151025Z
SUMMARY:Geldrop 1 - Mierlo 3
DESCRIPTION:Baan 5\, Wedstrijdnummer 1080\, Afdeling F-klasse 
DTSTART:20260329T123000
DTEND:20260329T230000
LOCATION:City Resort Helmond
ATTACH;FMTTYPE=text/plain:https://hbb.rivio.dev/jeugd/2025/wedstrijd/36917
END:VEVENT
BEGIN:VEVENT
UID:https://hbb.rivio.dev/jeugd/2025/wedstrijd/36936
DTSTAMP:20260420T151025Z
SUMMARY:Geldrop 1 - Brabantia 2
DESCRIPTION:Baan 3\, Wedstrijdnummer 1084\, Afdeling F-klasse 
DTSTART:20260412T123000
DTEND:20260412T230000
LOCATION:City Resort Helmond
ATTACH;FMTTYPE=text/plain:https://hbb.rivio.dev/jeugd/2025/wedstrijd/36936
END:VEVENT
BEGIN:VTIMEZONE
TZID:Europe/Amsterdam
BEGIN:STANDARD
DTSTART:20250101T000000
TZNAME:CET
TZOFFSETTO:+0100
TZOFFSETFROM:+0100
END:STANDARD
BEGIN:DAYLIGHT
DTSTART:20250330T030000
TZNAME:CEST
TZOFFSETTO:+0200
TZOFFSETFROM:+0100
END:DAYLIGHT
BEGIN:STANDARD
DTSTART:20251026T020000
TZNAME:CET
TZOFFSETTO:+0100
TZOFFSETFROM:+0200
END:STANDARD
BEGIN:DAYLIGHT
DTSTART:20260329T030000
TZNAME:CEST
TZOFFSETTO:+0200
TZOFFSETFROM:+0100
END:DAYLIGHT
BEGIN:STANDARD
DTSTART:20261025T020000
TZNAME:CET
TZOFFSETTO:+0100
TZOFFSETFROM:+0200
END:STANDARD
END:VTIMEZONE
END:VCALENDAR
