BEGIN:VCALENDAR
PRODID:-//eluceo/ical//2.0/EN
VERSION:2.0
CALSCALE:GREGORIAN
BEGIN:VEVENT
UID:https://hbb.rivio.dev/senioren/2025/wedstrijd/36265
DTSTAMP:20260419T164703Z
SUMMARY:Gemert 4 - Heiakker 1
DESCRIPTION:Baan 13\, Wedstrijdnummer 166\, Afdeling 4e klasse II
DTSTART:20250924T200000
DTEND:20250924T230000
LOCATION:City Resort Helmond
ATTACH;FMTTYPE=text/plain:https://hbb.rivio.dev/senioren/2025/wedstrijd/362
 65
END:VEVENT
BEGIN:VEVENT
UID:https://hbb.rivio.dev/senioren/2025/wedstrijd/36301
DTSTAMP:20260419T164703Z
SUMMARY:Gemert 4 - Phoenix 3
DESCRIPTION:Baan 4\, Wedstrijdnummer 170\, Afdeling 4e klasse II
DTSTART:20251008T200000
DTEND:20251008T230000
LOCATION:City Resort Helmond
ATTACH;FMTTYPE=text/plain:https://hbb.rivio.dev/senioren/2025/wedstrijd/363
 01
END:VEVENT
BEGIN:VEVENT
UID:https://hbb.rivio.dev/senioren/2025/wedstrijd/36334
DTSTAMP:20260419T164703Z
SUMMARY:De Valken 5 - Gemert 4
DESCRIPTION:Baan 12\, Wedstrijdnummer 173\, Afdeling 4e klasse II
DTSTART:20251023T200000
DTEND:20251023T230000
LOCATION:City Resort Helmond
ATTACH;FMTTYPE=text/plain:https://hbb.rivio.dev/senioren/2025/wedstrijd/363
 34
END:VEVENT
BEGIN:VEVENT
UID:https://hbb.rivio.dev/senioren/2025/wedstrijd/36377
DTSTAMP:20260419T164703Z
SUMMARY:BC '85 1 - Gemert 4
DESCRIPTION:Baan 15\, Wedstrijdnummer 176\, Afdeling 4e klasse II
DTSTART:20251106T200000
DTEND:20251106T230000
LOCATION:City Resort Helmond
ATTACH;FMTTYPE=text/plain:https://hbb.rivio.dev/senioren/2025/wedstrijd/363
 77
END:VEVENT
BEGIN:VEVENT
UID:https://hbb.rivio.dev/senioren/2025/wedstrijd/36383
DTSTAMP:20260419T164703Z
SUMMARY:Bakel 5 - Gemert 4
DESCRIPTION:Baan 11\, Wedstrijdnummer 178\, Afdeling 4e klasse II
DTSTART:20251113T200000
DTEND:20251113T230000
LOCATION:City Resort Helmond
ATTACH;FMTTYPE=text/plain:https://hbb.rivio.dev/senioren/2025/wedstrijd/363
 83
END:VEVENT
BEGIN:VEVENT
UID:https://hbb.rivio.dev/senioren/2025/wedstrijd/36407
DTSTAMP:20260419T164703Z
SUMMARY:Gemert 4 - Someren 5
DESCRIPTION:Baan 15\, Wedstrijdnummer 180\, Afdeling 4e klasse II
DTSTART:20251126T200000
DTEND:20251126T230000
LOCATION:City Resort Helmond
ATTACH;FMTTYPE=text/plain:https://hbb.rivio.dev/senioren/2025/wedstrijd/364
 07
END:VEVENT
BEGIN:VEVENT
UID:https://hbb.rivio.dev/senioren/2025/wedstrijd/36476
DTSTAMP:20260419T164703Z
SUMMARY:Heiakker 1 - Gemert 4
DESCRIPTION:Baan 15\, Wedstrijdnummer 1166\, Afdeling 4e klasse II
DTSTART:20260108T200000
DTEND:20260108T230000
LOCATION:City Resort Helmond
ATTACH;FMTTYPE=text/plain:https://hbb.rivio.dev/senioren/2025/wedstrijd/364
 76
END:VEVENT
BEGIN:VEVENT
UID:https://hbb.rivio.dev/senioren/2025/wedstrijd/36499
DTSTAMP:20260419T164703Z
SUMMARY:Phoenix 3 - Gemert 4
DESCRIPTION:Baan 3\, Wedstrijdnummer 1170\, Afdeling 4e klasse II
DTSTART:20260121T200000
DTEND:20260121T230000
LOCATION:City Resort Helmond
ATTACH;FMTTYPE=text/plain:https://hbb.rivio.dev/senioren/2025/wedstrijd/364
 99
END:VEVENT
BEGIN:VEVENT
UID:https://hbb.rivio.dev/senioren/2025/wedstrijd/36532
DTSTAMP:20260419T164703Z
SUMMARY:Gemert 4 - De Valken 5
DESCRIPTION:Baan 15\, Wedstrijdnummer 1173\, Afdeling 4e klasse II
DTSTART:20260204T200000
DTEND:20260204T230000
LOCATION:City Resort Helmond
ATTACH;FMTTYPE=text/plain:https://hbb.rivio.dev/senioren/2025/wedstrijd/365
 32
END:VEVENT
BEGIN:VEVENT
UID:https://hbb.rivio.dev/senioren/2025/wedstrijd/36564
DTSTAMP:20260419T164703Z
SUMMARY:Gemert 4 - BC '85 1
DESCRIPTION:Baan 3\, Wedstrijdnummer 1176\, Afdeling 4e klasse II
DTSTART:20260225T200000
DTEND:20260225T230000
LOCATION:City Resort Helmond
ATTACH;FMTTYPE=text/plain:https://hbb.rivio.dev/senioren/2025/wedstrijd/365
 64
END:VEVENT
BEGIN:VEVENT
UID:https://hbb.rivio.dev/senioren/2025/wedstrijd/36589
DTSTAMP:20260419T164703Z
SUMMARY:Gemert 4 - Bakel 5
DESCRIPTION:Baan 13\, Wedstrijdnummer 1178\, Afdeling 4e klasse II
DTSTART:20260304T200000
DTEND:20260304T230000
LOCATION:City Resort Helmond
ATTACH;FMTTYPE=text/plain:https://hbb.rivio.dev/senioren/2025/wedstrijd/365
 89
END:VEVENT
BEGIN:VEVENT
UID:https://hbb.rivio.dev/senioren/2025/wedstrijd/36629
DTSTAMP:20260419T164703Z
SUMMARY:Someren 5 - Gemert 4
DESCRIPTION:Baan 1\, Wedstrijdnummer 1180\, Afdeling 4e klasse II
DTSTART:20260326T200000
DTEND:20260326T230000
LOCATION:City Resort Helmond
ATTACH;FMTTYPE=text/plain:https://hbb.rivio.dev/senioren/2025/wedstrijd/366
 29
END:VEVENT
BEGIN:VTIMEZONE
TZID:Europe/Amsterdam
BEGIN:STANDARD
DTSTART:20250101T000000
TZNAME:CET
TZOFFSETTO:+0100
TZOFFSETFROM:+0100
END:STANDARD
BEGIN:DAYLIGHT
DTSTART:20250330T030000
TZNAME:CEST
TZOFFSETTO:+0200
TZOFFSETFROM:+0100
END:DAYLIGHT
BEGIN:STANDARD
DTSTART:20251026T020000
TZNAME:CET
TZOFFSETTO:+0100
TZOFFSETFROM:+0200
END:STANDARD
BEGIN:DAYLIGHT
DTSTART:20260329T030000
TZNAME:CEST
TZOFFSETTO:+0200
TZOFFSETFROM:+0100
END:DAYLIGHT
BEGIN:STANDARD
DTSTART:20261025T020000
TZNAME:CET
TZOFFSETTO:+0100
TZOFFSETFROM:+0200
END:STANDARD
END:VTIMEZONE
END:VCALENDAR
