BEGIN:VCALENDAR
PRODID:-//eluceo/ical//2.0/EN
VERSION:2.0
CALSCALE:GREGORIAN
BEGIN:VEVENT
UID:https://hbb.rivio.dev/senioren/2025/wedstrijd/36259
DTSTAMP:20260420T224015Z
SUMMARY:Gemert 1 - 't Veertje 1
DESCRIPTION:Baan 2\, Wedstrijdnummer 57\, Afdeling 1e klasse 
DTSTART:20250924T200000
DTEND:20250924T230000
LOCATION:City Resort Helmond
ATTACH;FMTTYPE=text/plain:https://hbb.rivio.dev/senioren/2025/wedstrijd/362
 59
END:VEVENT
BEGIN:VEVENT
UID:https://hbb.rivio.dev/senioren/2025/wedstrijd/36281
DTSTAMP:20260420T224015Z
SUMMARY:Gemert 1 - Mierlo 4
DESCRIPTION:Baan 4\, Wedstrijdnummer 61\, Afdeling 1e klasse 
DTSTART:20251001T200000
DTEND:20251001T230000
LOCATION:City Resort Helmond
ATTACH;FMTTYPE=text/plain:https://hbb.rivio.dev/senioren/2025/wedstrijd/362
 81
END:VEVENT
BEGIN:VEVENT
UID:https://hbb.rivio.dev/senioren/2025/wedstrijd/36307
DTSTAMP:20260420T224015Z
SUMMARY:Gemert 1 - Heeze 1
DESCRIPTION:Baan 15\, Wedstrijdnummer 65\, Afdeling 1e klasse 
DTSTART:20251008T200000
DTEND:20251008T230000
LOCATION:City Resort Helmond
ATTACH;FMTTYPE=text/plain:https://hbb.rivio.dev/senioren/2025/wedstrijd/363
 07
END:VEVENT
BEGIN:VEVENT
UID:https://hbb.rivio.dev/senioren/2025/wedstrijd/36373
DTSTAMP:20260420T224015Z
SUMMARY:Smashing Bruang 1 - Gemert 1
DESCRIPTION:Baan 11\, Wedstrijdnummer 71\, Afdeling 1e klasse 
DTSTART:20251106T200000
DTEND:20251106T230000
LOCATION:City Resort Helmond
ATTACH;FMTTYPE=text/plain:https://hbb.rivio.dev/senioren/2025/wedstrijd/363
 73
END:VEVENT
BEGIN:VEVENT
UID:https://hbb.rivio.dev/senioren/2025/wedstrijd/36402
DTSTAMP:20260420T224015Z
SUMMARY:Mierlo 3 - Gemert 1
DESCRIPTION:Baan 5\, Wedstrijdnummer 73\, Afdeling 1e klasse 
DTSTART:20251126T200000
DTEND:20251126T230000
LOCATION:City Resort Helmond
ATTACH;FMTTYPE=text/plain:https://hbb.rivio.dev/senioren/2025/wedstrijd/364
 02
END:VEVENT
BEGIN:VEVENT
UID:https://hbb.rivio.dev/senioren/2025/wedstrijd/36442
DTSTAMP:20260420T224015Z
SUMMARY:De Valken 3 - Gemert 1
DESCRIPTION:Baan 11\, Wedstrijdnummer 75\, Afdeling 1e klasse 
DTSTART:20251210T200000
DTEND:20251210T230000
LOCATION:City Resort Helmond
ATTACH;FMTTYPE=text/plain:https://hbb.rivio.dev/senioren/2025/wedstrijd/364
 42
END:VEVENT
BEGIN:VEVENT
UID:https://hbb.rivio.dev/senioren/2025/wedstrijd/36464
DTSTAMP:20260420T224015Z
SUMMARY:'t Veertje 1 - Gemert 1
DESCRIPTION:Baan 13\, Wedstrijdnummer 1057\, Afdeling 1e klasse 
DTSTART:20260107T200000
DTEND:20260107T230000
LOCATION:City Resort Helmond
ATTACH;FMTTYPE=text/plain:https://hbb.rivio.dev/senioren/2025/wedstrijd/364
 64
END:VEVENT
BEGIN:VEVENT
UID:https://hbb.rivio.dev/senioren/2025/wedstrijd/36492
DTSTAMP:20260420T224015Z
SUMMARY:Mierlo 4 - Gemert 1
DESCRIPTION:Baan 11\, Wedstrijdnummer 1061\, Afdeling 1e klasse 
DTSTART:20260115T200000
DTEND:20260115T230000
LOCATION:City Resort Helmond
ATTACH;FMTTYPE=text/plain:https://hbb.rivio.dev/senioren/2025/wedstrijd/364
 92
END:VEVENT
BEGIN:VEVENT
UID:https://hbb.rivio.dev/senioren/2025/wedstrijd/36523
DTSTAMP:20260420T224015Z
SUMMARY:Heeze 1 - Gemert 1
DESCRIPTION:Baan 1\, Wedstrijdnummer 1065\, Afdeling 1e klasse 
DTSTART:20260204T200000
DTEND:20260204T230000
LOCATION:City Resort Helmond
ATTACH;FMTTYPE=text/plain:https://hbb.rivio.dev/senioren/2025/wedstrijd/365
 23
END:VEVENT
BEGIN:VEVENT
UID:https://hbb.rivio.dev/senioren/2025/wedstrijd/36569
DTSTAMP:20260420T224015Z
SUMMARY:Gemert 1 - Smashing Bruang 1
DESCRIPTION:Baan 13\, Wedstrijdnummer 1071\, Afdeling 1e klasse 
DTSTART:20260225T200000
DTEND:20260225T230000
LOCATION:City Resort Helmond
ATTACH;FMTTYPE=text/plain:https://hbb.rivio.dev/senioren/2025/wedstrijd/365
 69
END:VEVENT
BEGIN:VEVENT
UID:https://hbb.rivio.dev/senioren/2025/wedstrijd/36602
DTSTAMP:20260420T224015Z
SUMMARY:Gemert 1 - Mierlo 3
DESCRIPTION:Baan 3\, Wedstrijdnummer 1073\, Afdeling 1e klasse 
DTSTART:20260318T200000
DTEND:20260318T230000
LOCATION:City Resort Helmond
ATTACH;FMTTYPE=text/plain:https://hbb.rivio.dev/senioren/2025/wedstrijd/366
 02
END:VEVENT
BEGIN:VEVENT
UID:https://hbb.rivio.dev/senioren/2025/wedstrijd/36623
DTSTAMP:20260420T224015Z
SUMMARY:Gemert 1 - De Valken 3
DESCRIPTION:Baan 4\, Wedstrijdnummer 1075\, Afdeling 1e klasse 
DTSTART:20260325T200000
DTEND:20260325T230000
LOCATION:City Resort Helmond
ATTACH;FMTTYPE=text/plain:https://hbb.rivio.dev/senioren/2025/wedstrijd/366
 23
END:VEVENT
BEGIN:VTIMEZONE
TZID:Europe/Amsterdam
BEGIN:STANDARD
DTSTART:20250101T000000
TZNAME:CET
TZOFFSETTO:+0100
TZOFFSETFROM:+0100
END:STANDARD
BEGIN:DAYLIGHT
DTSTART:20250330T030000
TZNAME:CEST
TZOFFSETTO:+0200
TZOFFSETFROM:+0100
END:DAYLIGHT
BEGIN:STANDARD
DTSTART:20251026T020000
TZNAME:CET
TZOFFSETTO:+0100
TZOFFSETFROM:+0200
END:STANDARD
BEGIN:DAYLIGHT
DTSTART:20260329T030000
TZNAME:CEST
TZOFFSETTO:+0200
TZOFFSETFROM:+0100
END:DAYLIGHT
BEGIN:STANDARD
DTSTART:20261025T020000
TZNAME:CET
TZOFFSETTO:+0100
TZOFFSETFROM:+0200
END:STANDARD
END:VTIMEZONE
END:VCALENDAR
