BEGIN:VCALENDAR
PRODID:-//eluceo/ical//2.0/EN
VERSION:2.0
CALSCALE:GREGORIAN
BEGIN:VEVENT
UID:https://hbb.rivio.dev/senioren/2025/wedstrijd/36266
DTSTAMP:20260419T151345Z
SUMMARY:Phoenix 3 - Bakel 5
DESCRIPTION:Baan 14\, Wedstrijdnummer 167\, Afdeling 4e klasse II
DTSTART:20250924T200000
DTEND:20250924T230000
LOCATION:City Resort Helmond
ATTACH;FMTTYPE=text/plain:https://hbb.rivio.dev/senioren/2025/wedstrijd/362
 66
END:VEVENT
BEGIN:VEVENT
UID:https://hbb.rivio.dev/senioren/2025/wedstrijd/36309
DTSTAMP:20260419T151345Z
SUMMARY:De Valken 5 - Bakel 5
DESCRIPTION:Baan 2\, Wedstrijdnummer 169\, Afdeling 4e klasse II
DTSTART:20251009T200000
DTEND:20251009T230000
LOCATION:City Resort Helmond
ATTACH;FMTTYPE=text/plain:https://hbb.rivio.dev/senioren/2025/wedstrijd/363
 09
END:VEVENT
BEGIN:VEVENT
UID:https://hbb.rivio.dev/senioren/2025/wedstrijd/36333
DTSTAMP:20260419T151345Z
SUMMARY:BC '85 1 - Bakel 5
DESCRIPTION:Baan 11\, Wedstrijdnummer 172\, Afdeling 4e klasse II
DTSTART:20251023T200000
DTEND:20251023T230000
LOCATION:City Resort Helmond
ATTACH;FMTTYPE=text/plain:https://hbb.rivio.dev/senioren/2025/wedstrijd/363
 33
END:VEVENT
BEGIN:VEVENT
UID:https://hbb.rivio.dev/senioren/2025/wedstrijd/36375
DTSTAMP:20260419T151345Z
SUMMARY:Bakel 5 - Someren 5
DESCRIPTION:Baan 13\, Wedstrijdnummer 174\, Afdeling 4e klasse II
DTSTART:20251106T200000
DTEND:20251106T230000
LOCATION:City Resort Helmond
ATTACH;FMTTYPE=text/plain:https://hbb.rivio.dev/senioren/2025/wedstrijd/363
 75
END:VEVENT
BEGIN:VEVENT
UID:https://hbb.rivio.dev/senioren/2025/wedstrijd/36383
DTSTAMP:20260419T151345Z
SUMMARY:Bakel 5 - Gemert 4
DESCRIPTION:Baan 11\, Wedstrijdnummer 178\, Afdeling 4e klasse II
DTSTART:20251113T200000
DTEND:20251113T230000
LOCATION:City Resort Helmond
ATTACH;FMTTYPE=text/plain:https://hbb.rivio.dev/senioren/2025/wedstrijd/363
 83
END:VEVENT
BEGIN:VEVENT
UID:https://hbb.rivio.dev/senioren/2025/wedstrijd/36434
DTSTAMP:20260419T151345Z
SUMMARY:Bakel 5 - Bakel 4
DESCRIPTION:Baan 13\, Wedstrijdnummer 3016\, Afdeling 4e klasse II
DTSTART:20251204T200000
DTEND:20251204T230000
LOCATION:City Resort Helmond
ATTACH;FMTTYPE=text/plain:https://hbb.rivio.dev/senioren/2025/wedstrijd/364
 34
END:VEVENT
BEGIN:VEVENT
UID:https://hbb.rivio.dev/senioren/2025/wedstrijd/36455
DTSTAMP:20260419T151345Z
SUMMARY:Bakel 5 - Heiakker 1
DESCRIPTION:Baan 14\, Wedstrijdnummer 185\, Afdeling 4e klasse II
DTSTART:20251211T200000
DTEND:20251211T230000
LOCATION:City Resort Helmond
ATTACH;FMTTYPE=text/plain:https://hbb.rivio.dev/senioren/2025/wedstrijd/364
 55
END:VEVENT
BEGIN:VEVENT
UID:https://hbb.rivio.dev/senioren/2025/wedstrijd/36489
DTSTAMP:20260419T151345Z
SUMMARY:Bakel 5 - Phoenix 3
DESCRIPTION:Baan 3\, Wedstrijdnummer 1167\, Afdeling 4e klasse II
DTSTART:20260115T200000
DTEND:20260115T230000
LOCATION:City Resort Helmond
ATTACH;FMTTYPE=text/plain:https://hbb.rivio.dev/senioren/2025/wedstrijd/364
 89
END:VEVENT
BEGIN:VEVENT
UID:https://hbb.rivio.dev/senioren/2025/wedstrijd/36512
DTSTAMP:20260419T151345Z
SUMMARY:Bakel 5 - De Valken 5
DESCRIPTION:Baan 13\, Wedstrijdnummer 1169\, Afdeling 4e klasse II
DTSTART:20260122T200000
DTEND:20260122T230000
LOCATION:City Resort Helmond
ATTACH;FMTTYPE=text/plain:https://hbb.rivio.dev/senioren/2025/wedstrijd/365
 12
END:VEVENT
BEGIN:VEVENT
UID:https://hbb.rivio.dev/senioren/2025/wedstrijd/36555
DTSTAMP:20260419T151345Z
SUMMARY:Bakel 5 - BC '85 1
DESCRIPTION:Baan 4\, Wedstrijdnummer 1172\, Afdeling 4e klasse II
DTSTART:20260212T200000
DTEND:20260212T230000
LOCATION:City Resort Helmond
ATTACH;FMTTYPE=text/plain:https://hbb.rivio.dev/senioren/2025/wedstrijd/365
 55
END:VEVENT
BEGIN:VEVENT
UID:https://hbb.rivio.dev/senioren/2025/wedstrijd/36577
DTSTAMP:20260419T151345Z
SUMMARY:Someren 5 - Bakel 5
DESCRIPTION:Baan 11\, Wedstrijdnummer 1174\, Afdeling 4e klasse II
DTSTART:20260226T200000
DTEND:20260226T230000
LOCATION:City Resort Helmond
ATTACH;FMTTYPE=text/plain:https://hbb.rivio.dev/senioren/2025/wedstrijd/365
 77
END:VEVENT
BEGIN:VEVENT
UID:https://hbb.rivio.dev/senioren/2025/wedstrijd/36589
DTSTAMP:20260419T151345Z
SUMMARY:Gemert 4 - Bakel 5
DESCRIPTION:Baan 13\, Wedstrijdnummer 1178\, Afdeling 4e klasse II
DTSTART:20260304T200000
DTEND:20260304T230000
LOCATION:City Resort Helmond
ATTACH;FMTTYPE=text/plain:https://hbb.rivio.dev/senioren/2025/wedstrijd/365
 89
END:VEVENT
BEGIN:VEVENT
UID:https://hbb.rivio.dev/senioren/2025/wedstrijd/36656
DTSTAMP:20260419T151345Z
SUMMARY:Heiakker 1 - Bakel 5
DESCRIPTION:Baan 14\, Wedstrijdnummer 1185\, Afdeling 4e klasse II
DTSTART:20260402T200000
DTEND:20260402T230000
LOCATION:City Resort Helmond
ATTACH;FMTTYPE=text/plain:https://hbb.rivio.dev/senioren/2025/wedstrijd/366
 56
END:VEVENT
BEGIN:VTIMEZONE
TZID:Europe/Amsterdam
BEGIN:STANDARD
DTSTART:20250101T000000
TZNAME:CET
TZOFFSETTO:+0100
TZOFFSETFROM:+0100
END:STANDARD
BEGIN:DAYLIGHT
DTSTART:20250330T030000
TZNAME:CEST
TZOFFSETTO:+0200
TZOFFSETFROM:+0100
END:DAYLIGHT
BEGIN:STANDARD
DTSTART:20251026T020000
TZNAME:CET
TZOFFSETTO:+0100
TZOFFSETFROM:+0200
END:STANDARD
BEGIN:DAYLIGHT
DTSTART:20260329T030000
TZNAME:CEST
TZOFFSETTO:+0200
TZOFFSETFROM:+0100
END:DAYLIGHT
BEGIN:STANDARD
DTSTART:20261025T020000
TZNAME:CET
TZOFFSETTO:+0100
TZOFFSETFROM:+0200
END:STANDARD
END:VTIMEZONE
END:VCALENDAR
