BEGIN:VCALENDAR
PRODID:-//eluceo/ical//2.0/EN
VERSION:2.0
CALSCALE:GREGORIAN
BEGIN:VEVENT
UID:https://hbb.rivio.dev/senioren/2025/wedstrijd/36296
DTSTAMP:20260420T224717Z
SUMMARY:Mierlo 5 - Bakel 3
DESCRIPTION:Baan 14\, Wedstrijdnummer 96\, Afdeling 2e klasse II
DTSTART:20251002T200000
DTEND:20251002T230000
LOCATION:City Resort Helmond
ATTACH;FMTTYPE=text/plain:https://hbb.rivio.dev/senioren/2025/wedstrijd/362
 96
END:VEVENT
BEGIN:VEVENT
UID:https://hbb.rivio.dev/senioren/2025/wedstrijd/36330
DTSTAMP:20260420T224717Z
SUMMARY:Bakel 3 - Con Brio 3
DESCRIPTION:Baan 3\, Wedstrijdnummer 99\, Afdeling 2e klasse II
DTSTART:20251023T200000
DTEND:20251023T230000
LOCATION:City Resort Helmond
ATTACH;FMTTYPE=text/plain:https://hbb.rivio.dev/senioren/2025/wedstrijd/363
 30
END:VEVENT
BEGIN:VEVENT
UID:https://hbb.rivio.dev/senioren/2025/wedstrijd/36356
DTSTAMP:20260420T224717Z
SUMMARY:De Valken 4 - Bakel 3
DESCRIPTION:Baan 14\, Wedstrijdnummer 102\, Afdeling 2e klasse II
DTSTART:20251030T200000
DTEND:20251030T230000
LOCATION:City Resort Helmond
ATTACH;FMTTYPE=text/plain:https://hbb.rivio.dev/senioren/2025/wedstrijd/363
 56
END:VEVENT
BEGIN:VEVENT
UID:https://hbb.rivio.dev/senioren/2025/wedstrijd/36380
DTSTAMP:20260420T224717Z
SUMMARY:Bakel 3 - Someren 2
DESCRIPTION:Baan 3\, Wedstrijdnummer 105\, Afdeling 2e klasse II
DTSTART:20251113T200000
DTEND:20251113T230000
LOCATION:City Resort Helmond
ATTACH;FMTTYPE=text/plain:https://hbb.rivio.dev/senioren/2025/wedstrijd/363
 80
END:VEVENT
BEGIN:VEVENT
UID:https://hbb.rivio.dev/senioren/2025/wedstrijd/36396
DTSTAMP:20260420T224717Z
SUMMARY:Mixed 3 - Bakel 3
DESCRIPTION:Baan 14\, Wedstrijdnummer 108\, Afdeling 2e klasse II
DTSTART:20251120T200000
DTEND:20251120T230000
LOCATION:City Resort Helmond
ATTACH;FMTTYPE=text/plain:https://hbb.rivio.dev/senioren/2025/wedstrijd/363
 96
END:VEVENT
BEGIN:VEVENT
UID:https://hbb.rivio.dev/senioren/2025/wedstrijd/36416
DTSTAMP:20260420T224717Z
SUMMARY:Bakel 3 - VBSC 1
DESCRIPTION:Baan 14\, Wedstrijdnummer 111\, Afdeling 2e klasse II
DTSTART:20251127T200000
DTEND:20251127T230000
LOCATION:City Resort Helmond
ATTACH;FMTTYPE=text/plain:https://hbb.rivio.dev/senioren/2025/wedstrijd/364
 16
END:VEVENT
BEGIN:VEVENT
UID:https://hbb.rivio.dev/senioren/2025/wedstrijd/36428
DTSTAMP:20260420T224717Z
SUMMARY:Bakel 3 - Geldrop 2
DESCRIPTION:Baan 2\, Wedstrijdnummer 3006\, Afdeling 2e klasse II
DTSTART:20251204T200000
DTEND:20251204T230000
LOCATION:City Resort Helmond
ATTACH;FMTTYPE=text/plain:https://hbb.rivio.dev/senioren/2025/wedstrijd/364
 28
END:VEVENT
BEGIN:VEVENT
UID:https://hbb.rivio.dev/senioren/2025/wedstrijd/36508
DTSTAMP:20260420T224717Z
SUMMARY:Bakel 3 - Mierlo 5
DESCRIPTION:Baan 4\, Wedstrijdnummer 1096\, Afdeling 2e klasse II
DTSTART:20260122T200000
DTEND:20260122T230000
LOCATION:City Resort Helmond
ATTACH;FMTTYPE=text/plain:https://hbb.rivio.dev/senioren/2025/wedstrijd/365
 08
END:VEVENT
BEGIN:VEVENT
UID:https://hbb.rivio.dev/senioren/2025/wedstrijd/36542
DTSTAMP:20260420T224717Z
SUMMARY:Con Brio 3 - Bakel 3
DESCRIPTION:Baan 15\, Wedstrijdnummer 1099\, Afdeling 2e klasse II
DTSTART:20260205T200000
DTEND:20260205T230000
LOCATION:City Resort Helmond
ATTACH;FMTTYPE=text/plain:https://hbb.rivio.dev/senioren/2025/wedstrijd/365
 42
END:VEVENT
BEGIN:VEVENT
UID:https://hbb.rivio.dev/senioren/2025/wedstrijd/36575
DTSTAMP:20260420T224717Z
SUMMARY:Bakel 3 - De Valken 4
DESCRIPTION:Baan 4\, Wedstrijdnummer 1102\, Afdeling 2e klasse II
DTSTART:20260226T200000
DTEND:20260226T230000
LOCATION:City Resort Helmond
ATTACH;FMTTYPE=text/plain:https://hbb.rivio.dev/senioren/2025/wedstrijd/365
 75
END:VEVENT
BEGIN:VEVENT
UID:https://hbb.rivio.dev/senioren/2025/wedstrijd/36596
DTSTAMP:20260420T224717Z
SUMMARY:Someren 2 - Bakel 3
DESCRIPTION:Baan 5\, Wedstrijdnummer 1105\, Afdeling 2e klasse II
DTSTART:20260305T200000
DTEND:20260305T230000
LOCATION:City Resort Helmond
ATTACH;FMTTYPE=text/plain:https://hbb.rivio.dev/senioren/2025/wedstrijd/365
 96
END:VEVENT
BEGIN:VEVENT
UID:https://hbb.rivio.dev/senioren/2025/wedstrijd/36619
DTSTAMP:20260420T224717Z
SUMMARY:Bakel 3 - Mixed 3
DESCRIPTION:Baan 15\, Wedstrijdnummer 1108\, Afdeling 2e klasse II
DTSTART:20260319T200000
DTEND:20260319T230000
LOCATION:City Resort Helmond
ATTACH;FMTTYPE=text/plain:https://hbb.rivio.dev/senioren/2025/wedstrijd/366
 19
END:VEVENT
BEGIN:VEVENT
UID:https://hbb.rivio.dev/senioren/2025/wedstrijd/36645
DTSTAMP:20260420T224717Z
SUMMARY:VBSC 1 - Bakel 3
DESCRIPTION:Baan 12\, Wedstrijdnummer 1111\, Afdeling 2e klasse II
DTSTART:20260401T200000
DTEND:20260401T230000
LOCATION:City Resort Helmond
ATTACH;FMTTYPE=text/plain:https://hbb.rivio.dev/senioren/2025/wedstrijd/366
 45
END:VEVENT
BEGIN:VTIMEZONE
TZID:Europe/Amsterdam
BEGIN:STANDARD
DTSTART:20250101T000000
TZNAME:CET
TZOFFSETTO:+0100
TZOFFSETFROM:+0100
END:STANDARD
BEGIN:DAYLIGHT
DTSTART:20250330T030000
TZNAME:CEST
TZOFFSETTO:+0200
TZOFFSETFROM:+0100
END:DAYLIGHT
BEGIN:STANDARD
DTSTART:20251026T020000
TZNAME:CET
TZOFFSETTO:+0100
TZOFFSETFROM:+0200
END:STANDARD
BEGIN:DAYLIGHT
DTSTART:20260329T030000
TZNAME:CEST
TZOFFSETTO:+0200
TZOFFSETFROM:+0100
END:DAYLIGHT
BEGIN:STANDARD
DTSTART:20261025T020000
TZNAME:CET
TZOFFSETTO:+0100
TZOFFSETFROM:+0200
END:STANDARD
END:VTIMEZONE
END:VCALENDAR
