BEGIN:VCALENDAR
PRODID:-//eluceo/ical//2.0/EN
VERSION:2.0
CALSCALE:GREGORIAN
BEGIN:VEVENT
UID:https://hbb.rivio.dev/senioren/2025/wedstrijd/36271
DTSTAMP:20260419T175304Z
SUMMARY:Bakel 2 - Venray 1
DESCRIPTION:Baan 4\, Wedstrijdnummer 29\, Afdeling Hoofdklasse 
DTSTART:20250925T200000
DTEND:20250925T230000
LOCATION:City Resort Helmond
ATTACH;FMTTYPE=text/plain:https://hbb.rivio.dev/senioren/2025/wedstrijd/362
 71
END:VEVENT
BEGIN:VEVENT
UID:https://hbb.rivio.dev/senioren/2025/wedstrijd/36292
DTSTAMP:20260419T175304Z
SUMMARY:Someren 1 - Bakel 2
DESCRIPTION:Baan 5\, Wedstrijdnummer 33\, Afdeling Hoofdklasse 
DTSTART:20251002T200000
DTEND:20251002T230000
LOCATION:City Resort Helmond
ATTACH;FMTTYPE=text/plain:https://hbb.rivio.dev/senioren/2025/wedstrijd/362
 92
END:VEVENT
BEGIN:VEVENT
UID:https://hbb.rivio.dev/senioren/2025/wedstrijd/36316
DTSTAMP:20260419T175304Z
SUMMARY:Bakel 2 - RBC 1
DESCRIPTION:Baan 14\, Wedstrijdnummer 37\, Afdeling Hoofdklasse 
DTSTART:20251009T200000
DTEND:20251009T230000
LOCATION:City Resort Helmond
ATTACH;FMTTYPE=text/plain:https://hbb.rivio.dev/senioren/2025/wedstrijd/363
 16
END:VEVENT
BEGIN:VEVENT
UID:https://hbb.rivio.dev/senioren/2025/wedstrijd/36353
DTSTAMP:20260419T175304Z
SUMMARY:Mixed 2 - Bakel 2
DESCRIPTION:Baan 11\, Wedstrijdnummer 41\, Afdeling Hoofdklasse 
DTSTART:20251030T200000
DTEND:20251030T230000
LOCATION:City Resort Helmond
ATTACH;FMTTYPE=text/plain:https://hbb.rivio.dev/senioren/2025/wedstrijd/363
 53
END:VEVENT
BEGIN:VEVENT
UID:https://hbb.rivio.dev/senioren/2025/wedstrijd/36370
DTSTAMP:20260419T175304Z
SUMMARY:Bakel 2 - Mierlo 2
DESCRIPTION:Baan 3\, Wedstrijdnummer 45\, Afdeling Hoofdklasse 
DTSTART:20251106T200000
DTEND:20251106T230000
LOCATION:City Resort Helmond
ATTACH;FMTTYPE=text/plain:https://hbb.rivio.dev/senioren/2025/wedstrijd/363
 70
END:VEVENT
BEGIN:VEVENT
UID:https://hbb.rivio.dev/senioren/2025/wedstrijd/36399
DTSTAMP:20260419T175304Z
SUMMARY:Ganzeveer 1 - Bakel 2
DESCRIPTION:Baan 2\, Wedstrijdnummer 49\, Afdeling Hoofdklasse 
DTSTART:20251126T200000
DTEND:20251126T230000
LOCATION:City Resort Helmond
ATTACH;FMTTYPE=text/plain:https://hbb.rivio.dev/senioren/2025/wedstrijd/363
 99
END:VEVENT
BEGIN:VEVENT
UID:https://hbb.rivio.dev/senioren/2025/wedstrijd/36448
DTSTAMP:20260419T175304Z
SUMMARY:Bakel 2 - De Valken 2
DESCRIPTION:Baan 2\, Wedstrijdnummer 53\, Afdeling Hoofdklasse 
DTSTART:20251211T200000
DTEND:20251211T230000
LOCATION:City Resort Helmond
ATTACH;FMTTYPE=text/plain:https://hbb.rivio.dev/senioren/2025/wedstrijd/364
 48
END:VEVENT
BEGIN:VEVENT
UID:https://hbb.rivio.dev/senioren/2025/wedstrijd/36458
DTSTAMP:20260419T175304Z
SUMMARY:Venray 1 - Bakel 2
DESCRIPTION:Baan 2\, Wedstrijdnummer 1029\, Afdeling Hoofdklasse 
DTSTART:20260107T200000
DTEND:20260107T230000
LOCATION:City Resort Helmond
ATTACH;FMTTYPE=text/plain:https://hbb.rivio.dev/senioren/2025/wedstrijd/364
 58
END:VEVENT
BEGIN:VEVENT
UID:https://hbb.rivio.dev/senioren/2025/wedstrijd/36495
DTSTAMP:20260419T175304Z
SUMMARY:Bakel 2 - Someren 1
DESCRIPTION:Baan 14\, Wedstrijdnummer 1033\, Afdeling Hoofdklasse 
DTSTART:20260115T200000
DTEND:20260115T230000
LOCATION:City Resort Helmond
ATTACH;FMTTYPE=text/plain:https://hbb.rivio.dev/senioren/2025/wedstrijd/364
 95
END:VEVENT
BEGIN:VEVENT
UID:https://hbb.rivio.dev/senioren/2025/wedstrijd/36521
DTSTAMP:20260419T175304Z
SUMMARY:Bakel 2 - Venray 1
DESCRIPTION:Baan 12\, Wedstrijdnummer 3025\, Afdeling Hoofdklasse 
DTSTART:20260129T200000
DTEND:20260129T230000
LOCATION:City Resort Helmond
ATTACH;FMTTYPE=text/plain:https://hbb.rivio.dev/senioren/2025/wedstrijd/365
 21
END:VEVENT
BEGIN:VEVENT
UID:https://hbb.rivio.dev/senioren/2025/wedstrijd/36536
DTSTAMP:20260419T175304Z
SUMMARY:RBC 1 - Bakel 2
DESCRIPTION:Baan 4\, Wedstrijdnummer 1037\, Afdeling Hoofdklasse 
DTSTART:20260205T200000
DTEND:20260205T230000
LOCATION:City Resort Helmond
ATTACH;FMTTYPE=text/plain:https://hbb.rivio.dev/senioren/2025/wedstrijd/365
 36
END:VEVENT
BEGIN:VEVENT
UID:https://hbb.rivio.dev/senioren/2025/wedstrijd/36560
DTSTAMP:20260419T175304Z
SUMMARY:Bakel 2 - Mixed 2
DESCRIPTION:Baan 14\, Wedstrijdnummer 1041\, Afdeling Hoofdklasse 
DTSTART:20260212T200000
DTEND:20260212T230000
LOCATION:City Resort Helmond
ATTACH;FMTTYPE=text/plain:https://hbb.rivio.dev/senioren/2025/wedstrijd/365
 60
END:VEVENT
BEGIN:VEVENT
UID:https://hbb.rivio.dev/senioren/2025/wedstrijd/36592
DTSTAMP:20260419T175304Z
SUMMARY:Mierlo 2 - Bakel 2
DESCRIPTION:Baan 1\, Wedstrijdnummer 1045\, Afdeling Hoofdklasse 
DTSTART:20260305T200000
DTEND:20260305T230000
LOCATION:City Resort Helmond
ATTACH;FMTTYPE=text/plain:https://hbb.rivio.dev/senioren/2025/wedstrijd/365
 92
END:VEVENT
BEGIN:VEVENT
UID:https://hbb.rivio.dev/senioren/2025/wedstrijd/36615
DTSTAMP:20260419T175304Z
SUMMARY:Bakel 2 - Ganzeveer 1
DESCRIPTION:Baan 11\, Wedstrijdnummer 1049\, Afdeling Hoofdklasse 
DTSTART:20260319T200000
DTEND:20260319T230000
LOCATION:City Resort Helmond
ATTACH;FMTTYPE=text/plain:https://hbb.rivio.dev/senioren/2025/wedstrijd/366
 15
END:VEVENT
BEGIN:VEVENT
UID:https://hbb.rivio.dev/senioren/2025/wedstrijd/36648
DTSTAMP:20260419T175304Z
SUMMARY:De Valken 2 - Bakel 2
DESCRIPTION:Baan 1\, Wedstrijdnummer 1053\, Afdeling Hoofdklasse 
DTSTART:20260402T200000
DTEND:20260402T230000
LOCATION:City Resort Helmond
ATTACH;FMTTYPE=text/plain:https://hbb.rivio.dev/senioren/2025/wedstrijd/366
 48
END:VEVENT
BEGIN:VTIMEZONE
TZID:Europe/Amsterdam
BEGIN:STANDARD
DTSTART:20250101T000000
TZNAME:CET
TZOFFSETTO:+0100
TZOFFSETFROM:+0100
END:STANDARD
BEGIN:DAYLIGHT
DTSTART:20250330T030000
TZNAME:CEST
TZOFFSETTO:+0200
TZOFFSETFROM:+0100
END:DAYLIGHT
BEGIN:STANDARD
DTSTART:20251026T020000
TZNAME:CET
TZOFFSETTO:+0100
TZOFFSETFROM:+0200
END:STANDARD
BEGIN:DAYLIGHT
DTSTART:20260329T030000
TZNAME:CEST
TZOFFSETTO:+0200
TZOFFSETFROM:+0100
END:DAYLIGHT
BEGIN:STANDARD
DTSTART:20261025T020000
TZNAME:CET
TZOFFSETTO:+0100
TZOFFSETFROM:+0200
END:STANDARD
END:VTIMEZONE
END:VCALENDAR
