BEGIN:VCALENDAR
PRODID:-//eluceo/ical//2.0/EN
VERSION:2.0
CALSCALE:GREGORIAN
BEGIN:VEVENT
UID:https://hbb.rivio.dev/senioren/2025/wedstrijd/36268
DTSTAMP:20260419T175301Z
SUMMARY:Bakel 1 - Phoenix 1
DESCRIPTION:Baan 1\, Wedstrijdnummer 1\, Afdeling Topklasse 
DTSTART:20250925T200000
DTEND:20250925T230000
LOCATION:City Resort Helmond
ATTACH;FMTTYPE=text/plain:https://hbb.rivio.dev/senioren/2025/wedstrijd/362
 68
END:VEVENT
BEGIN:VEVENT
UID:https://hbb.rivio.dev/senioren/2025/wedstrijd/36289
DTSTAMP:20260419T175301Z
SUMMARY:Mixed 1 - Bakel 1
DESCRIPTION:Baan 2\, Wedstrijdnummer 5\, Afdeling Topklasse 
DTSTART:20251002T200000
DTEND:20251002T230000
LOCATION:City Resort Helmond
ATTACH;FMTTYPE=text/plain:https://hbb.rivio.dev/senioren/2025/wedstrijd/362
 89
END:VEVENT
BEGIN:VEVENT
UID:https://hbb.rivio.dev/senioren/2025/wedstrijd/36312
DTSTAMP:20260419T175301Z
SUMMARY:Bakel 1 - Mierlo 1
DESCRIPTION:Baan 5\, Wedstrijdnummer 9\, Afdeling Topklasse 
DTSTART:20251009T200000
DTEND:20251009T230000
LOCATION:City Resort Helmond
ATTACH;FMTTYPE=text/plain:https://hbb.rivio.dev/senioren/2025/wedstrijd/363
 12
END:VEVENT
BEGIN:VEVENT
UID:https://hbb.rivio.dev/senioren/2025/wedstrijd/36327
DTSTAMP:20260419T175301Z
SUMMARY:Geldrop 1 - Bakel 1
DESCRIPTION:Baan 15\, Wedstrijdnummer 13\, Afdeling Topklasse 
DTSTART:20251022T200000
DTEND:20251022T230000
LOCATION:City Resort Helmond
ATTACH;FMTTYPE=text/plain:https://hbb.rivio.dev/senioren/2025/wedstrijd/363
 27
END:VEVENT
BEGIN:VEVENT
UID:https://hbb.rivio.dev/senioren/2025/wedstrijd/36368
DTSTAMP:20260419T175301Z
SUMMARY:Bakel 1 - De Valken 1
DESCRIPTION:Baan 1\, Wedstrijdnummer 17\, Afdeling Topklasse 
DTSTART:20251106T200000
DTEND:20251106T230000
LOCATION:City Resort Helmond
ATTACH;FMTTYPE=text/plain:https://hbb.rivio.dev/senioren/2025/wedstrijd/363
 68
END:VEVENT
BEGIN:VEVENT
UID:https://hbb.rivio.dev/senioren/2025/wedstrijd/36387
DTSTAMP:20260419T175301Z
SUMMARY:Con Brio 1 - Bakel 1
DESCRIPTION:Baan 15\, Wedstrijdnummer 21\, Afdeling Topklasse 
DTSTART:20251113T200000
DTEND:20251113T230000
LOCATION:City Resort Helmond
ATTACH;FMTTYPE=text/plain:https://hbb.rivio.dev/senioren/2025/wedstrijd/363
 87
END:VEVENT
BEGIN:VEVENT
UID:https://hbb.rivio.dev/senioren/2025/wedstrijd/36411
DTSTAMP:20260419T175301Z
SUMMARY:Bakel 1 - Brabantia 1
DESCRIPTION:Baan 4\, Wedstrijdnummer 25\, Afdeling Topklasse 
DTSTART:20251127T200000
DTEND:20251127T230000
LOCATION:City Resort Helmond
ATTACH;FMTTYPE=text/plain:https://hbb.rivio.dev/senioren/2025/wedstrijd/364
 11
END:VEVENT
BEGIN:VEVENT
UID:https://hbb.rivio.dev/senioren/2025/wedstrijd/36462
DTSTAMP:20260419T175301Z
SUMMARY:Phoenix 1 - Bakel 1
DESCRIPTION:Baan 11\, Wedstrijdnummer 1001\, Afdeling Topklasse 
DTSTART:20260107T200000
DTEND:20260107T230000
LOCATION:City Resort Helmond
ATTACH;FMTTYPE=text/plain:https://hbb.rivio.dev/senioren/2025/wedstrijd/364
 62
END:VEVENT
BEGIN:VEVENT
UID:https://hbb.rivio.dev/senioren/2025/wedstrijd/36490
DTSTAMP:20260419T175301Z
SUMMARY:Bakel 1 - Mixed 1
DESCRIPTION:Baan 4\, Wedstrijdnummer 1005\, Afdeling Topklasse 
DTSTART:20260115T200000
DTEND:20260115T230000
LOCATION:City Resort Helmond
ATTACH;FMTTYPE=text/plain:https://hbb.rivio.dev/senioren/2025/wedstrijd/364
 90
END:VEVENT
BEGIN:VEVENT
UID:https://hbb.rivio.dev/senioren/2025/wedstrijd/36506
DTSTAMP:20260419T175301Z
SUMMARY:Bakel 1 - De Valken 1
DESCRIPTION:Baan 2\, Wedstrijdnummer 3020\, Afdeling Topklasse 
DTSTART:20260122T200000
DTEND:20260122T230000
LOCATION:City Resort Helmond
ATTACH;FMTTYPE=text/plain:https://hbb.rivio.dev/senioren/2025/wedstrijd/365
 06
END:VEVENT
BEGIN:VEVENT
UID:https://hbb.rivio.dev/senioren/2025/wedstrijd/36534
DTSTAMP:20260419T175301Z
SUMMARY:Mierlo 1 - Bakel 1
DESCRIPTION:Baan 2\, Wedstrijdnummer 1009\, Afdeling Topklasse 
DTSTART:20260205T200000
DTEND:20260205T230000
LOCATION:City Resort Helmond
ATTACH;FMTTYPE=text/plain:https://hbb.rivio.dev/senioren/2025/wedstrijd/365
 34
END:VEVENT
BEGIN:VEVENT
UID:https://hbb.rivio.dev/senioren/2025/wedstrijd/36557
DTSTAMP:20260419T175302Z
SUMMARY:Bakel 1 - Geldrop 1
DESCRIPTION:Baan 11\, Wedstrijdnummer 1013\, Afdeling Topklasse 
DTSTART:20260212T200000
DTEND:20260212T230000
LOCATION:City Resort Helmond
ATTACH;FMTTYPE=text/plain:https://hbb.rivio.dev/senioren/2025/wedstrijd/365
 57
END:VEVENT
BEGIN:VEVENT
UID:https://hbb.rivio.dev/senioren/2025/wedstrijd/36578
DTSTAMP:20260419T175302Z
SUMMARY:De Valken 1 - Bakel 1
DESCRIPTION:Baan 12\, Wedstrijdnummer 1017\, Afdeling Topklasse 
DTSTART:20260226T200000
DTEND:20260226T230000
LOCATION:City Resort Helmond
ATTACH;FMTTYPE=text/plain:https://hbb.rivio.dev/senioren/2025/wedstrijd/365
 78
END:VEVENT
BEGIN:VEVENT
UID:https://hbb.rivio.dev/senioren/2025/wedstrijd/36610
DTSTAMP:20260419T175302Z
SUMMARY:Bakel 1 - Con Brio 1
DESCRIPTION:Baan 1\, Wedstrijdnummer 1021\, Afdeling Topklasse 
DTSTART:20260319T200000
DTEND:20260319T230000
LOCATION:City Resort Helmond
ATTACH;FMTTYPE=text/plain:https://hbb.rivio.dev/senioren/2025/wedstrijd/366
 10
END:VEVENT
BEGIN:VEVENT
UID:https://hbb.rivio.dev/senioren/2025/wedstrijd/36634
DTSTAMP:20260419T175302Z
SUMMARY:Brabantia 1 - Bakel 1
DESCRIPTION:Baan 11\, Wedstrijdnummer 1025\, Afdeling Topklasse 
DTSTART:20260326T200000
DTEND:20260326T230000
LOCATION:City Resort Helmond
ATTACH;FMTTYPE=text/plain:https://hbb.rivio.dev/senioren/2025/wedstrijd/366
 34
END:VEVENT
BEGIN:VTIMEZONE
TZID:Europe/Amsterdam
BEGIN:STANDARD
DTSTART:20250101T000000
TZNAME:CET
TZOFFSETTO:+0100
TZOFFSETFROM:+0100
END:STANDARD
BEGIN:DAYLIGHT
DTSTART:20250330T030000
TZNAME:CEST
TZOFFSETTO:+0200
TZOFFSETFROM:+0100
END:DAYLIGHT
BEGIN:STANDARD
DTSTART:20251026T020000
TZNAME:CET
TZOFFSETTO:+0100
TZOFFSETFROM:+0200
END:STANDARD
BEGIN:DAYLIGHT
DTSTART:20260329T030000
TZNAME:CEST
TZOFFSETTO:+0200
TZOFFSETFROM:+0100
END:DAYLIGHT
BEGIN:STANDARD
DTSTART:20261025T020000
TZNAME:CET
TZOFFSETTO:+0100
TZOFFSETFROM:+0200
END:STANDARD
END:VTIMEZONE
END:VCALENDAR
