BEGIN:VCALENDAR
PRODID:-//eluceo/ical//2.0/EN
VERSION:2.0
CALSCALE:GREGORIAN
BEGIN:VEVENT
UID:https://hbb.rivio.dev/senioren/2025/wedstrijd/36273
DTSTAMP:20260419T153530Z
SUMMARY:Bakel 4 - Mixed 5
DESCRIPTION:Baan 11\, Wedstrijdnummer 145\, Afdeling 4e klasse I
DTSTART:20250925T200000
DTEND:20250925T230000
LOCATION:City Resort Helmond
ATTACH;FMTTYPE=text/plain:https://hbb.rivio.dev/senioren/2025/wedstrijd/362
 73
END:VEVENT
BEGIN:VEVENT
UID:https://hbb.rivio.dev/senioren/2025/wedstrijd/36329
DTSTAMP:20260419T153530Z
SUMMARY:Never Down 1 - Mixed 5
DESCRIPTION:Baan 2\, Wedstrijdnummer 150\, Afdeling 4e klasse I
DTSTART:20251023T200000
DTEND:20251023T230000
LOCATION:City Resort Helmond
ATTACH;FMTTYPE=text/plain:https://hbb.rivio.dev/senioren/2025/wedstrijd/363
 29
END:VEVENT
BEGIN:VEVENT
UID:https://hbb.rivio.dev/senioren/2025/wedstrijd/36351
DTSTAMP:20260419T153530Z
SUMMARY:Mixed 5 - Heiakker 2
DESCRIPTION:Baan 4\, Wedstrijdnummer 154\, Afdeling 4e klasse I
DTSTART:20251030T200000
DTEND:20251030T230000
LOCATION:City Resort Helmond
ATTACH;FMTTYPE=text/plain:https://hbb.rivio.dev/senioren/2025/wedstrijd/363
 51
END:VEVENT
BEGIN:VEVENT
UID:https://hbb.rivio.dev/senioren/2025/wedstrijd/36363
DTSTAMP:20260419T153530Z
SUMMARY:Mixed 5 - Gemert 3
DESCRIPTION:Baan 11\, Wedstrijdnummer 158\, Afdeling 4e klasse I
DTSTART:20251105T200000
DTEND:20251105T230000
LOCATION:City Resort Helmond
ATTACH;FMTTYPE=text/plain:https://hbb.rivio.dev/senioren/2025/wedstrijd/363
 63
END:VEVENT
BEGIN:VEVENT
UID:https://hbb.rivio.dev/senioren/2025/wedstrijd/36406
DTSTAMP:20260419T153530Z
SUMMARY:Mixed 5 - Mierlo 9
DESCRIPTION:Baan 14\, Wedstrijdnummer 161\, Afdeling 4e klasse I
DTSTART:20251126T200000
DTEND:20251126T230000
LOCATION:City Resort Helmond
ATTACH;FMTTYPE=text/plain:https://hbb.rivio.dev/senioren/2025/wedstrijd/364
 06
END:VEVENT
BEGIN:VEVENT
UID:https://hbb.rivio.dev/senioren/2025/wedstrijd/36426
DTSTAMP:20260419T153530Z
SUMMARY:Mixed 5 - De Valken 5
DESCRIPTION:Baan 14\, Wedstrijdnummer 3017\, Afdeling 4e klasse I
DTSTART:20251203T200000
DTEND:20251203T230000
LOCATION:City Resort Helmond
ATTACH;FMTTYPE=text/plain:https://hbb.rivio.dev/senioren/2025/wedstrijd/364
 26
END:VEVENT
BEGIN:VEVENT
UID:https://hbb.rivio.dev/senioren/2025/wedstrijd/36466
DTSTAMP:20260419T153530Z
SUMMARY:Ganzeveer 4 - Mixed 5
DESCRIPTION:Baan 15\, Wedstrijdnummer 164\, Afdeling 4e klasse I
DTSTART:20260107T200000
DTEND:20260107T230000
LOCATION:City Resort Helmond
ATTACH;FMTTYPE=text/plain:https://hbb.rivio.dev/senioren/2025/wedstrijd/364
 66
END:VEVENT
BEGIN:VEVENT
UID:https://hbb.rivio.dev/senioren/2025/wedstrijd/36487
DTSTAMP:20260419T153530Z
SUMMARY:Mixed 5 - Bakel 4
DESCRIPTION:Baan 1\, Wedstrijdnummer 1145\, Afdeling 4e klasse I
DTSTART:20260115T200000
DTEND:20260115T230000
LOCATION:City Resort Helmond
ATTACH;FMTTYPE=text/plain:https://hbb.rivio.dev/senioren/2025/wedstrijd/364
 87
END:VEVENT
BEGIN:VEVENT
UID:https://hbb.rivio.dev/senioren/2025/wedstrijd/36552
DTSTAMP:20260419T153530Z
SUMMARY:Mixed 5 - Never Down 1
DESCRIPTION:Baan 1\, Wedstrijdnummer 1150\, Afdeling 4e klasse I
DTSTART:20260212T200000
DTEND:20260212T230000
LOCATION:City Resort Helmond
ATTACH;FMTTYPE=text/plain:https://hbb.rivio.dev/senioren/2025/wedstrijd/365
 52
END:VEVENT
BEGIN:VEVENT
UID:https://hbb.rivio.dev/senioren/2025/wedstrijd/36573
DTSTAMP:20260419T153530Z
SUMMARY:Heiakker 2 - Mixed 5
DESCRIPTION:Baan 2\, Wedstrijdnummer 1154\, Afdeling 4e klasse I
DTSTART:20260226T200000
DTEND:20260226T230000
LOCATION:City Resort Helmond
ATTACH;FMTTYPE=text/plain:https://hbb.rivio.dev/senioren/2025/wedstrijd/365
 73
END:VEVENT
BEGIN:VEVENT
UID:https://hbb.rivio.dev/senioren/2025/wedstrijd/36586
DTSTAMP:20260419T153530Z
SUMMARY:Gemert 3 - Mixed 5
DESCRIPTION:Baan 5\, Wedstrijdnummer 1158\, Afdeling 4e klasse I
DTSTART:20260304T200000
DTEND:20260304T230000
LOCATION:City Resort Helmond
ATTACH;FMTTYPE=text/plain:https://hbb.rivio.dev/senioren/2025/wedstrijd/365
 86
END:VEVENT
BEGIN:VEVENT
UID:https://hbb.rivio.dev/senioren/2025/wedstrijd/36625
DTSTAMP:20260419T153531Z
SUMMARY:Mierlo 9 - Mixed 5
DESCRIPTION:Baan 11\, Wedstrijdnummer 1161\, Afdeling 4e klasse I
DTSTART:20260325T200000
DTEND:20260325T230000
LOCATION:City Resort Helmond
ATTACH;FMTTYPE=text/plain:https://hbb.rivio.dev/senioren/2025/wedstrijd/366
 25
END:VEVENT
BEGIN:VEVENT
UID:https://hbb.rivio.dev/senioren/2025/wedstrijd/36644
DTSTAMP:20260419T153531Z
SUMMARY:Mixed 5 - Ganzeveer 4
DESCRIPTION:Baan 11\, Wedstrijdnummer 1164\, Afdeling 4e klasse I
DTSTART:20260401T200000
DTEND:20260401T230000
LOCATION:City Resort Helmond
ATTACH;FMTTYPE=text/plain:https://hbb.rivio.dev/senioren/2025/wedstrijd/366
 44
END:VEVENT
BEGIN:VTIMEZONE
TZID:Europe/Amsterdam
BEGIN:STANDARD
DTSTART:20250101T000000
TZNAME:CET
TZOFFSETTO:+0100
TZOFFSETFROM:+0100
END:STANDARD
BEGIN:DAYLIGHT
DTSTART:20250330T030000
TZNAME:CEST
TZOFFSETTO:+0200
TZOFFSETFROM:+0100
END:DAYLIGHT
BEGIN:STANDARD
DTSTART:20251026T020000
TZNAME:CET
TZOFFSETTO:+0100
TZOFFSETFROM:+0200
END:STANDARD
BEGIN:DAYLIGHT
DTSTART:20260329T030000
TZNAME:CEST
TZOFFSETTO:+0200
TZOFFSETFROM:+0100
END:DAYLIGHT
BEGIN:STANDARD
DTSTART:20261025T020000
TZNAME:CET
TZOFFSETTO:+0100
TZOFFSETFROM:+0200
END:STANDARD
END:VTIMEZONE
END:VCALENDAR
