BEGIN:VCALENDAR
PRODID:-//eluceo/ical//2.0/EN
VERSION:2.0
CALSCALE:GREGORIAN
BEGIN:VEVENT
UID:https://hbb.rivio.dev/senioren/2025/wedstrijd/36264
DTSTAMP:20260420T165628Z
SUMMARY:Mixed 3 - Con Brio 3
DESCRIPTION:Baan 12\, Wedstrijdnummer 94\, Afdeling 2e klasse II
DTSTART:20250924T200000
DTEND:20250924T230000
LOCATION:City Resort Helmond
ATTACH;FMTTYPE=text/plain:https://hbb.rivio.dev/senioren/2025/wedstrijd/362
 64
END:VEVENT
BEGIN:VEVENT
UID:https://hbb.rivio.dev/senioren/2025/wedstrijd/36297
DTSTAMP:20260420T165628Z
SUMMARY:Mixed 3 - Someren 2
DESCRIPTION:Baan 15\, Wedstrijdnummer 98\, Afdeling 2e klasse II
DTSTART:20251002T200000
DTEND:20251002T230000
LOCATION:City Resort Helmond
ATTACH;FMTTYPE=text/plain:https://hbb.rivio.dev/senioren/2025/wedstrijd/362
 97
END:VEVENT
BEGIN:VEVENT
UID:https://hbb.rivio.dev/senioren/2025/wedstrijd/36325
DTSTAMP:20260420T165628Z
SUMMARY:VBSC 1 - Mixed 3
DESCRIPTION:Baan 13\, Wedstrijdnummer 101\, Afdeling 2e klasse II
DTSTART:20251022T200000
DTEND:20251022T230000
LOCATION:City Resort Helmond
ATTACH;FMTTYPE=text/plain:https://hbb.rivio.dev/senioren/2025/wedstrijd/363
 25
END:VEVENT
BEGIN:VEVENT
UID:https://hbb.rivio.dev/senioren/2025/wedstrijd/36342
DTSTAMP:20260420T165628Z
SUMMARY:Mierlo 5 - Mixed 3
DESCRIPTION:Baan 5\, Wedstrijdnummer 104\, Afdeling 2e klasse II
DTSTART:20251029T200000
DTEND:20251029T230000
LOCATION:City Resort Helmond
ATTACH;FMTTYPE=text/plain:https://hbb.rivio.dev/senioren/2025/wedstrijd/363
 42
END:VEVENT
BEGIN:VEVENT
UID:https://hbb.rivio.dev/senioren/2025/wedstrijd/36381
DTSTAMP:20260420T165628Z
SUMMARY:De Valken 4 - Mixed 3
DESCRIPTION:Baan 4\, Wedstrijdnummer 106\, Afdeling 2e klasse II
DTSTART:20251113T200000
DTEND:20251113T230000
LOCATION:City Resort Helmond
ATTACH;FMTTYPE=text/plain:https://hbb.rivio.dev/senioren/2025/wedstrijd/363
 81
END:VEVENT
BEGIN:VEVENT
UID:https://hbb.rivio.dev/senioren/2025/wedstrijd/36396
DTSTAMP:20260420T165628Z
SUMMARY:Mixed 3 - Bakel 3
DESCRIPTION:Baan 14\, Wedstrijdnummer 108\, Afdeling 2e klasse II
DTSTART:20251120T200000
DTEND:20251120T230000
LOCATION:City Resort Helmond
ATTACH;FMTTYPE=text/plain:https://hbb.rivio.dev/senioren/2025/wedstrijd/363
 96
END:VEVENT
BEGIN:VEVENT
UID:https://hbb.rivio.dev/senioren/2025/wedstrijd/36423
DTSTAMP:20260420T165628Z
SUMMARY:Mixed 3 - ASML 1
DESCRIPTION:Baan 11\, Wedstrijdnummer 3002\, Afdeling 2e klasse II
DTSTART:20251203T200000
DTEND:20251203T230000
LOCATION:City Resort Helmond
ATTACH;FMTTYPE=text/plain:https://hbb.rivio.dev/senioren/2025/wedstrijd/364
 23
END:VEVENT
BEGIN:VEVENT
UID:https://hbb.rivio.dev/senioren/2025/wedstrijd/36474
DTSTAMP:20260420T165628Z
SUMMARY:Con Brio 3 - Mixed 3
DESCRIPTION:Baan 13\, Wedstrijdnummer 1094\, Afdeling 2e klasse II
DTSTART:20260108T200000
DTEND:20260108T230000
LOCATION:City Resort Helmond
ATTACH;FMTTYPE=text/plain:https://hbb.rivio.dev/senioren/2025/wedstrijd/364
 74
END:VEVENT
BEGIN:VEVENT
UID:https://hbb.rivio.dev/senioren/2025/wedstrijd/36510
DTSTAMP:20260420T165628Z
SUMMARY:Someren 2 - Mixed 3
DESCRIPTION:Baan 11\, Wedstrijdnummer 1098\, Afdeling 2e klasse II
DTSTART:20260122T200000
DTEND:20260122T230000
LOCATION:City Resort Helmond
ATTACH;FMTTYPE=text/plain:https://hbb.rivio.dev/senioren/2025/wedstrijd/365
 10
END:VEVENT
BEGIN:VEVENT
UID:https://hbb.rivio.dev/senioren/2025/wedstrijd/36531
DTSTAMP:20260420T165628Z
SUMMARY:Mixed 3 - VBSC 1
DESCRIPTION:Baan 14\, Wedstrijdnummer 1101\, Afdeling 2e klasse II
DTSTART:20260204T200000
DTEND:20260204T230000
LOCATION:City Resort Helmond
ATTACH;FMTTYPE=text/plain:https://hbb.rivio.dev/senioren/2025/wedstrijd/365
 31
END:VEVENT
BEGIN:VEVENT
UID:https://hbb.rivio.dev/senioren/2025/wedstrijd/36562
DTSTAMP:20260420T165628Z
SUMMARY:Mixed 3 - Mierlo 5
DESCRIPTION:Baan 1\, Wedstrijdnummer 1104\, Afdeling 2e klasse II
DTSTART:20260225T200000
DTEND:20260225T230000
LOCATION:City Resort Helmond
ATTACH;FMTTYPE=text/plain:https://hbb.rivio.dev/senioren/2025/wedstrijd/365
 62
END:VEVENT
BEGIN:VEVENT
UID:https://hbb.rivio.dev/senioren/2025/wedstrijd/36597
DTSTAMP:20260420T165628Z
SUMMARY:Mixed 3 - De Valken 4
DESCRIPTION:Baan 11\, Wedstrijdnummer 1106\, Afdeling 2e klasse II
DTSTART:20260305T200000
DTEND:20260305T230000
LOCATION:City Resort Helmond
ATTACH;FMTTYPE=text/plain:https://hbb.rivio.dev/senioren/2025/wedstrijd/365
 97
END:VEVENT
BEGIN:VEVENT
UID:https://hbb.rivio.dev/senioren/2025/wedstrijd/36619
DTSTAMP:20260420T165628Z
SUMMARY:Bakel 3 - Mixed 3
DESCRIPTION:Baan 15\, Wedstrijdnummer 1108\, Afdeling 2e klasse II
DTSTART:20260319T200000
DTEND:20260319T230000
LOCATION:City Resort Helmond
ATTACH;FMTTYPE=text/plain:https://hbb.rivio.dev/senioren/2025/wedstrijd/366
 19
END:VEVENT
BEGIN:VTIMEZONE
TZID:Europe/Amsterdam
BEGIN:STANDARD
DTSTART:20250101T000000
TZNAME:CET
TZOFFSETTO:+0100
TZOFFSETFROM:+0100
END:STANDARD
BEGIN:DAYLIGHT
DTSTART:20250330T030000
TZNAME:CEST
TZOFFSETTO:+0200
TZOFFSETFROM:+0100
END:DAYLIGHT
BEGIN:STANDARD
DTSTART:20251026T020000
TZNAME:CET
TZOFFSETTO:+0100
TZOFFSETFROM:+0200
END:STANDARD
BEGIN:DAYLIGHT
DTSTART:20260329T030000
TZNAME:CEST
TZOFFSETTO:+0200
TZOFFSETFROM:+0100
END:DAYLIGHT
BEGIN:STANDARD
DTSTART:20261025T020000
TZNAME:CET
TZOFFSETTO:+0100
TZOFFSETFROM:+0200
END:STANDARD
END:VTIMEZONE
END:VCALENDAR
