BEGIN:VCALENDAR
PRODID:-//eluceo/ical//2.0/EN
VERSION:2.0
CALSCALE:GREGORIAN
BEGIN:VEVENT
UID:https://hbb.rivio.dev/senioren/2025/wedstrijd/36269
DTSTAMP:20260419T153617Z
SUMMARY:Brabantia 1 - Mixed 1
DESCRIPTION:Baan 2\, Wedstrijdnummer 2\, Afdeling Topklasse 
DTSTART:20250925T200000
DTEND:20250925T230000
LOCATION:City Resort Helmond
ATTACH;FMTTYPE=text/plain:https://hbb.rivio.dev/senioren/2025/wedstrijd/362
 69
END:VEVENT
BEGIN:VEVENT
UID:https://hbb.rivio.dev/senioren/2025/wedstrijd/36289
DTSTAMP:20260419T153617Z
SUMMARY:Mixed 1 - Bakel 1
DESCRIPTION:Baan 2\, Wedstrijdnummer 5\, Afdeling Topklasse 
DTSTART:20251002T200000
DTEND:20251002T230000
LOCATION:City Resort Helmond
ATTACH;FMTTYPE=text/plain:https://hbb.rivio.dev/senioren/2025/wedstrijd/362
 89
END:VEVENT
BEGIN:VEVENT
UID:https://hbb.rivio.dev/senioren/2025/wedstrijd/36313
DTSTAMP:20260419T153617Z
SUMMARY:Mixed 1 - Geldrop 1
DESCRIPTION:Baan 11\, Wedstrijdnummer 10\, Afdeling Topklasse 
DTSTART:20251009T200000
DTEND:20251009T230000
LOCATION:City Resort Helmond
ATTACH;FMTTYPE=text/plain:https://hbb.rivio.dev/senioren/2025/wedstrijd/363
 13
END:VEVENT
BEGIN:VEVENT
UID:https://hbb.rivio.dev/senioren/2025/wedstrijd/36348
DTSTAMP:20260419T153617Z
SUMMARY:Mixed 1 - Con Brio 1
DESCRIPTION:Baan 1\, Wedstrijdnummer 15\, Afdeling Topklasse 
DTSTART:20251030T200000
DTEND:20251030T230000
LOCATION:City Resort Helmond
ATTACH;FMTTYPE=text/plain:https://hbb.rivio.dev/senioren/2025/wedstrijd/363
 48
END:VEVENT
BEGIN:VEVENT
UID:https://hbb.rivio.dev/senioren/2025/wedstrijd/36369
DTSTAMP:20260419T153617Z
SUMMARY:Mixed 1 - Phoenix 1
DESCRIPTION:Baan 2\, Wedstrijdnummer 20\, Afdeling Topklasse 
DTSTART:20251106T200000
DTEND:20251106T230000
LOCATION:City Resort Helmond
ATTACH;FMTTYPE=text/plain:https://hbb.rivio.dev/senioren/2025/wedstrijd/363
 69
END:VEVENT
BEGIN:VEVENT
UID:https://hbb.rivio.dev/senioren/2025/wedstrijd/36389
DTSTAMP:20260419T153617Z
SUMMARY:Mierlo 1 - Mixed 1
DESCRIPTION:Baan 2\, Wedstrijdnummer 24\, Afdeling Topklasse 
DTSTART:20251120T200000
DTEND:20251120T230000
LOCATION:City Resort Helmond
ATTACH;FMTTYPE=text/plain:https://hbb.rivio.dev/senioren/2025/wedstrijd/363
 89
END:VEVENT
BEGIN:VEVENT
UID:https://hbb.rivio.dev/senioren/2025/wedstrijd/36412
DTSTAMP:20260419T153617Z
SUMMARY:De Valken 1 - Mixed 1
DESCRIPTION:Baan 5\, Wedstrijdnummer 27\, Afdeling Topklasse 
DTSTART:20251127T200000
DTEND:20251127T230000
LOCATION:City Resort Helmond
ATTACH;FMTTYPE=text/plain:https://hbb.rivio.dev/senioren/2025/wedstrijd/364
 12
END:VEVENT
BEGIN:VEVENT
UID:https://hbb.rivio.dev/senioren/2025/wedstrijd/36456
DTSTAMP:20260419T153617Z
SUMMARY:Mixed 1 - Brabantia 1
DESCRIPTION:Baan 15\, Wedstrijdnummer 1002\, Afdeling Topklasse 
DTSTART:20251211T200000
DTEND:20251211T230000
LOCATION:City Resort Helmond
ATTACH;FMTTYPE=text/plain:https://hbb.rivio.dev/senioren/2025/wedstrijd/364
 56
END:VEVENT
BEGIN:VEVENT
UID:https://hbb.rivio.dev/senioren/2025/wedstrijd/36490
DTSTAMP:20260419T153617Z
SUMMARY:Bakel 1 - Mixed 1
DESCRIPTION:Baan 4\, Wedstrijdnummer 1005\, Afdeling Topklasse 
DTSTART:20260115T200000
DTEND:20260115T230000
LOCATION:City Resort Helmond
ATTACH;FMTTYPE=text/plain:https://hbb.rivio.dev/senioren/2025/wedstrijd/364
 90
END:VEVENT
BEGIN:VEVENT
UID:https://hbb.rivio.dev/senioren/2025/wedstrijd/36501
DTSTAMP:20260419T153617Z
SUMMARY:Mierlo 1 - Mixed 1
DESCRIPTION:Baan 11\, Wedstrijdnummer 3021\, Afdeling Topklasse 
DTSTART:20260121T200000
DTEND:20260121T230000
LOCATION:City Resort Helmond
ATTACH;FMTTYPE=text/plain:https://hbb.rivio.dev/senioren/2025/wedstrijd/365
 01
END:VEVENT
BEGIN:VEVENT
UID:https://hbb.rivio.dev/senioren/2025/wedstrijd/36516
DTSTAMP:20260419T153617Z
SUMMARY:Geldrop 1 - Mixed 1
DESCRIPTION:Baan 14\, Wedstrijdnummer 1010\, Afdeling Topklasse 
DTSTART:20260128T200000
DTEND:20260128T230000
LOCATION:City Resort Helmond
ATTACH;FMTTYPE=text/plain:https://hbb.rivio.dev/senioren/2025/wedstrijd/365
 16
END:VEVENT
BEGIN:VEVENT
UID:https://hbb.rivio.dev/senioren/2025/wedstrijd/36547
DTSTAMP:20260419T153617Z
SUMMARY:Con Brio 1 - Mixed 1
DESCRIPTION:Baan 5\, Wedstrijdnummer 1015\, Afdeling Topklasse 
DTSTART:20260211T200000
DTEND:20260211T230000
LOCATION:City Resort Helmond
ATTACH;FMTTYPE=text/plain:https://hbb.rivio.dev/senioren/2025/wedstrijd/365
 47
END:VEVENT
BEGIN:VEVENT
UID:https://hbb.rivio.dev/senioren/2025/wedstrijd/36567
DTSTAMP:20260419T153617Z
SUMMARY:Phoenix 1 - Mixed 1
DESCRIPTION:Baan 11\, Wedstrijdnummer 1020\, Afdeling Topklasse 
DTSTART:20260225T200000
DTEND:20260225T230000
LOCATION:City Resort Helmond
ATTACH;FMTTYPE=text/plain:https://hbb.rivio.dev/senioren/2025/wedstrijd/365
 67
END:VEVENT
BEGIN:VEVENT
UID:https://hbb.rivio.dev/senioren/2025/wedstrijd/36612
DTSTAMP:20260419T153617Z
SUMMARY:Mixed 1 - Mierlo 1
DESCRIPTION:Baan 3\, Wedstrijdnummer 1024\, Afdeling Topklasse 
DTSTART:20260319T200000
DTEND:20260319T230000
LOCATION:City Resort Helmond
ATTACH;FMTTYPE=text/plain:https://hbb.rivio.dev/senioren/2025/wedstrijd/366
 12
END:VEVENT
BEGIN:VEVENT
UID:https://hbb.rivio.dev/senioren/2025/wedstrijd/36635
DTSTAMP:20260419T153617Z
SUMMARY:Mixed 1 - De Valken 1
DESCRIPTION:Baan 12\, Wedstrijdnummer 1027\, Afdeling Topklasse 
DTSTART:20260326T200000
DTEND:20260326T230000
LOCATION:City Resort Helmond
ATTACH;FMTTYPE=text/plain:https://hbb.rivio.dev/senioren/2025/wedstrijd/366
 35
END:VEVENT
BEGIN:VTIMEZONE
TZID:Europe/Amsterdam
BEGIN:STANDARD
DTSTART:20250101T000000
TZNAME:CET
TZOFFSETTO:+0100
TZOFFSETFROM:+0100
END:STANDARD
BEGIN:DAYLIGHT
DTSTART:20250330T030000
TZNAME:CEST
TZOFFSETTO:+0200
TZOFFSETFROM:+0100
END:DAYLIGHT
BEGIN:STANDARD
DTSTART:20251026T020000
TZNAME:CET
TZOFFSETTO:+0100
TZOFFSETFROM:+0200
END:STANDARD
BEGIN:DAYLIGHT
DTSTART:20260329T030000
TZNAME:CEST
TZOFFSETTO:+0200
TZOFFSETFROM:+0100
END:DAYLIGHT
BEGIN:STANDARD
DTSTART:20261025T020000
TZNAME:CET
TZOFFSETTO:+0100
TZOFFSETFROM:+0200
END:STANDARD
END:VTIMEZONE
END:VCALENDAR
