BEGIN:VCALENDAR
PRODID:-//eluceo/ical//2.0/EN
VERSION:2.0
CALSCALE:GREGORIAN
BEGIN:VEVENT
UID:https://hbb.rivio.dev/jeugd/2025/wedstrijd/36664
DTSTAMP:20260420T145310Z
SUMMARY:Gemert 5 - Gemert 4
DESCRIPTION:Baan 11\, Wedstrijdnummer 65\, Afdeling F-klasse 
DTSTART:20250914T093000
DTEND:20250914T111500
LOCATION:City Resort Helmond
ATTACH;FMTTYPE=text/plain:https://hbb.rivio.dev/jeugd/2025/wedstrijd/36664
END:VEVENT
BEGIN:VEVENT
UID:https://hbb.rivio.dev/jeugd/2025/wedstrijd/36690
DTSTAMP:20260420T145310Z
SUMMARY:Mierlo 3 - Gemert 5
DESCRIPTION:Baan 15\, Wedstrijdnummer 69\, Afdeling F-klasse 
DTSTART:20250928T093000
DTEND:20250928T111500
LOCATION:City Resort Helmond
ATTACH;FMTTYPE=text/plain:https://hbb.rivio.dev/jeugd/2025/wedstrijd/36690
END:VEVENT
BEGIN:VEVENT
UID:https://hbb.rivio.dev/jeugd/2025/wedstrijd/36729
DTSTAMP:20260420T145310Z
SUMMARY:Geldrop 1 - Gemert 5
DESCRIPTION:Baan 12\, Wedstrijdnummer 74\, Afdeling F-klasse 
DTSTART:20251102T123000
DTEND:20251102T230000
LOCATION:City Resort Helmond
ATTACH;FMTTYPE=text/plain:https://hbb.rivio.dev/jeugd/2025/wedstrijd/36729
END:VEVENT
BEGIN:VEVENT
UID:https://hbb.rivio.dev/jeugd/2025/wedstrijd/36748
DTSTAMP:20260420T145310Z
SUMMARY:Mixed 6 - Gemert 5
DESCRIPTION:Baan 11\, Wedstrijdnummer 76\, Afdeling F-klasse 
DTSTART:20251109T123000
DTEND:20251109T230000
LOCATION:City Resort Helmond
ATTACH;FMTTYPE=text/plain:https://hbb.rivio.dev/jeugd/2025/wedstrijd/36748
END:VEVENT
BEGIN:VEVENT
UID:https://hbb.rivio.dev/jeugd/2025/wedstrijd/36755
DTSTAMP:20260420T145310Z
SUMMARY:Gemert 5 - Brabantia 2
DESCRIPTION:Baan 3\, Wedstrijdnummer 81\, Afdeling F-klasse 
DTSTART:20251116T093000
DTEND:20251116T111500
LOCATION:City Resort Helmond
ATTACH;FMTTYPE=text/plain:https://hbb.rivio.dev/jeugd/2025/wedstrijd/36755
END:VEVENT
BEGIN:VEVENT
UID:https://hbb.rivio.dev/jeugd/2025/wedstrijd/36789
DTSTAMP:20260420T145310Z
SUMMARY:Gemert 5 - Nuenen 2
DESCRIPTION:Baan 5\, Wedstrijdnummer 83\, Afdeling F-klasse 
DTSTART:20251130T093000
DTEND:20251130T111500
LOCATION:City Resort Helmond
ATTACH;FMTTYPE=text/plain:https://hbb.rivio.dev/jeugd/2025/wedstrijd/36789
END:VEVENT
BEGIN:VEVENT
UID:https://hbb.rivio.dev/jeugd/2025/wedstrijd/36810
DTSTAMP:20260420T145310Z
SUMMARY:Gemert 4 - Gemert 5
DESCRIPTION:Baan 5\, Wedstrijdnummer 1065\, Afdeling F-klasse 
DTSTART:20251214T093000
DTEND:20251214T111500
LOCATION:City Resort Helmond
ATTACH;FMTTYPE=text/plain:https://hbb.rivio.dev/jeugd/2025/wedstrijd/36810
END:VEVENT
BEGIN:VEVENT
UID:https://hbb.rivio.dev/jeugd/2025/wedstrijd/36833
DTSTAMP:20260420T145310Z
SUMMARY:Gemert 5 - Mierlo 3
DESCRIPTION:Baan 12\, Wedstrijdnummer 1069\, Afdeling F-klasse 
DTSTART:20260118T093000
DTEND:20260118T111500
LOCATION:City Resort Helmond
ATTACH;FMTTYPE=text/plain:https://hbb.rivio.dev/jeugd/2025/wedstrijd/36833
END:VEVENT
BEGIN:VEVENT
UID:https://hbb.rivio.dev/jeugd/2025/wedstrijd/36872
DTSTAMP:20260420T145310Z
SUMMARY:Gemert 5 - Geldrop 1
DESCRIPTION:Baan 3\, Wedstrijdnummer 1074\, Afdeling F-klasse 
DTSTART:20260308T093000
DTEND:20260308T111500
LOCATION:City Resort Helmond
ATTACH;FMTTYPE=text/plain:https://hbb.rivio.dev/jeugd/2025/wedstrijd/36872
END:VEVENT
BEGIN:VEVENT
UID:https://hbb.rivio.dev/jeugd/2025/wedstrijd/36892
DTSTAMP:20260420T145310Z
SUMMARY:Gemert 5 - Mixed 6
DESCRIPTION:Baan 1\, Wedstrijdnummer 1076\, Afdeling F-klasse 
DTSTART:20260322T123000
DTEND:20260322T230000
LOCATION:City Resort Helmond
ATTACH;FMTTYPE=text/plain:https://hbb.rivio.dev/jeugd/2025/wedstrijd/36892
END:VEVENT
BEGIN:VEVENT
UID:https://hbb.rivio.dev/jeugd/2025/wedstrijd/36918
DTSTAMP:20260420T145310Z
SUMMARY:Brabantia 2 - Gemert 5
DESCRIPTION:Baan 11\, Wedstrijdnummer 1081\, Afdeling F-klasse 
DTSTART:20260329T123000
DTEND:20260329T230000
LOCATION:City Resort Helmond
ATTACH;FMTTYPE=text/plain:https://hbb.rivio.dev/jeugd/2025/wedstrijd/36918
END:VEVENT
BEGIN:VEVENT
UID:https://hbb.rivio.dev/jeugd/2025/wedstrijd/36935
DTSTAMP:20260420T145310Z
SUMMARY:Nuenen 2 - Gemert 5
DESCRIPTION:Baan 2\, Wedstrijdnummer 1083\, Afdeling F-klasse 
DTSTART:20260412T123000
DTEND:20260412T230000
LOCATION:City Resort Helmond
ATTACH;FMTTYPE=text/plain:https://hbb.rivio.dev/jeugd/2025/wedstrijd/36935
END:VEVENT
BEGIN:VTIMEZONE
TZID:Europe/Amsterdam
BEGIN:STANDARD
DTSTART:20250101T000000
TZNAME:CET
TZOFFSETTO:+0100
TZOFFSETFROM:+0100
END:STANDARD
BEGIN:DAYLIGHT
DTSTART:20250330T030000
TZNAME:CEST
TZOFFSETTO:+0200
TZOFFSETFROM:+0100
END:DAYLIGHT
BEGIN:STANDARD
DTSTART:20251026T020000
TZNAME:CET
TZOFFSETTO:+0100
TZOFFSETFROM:+0200
END:STANDARD
BEGIN:DAYLIGHT
DTSTART:20260329T030000
TZNAME:CEST
TZOFFSETTO:+0200
TZOFFSETFROM:+0100
END:DAYLIGHT
BEGIN:STANDARD
DTSTART:20261025T020000
TZNAME:CET
TZOFFSETTO:+0100
TZOFFSETFROM:+0200
END:STANDARD
END:VTIMEZONE
END:VCALENDAR
