BEGIN:VCALENDAR
PRODID:-//eluceo/ical//2.0/EN
VERSION:2.0
CALSCALE:GREGORIAN
BEGIN:VEVENT
UID:https://hbb.rivio.dev/jeugd/2025/wedstrijd/36684
DTSTAMP:20260420T165443Z
SUMMARY:Gemert 3 - Mixed 5
DESCRIPTION:Baan 5\, Wedstrijdnummer 47\, Afdeling E-klasse 
DTSTART:20250928T093000
DTEND:20250928T111500
LOCATION:City Resort Helmond
ATTACH;FMTTYPE=text/plain:https://hbb.rivio.dev/jeugd/2025/wedstrijd/36684
END:VEVENT
BEGIN:VEVENT
UID:https://hbb.rivio.dev/jeugd/2025/wedstrijd/36708
DTSTAMP:20260420T165443Z
SUMMARY:Gemert 3 - Ganzeveer 1
DESCRIPTION:Baan 12\, Wedstrijdnummer 51\, Afdeling E-klasse 
DTSTART:20251005T093000
DTEND:20251005T111500
LOCATION:City Resort Helmond
ATTACH;FMTTYPE=text/plain:https://hbb.rivio.dev/jeugd/2025/wedstrijd/36708
END:VEVENT
BEGIN:VEVENT
UID:https://hbb.rivio.dev/jeugd/2025/wedstrijd/36725
DTSTAMP:20260420T165443Z
SUMMARY:Gemert 3 - Nuenen 1
DESCRIPTION:Baan 3\, Wedstrijdnummer 52\, Afdeling E-klasse 
DTSTART:20251102T123000
DTEND:20251102T230000
LOCATION:City Resort Helmond
ATTACH;FMTTYPE=text/plain:https://hbb.rivio.dev/jeugd/2025/wedstrijd/36725
END:VEVENT
BEGIN:VEVENT
UID:https://hbb.rivio.dev/jeugd/2025/wedstrijd/36747
DTSTAMP:20260420T165443Z
SUMMARY:Veldhoven 3 - Gemert 3
DESCRIPTION:Baan 5\, Wedstrijdnummer 57\, Afdeling E-klasse 
DTSTART:20251109T123000
DTEND:20251109T230000
LOCATION:City Resort Helmond
ATTACH;FMTTYPE=text/plain:https://hbb.rivio.dev/jeugd/2025/wedstrijd/36747
END:VEVENT
BEGIN:VEVENT
UID:https://hbb.rivio.dev/jeugd/2025/wedstrijd/36768
DTSTAMP:20260420T165443Z
SUMMARY:Veldhoven 2 - Gemert 3
DESCRIPTION:Baan 5\, Wedstrijdnummer 59\, Afdeling E-klasse 
DTSTART:20251116T123000
DTEND:20251116T230000
LOCATION:City Resort Helmond
ATTACH;FMTTYPE=text/plain:https://hbb.rivio.dev/jeugd/2025/wedstrijd/36768
END:VEVENT
BEGIN:VEVENT
UID:https://hbb.rivio.dev/jeugd/2025/wedstrijd/36785
DTSTAMP:20260420T165443Z
SUMMARY:Mixed 4 - Gemert 3
DESCRIPTION:Baan 1\, Wedstrijdnummer 61\, Afdeling E-klasse 
DTSTART:20251130T093000
DTEND:20251130T111500
LOCATION:City Resort Helmond
ATTACH;FMTTYPE=text/plain:https://hbb.rivio.dev/jeugd/2025/wedstrijd/36785
END:VEVENT
BEGIN:VEVENT
UID:https://hbb.rivio.dev/jeugd/2025/wedstrijd/36828
DTSTAMP:20260420T165443Z
SUMMARY:Mixed 5 - Gemert 3
DESCRIPTION:Baan 3\, Wedstrijdnummer 1047\, Afdeling E-klasse 
DTSTART:20260118T093000
DTEND:20260118T111500
LOCATION:City Resort Helmond
ATTACH;FMTTYPE=text/plain:https://hbb.rivio.dev/jeugd/2025/wedstrijd/36828
END:VEVENT
BEGIN:VEVENT
UID:https://hbb.rivio.dev/jeugd/2025/wedstrijd/36849
DTSTAMP:20260420T165443Z
SUMMARY:Ganzeveer 1 - Gemert 3
DESCRIPTION:Baan 2\, Wedstrijdnummer 1051\, Afdeling E-klasse 
DTSTART:20260201T093000
DTEND:20260201T111500
LOCATION:City Resort Helmond
ATTACH;FMTTYPE=text/plain:https://hbb.rivio.dev/jeugd/2025/wedstrijd/36849
END:VEVENT
BEGIN:VEVENT
UID:https://hbb.rivio.dev/jeugd/2025/wedstrijd/36866
DTSTAMP:20260420T165443Z
SUMMARY:Nuenen 1 - Gemert 3
DESCRIPTION:Baan 12\, Wedstrijdnummer 1052\, Afdeling E-klasse 
DTSTART:20260208T093000
DTEND:20260208T111500
LOCATION:City Resort Helmond
ATTACH;FMTTYPE=text/plain:https://hbb.rivio.dev/jeugd/2025/wedstrijd/36866
END:VEVENT
BEGIN:VEVENT
UID:https://hbb.rivio.dev/jeugd/2025/wedstrijd/36890
DTSTAMP:20260420T165443Z
SUMMARY:Gemert 3 - Veldhoven 3
DESCRIPTION:Baan 14\, Wedstrijdnummer 1057\, Afdeling E-klasse 
DTSTART:20260322T093000
DTEND:20260322T111500
LOCATION:City Resort Helmond
ATTACH;FMTTYPE=text/plain:https://hbb.rivio.dev/jeugd/2025/wedstrijd/36890
END:VEVENT
BEGIN:VEVENT
UID:https://hbb.rivio.dev/jeugd/2025/wedstrijd/36910
DTSTAMP:20260420T165443Z
SUMMARY:Gemert 3 - Veldhoven 2
DESCRIPTION:Baan 13\, Wedstrijdnummer 1059\, Afdeling E-klasse 
DTSTART:20260329T093000
DTEND:20260329T111500
LOCATION:City Resort Helmond
ATTACH;FMTTYPE=text/plain:https://hbb.rivio.dev/jeugd/2025/wedstrijd/36910
END:VEVENT
BEGIN:VEVENT
UID:https://hbb.rivio.dev/jeugd/2025/wedstrijd/36930
DTSTAMP:20260420T165443Z
SUMMARY:Gemert 3 - Mixed 4
DESCRIPTION:Baan 12\, Wedstrijdnummer 1061\, Afdeling E-klasse 
DTSTART:20260412T093000
DTEND:20260412T111500
LOCATION:City Resort Helmond
ATTACH;FMTTYPE=text/plain:https://hbb.rivio.dev/jeugd/2025/wedstrijd/36930
END:VEVENT
BEGIN:VTIMEZONE
TZID:Europe/Amsterdam
BEGIN:STANDARD
DTSTART:20250101T000000
TZNAME:CET
TZOFFSETTO:+0100
TZOFFSETFROM:+0100
END:STANDARD
BEGIN:DAYLIGHT
DTSTART:20250330T030000
TZNAME:CEST
TZOFFSETTO:+0200
TZOFFSETFROM:+0100
END:DAYLIGHT
BEGIN:STANDARD
DTSTART:20251026T020000
TZNAME:CET
TZOFFSETTO:+0100
TZOFFSETFROM:+0200
END:STANDARD
BEGIN:DAYLIGHT
DTSTART:20260329T030000
TZNAME:CEST
TZOFFSETTO:+0200
TZOFFSETFROM:+0100
END:DAYLIGHT
BEGIN:STANDARD
DTSTART:20261025T020000
TZNAME:CET
TZOFFSETTO:+0100
TZOFFSETFROM:+0200
END:STANDARD
END:VTIMEZONE
END:VCALENDAR
