BEGIN:VCALENDAR
PRODID:-//eluceo/ical//2.0/EN
VERSION:2.0
CALSCALE:GREGORIAN
BEGIN:VEVENT
UID:https://hbb.rivio.dev/jeugd/2025/wedstrijd/36665
DTSTAMP:20260420T164513Z
SUMMARY:Phoenix 2 - Gemert 2
DESCRIPTION:Baan 12\, Wedstrijdnummer 24\, Afdeling C-klasse 
DTSTART:20250914T093000
DTEND:20250914T111500
LOCATION:City Resort Helmond
ATTACH;FMTTYPE=text/plain:https://hbb.rivio.dev/jeugd/2025/wedstrijd/36665
END:VEVENT
BEGIN:VEVENT
UID:https://hbb.rivio.dev/jeugd/2025/wedstrijd/36681
DTSTAMP:20260420T164513Z
SUMMARY:Mixed 3 - Gemert 2
DESCRIPTION:Baan 2\, Wedstrijdnummer 26\, Afdeling C-klasse 
DTSTART:20250928T093000
DTEND:20250928T111500
LOCATION:City Resort Helmond
ATTACH;FMTTYPE=text/plain:https://hbb.rivio.dev/jeugd/2025/wedstrijd/36681
END:VEVENT
BEGIN:VEVENT
UID:https://hbb.rivio.dev/jeugd/2025/wedstrijd/36702
DTSTAMP:20260420T164513Z
SUMMARY:Mierlo 2 - Gemert 2
DESCRIPTION:Baan 2\, Wedstrijdnummer 29\, Afdeling C-klasse 
DTSTART:20251005T093000
DTEND:20251005T111500
LOCATION:City Resort Helmond
ATTACH;FMTTYPE=text/plain:https://hbb.rivio.dev/jeugd/2025/wedstrijd/36702
END:VEVENT
BEGIN:VEVENT
UID:https://hbb.rivio.dev/jeugd/2025/wedstrijd/36715
DTSTAMP:20260420T164513Z
SUMMARY:Gemert 2 - 't Veertje 1
DESCRIPTION:Baan 4\, Wedstrijdnummer 31\, Afdeling C-klasse 
DTSTART:20251102T093000
DTEND:20251102T111500
LOCATION:City Resort Helmond
ATTACH;FMTTYPE=text/plain:https://hbb.rivio.dev/jeugd/2025/wedstrijd/36715
END:VEVENT
BEGIN:VEVENT
UID:https://hbb.rivio.dev/jeugd/2025/wedstrijd/36743
DTSTAMP:20260420T164513Z
SUMMARY:Gemert 2 - Brabantia 1
DESCRIPTION:Baan 1\, Wedstrijdnummer 35\, Afdeling C-klasse 
DTSTART:20251109T123000
DTEND:20251109T230000
LOCATION:City Resort Helmond
ATTACH;FMTTYPE=text/plain:https://hbb.rivio.dev/jeugd/2025/wedstrijd/36743
END:VEVENT
BEGIN:VEVENT
UID:https://hbb.rivio.dev/jeugd/2025/wedstrijd/36780
DTSTAMP:20260420T164513Z
SUMMARY:Gemert 2 - Veldhoven 1
DESCRIPTION:Baan 11\, Wedstrijdnummer 42\, Afdeling C-klasse 
DTSTART:20251123T093000
DTEND:20251123T111500
LOCATION:City Resort Helmond
ATTACH;FMTTYPE=text/plain:https://hbb.rivio.dev/jeugd/2025/wedstrijd/36780
END:VEVENT
BEGIN:VEVENT
UID:https://hbb.rivio.dev/jeugd/2025/wedstrijd/36802
DTSTAMP:20260420T164513Z
SUMMARY:Gemert 2 - Phoenix 2
DESCRIPTION:Baan 12\, Wedstrijdnummer 1024\, Afdeling C-klasse 
DTSTART:20251207T093000
DTEND:20251207T111500
LOCATION:City Resort Helmond
ATTACH;FMTTYPE=text/plain:https://hbb.rivio.dev/jeugd/2025/wedstrijd/36802
END:VEVENT
BEGIN:VEVENT
UID:https://hbb.rivio.dev/jeugd/2025/wedstrijd/36820
DTSTAMP:20260420T164513Z
SUMMARY:Gemert 2 - Mixed 3
DESCRIPTION:Baan 5\, Wedstrijdnummer 1026\, Afdeling C-klasse 
DTSTART:20260111T093000
DTEND:20260111T111500
LOCATION:City Resort Helmond
ATTACH;FMTTYPE=text/plain:https://hbb.rivio.dev/jeugd/2025/wedstrijd/36820
END:VEVENT
BEGIN:VEVENT
UID:https://hbb.rivio.dev/jeugd/2025/wedstrijd/36841
DTSTAMP:20260420T164513Z
SUMMARY:Gemert 2 - Mierlo 2
DESCRIPTION:Baan 5\, Wedstrijdnummer 1029\, Afdeling C-klasse 
DTSTART:20260125T093000
DTEND:20260125T111500
LOCATION:City Resort Helmond
ATTACH;FMTTYPE=text/plain:https://hbb.rivio.dev/jeugd/2025/wedstrijd/36841
END:VEVENT
BEGIN:VEVENT
UID:https://hbb.rivio.dev/jeugd/2025/wedstrijd/36862
DTSTAMP:20260420T164513Z
SUMMARY:'t Veertje 1 - Gemert 2
DESCRIPTION:Baan 4\, Wedstrijdnummer 1031\, Afdeling C-klasse 
DTSTART:20260208T093000
DTEND:20260208T111500
LOCATION:City Resort Helmond
ATTACH;FMTTYPE=text/plain:https://hbb.rivio.dev/jeugd/2025/wedstrijd/36862
END:VEVENT
BEGIN:VEVENT
UID:https://hbb.rivio.dev/jeugd/2025/wedstrijd/36896
DTSTAMP:20260420T164513Z
SUMMARY:Brabantia 1 - Gemert 2
DESCRIPTION:Baan 5\, Wedstrijdnummer 1035\, Afdeling C-klasse 
DTSTART:20260322T123000
DTEND:20260322T230000
LOCATION:City Resort Helmond
ATTACH;FMTTYPE=text/plain:https://hbb.rivio.dev/jeugd/2025/wedstrijd/36896
END:VEVENT
BEGIN:VEVENT
UID:https://hbb.rivio.dev/jeugd/2025/wedstrijd/36929
DTSTAMP:20260420T164513Z
SUMMARY:Veldhoven 1 - Gemert 2
DESCRIPTION:Baan 11\, Wedstrijdnummer 1042\, Afdeling C-klasse 
DTSTART:20260412T093000
DTEND:20260412T111500
LOCATION:City Resort Helmond
ATTACH;FMTTYPE=text/plain:https://hbb.rivio.dev/jeugd/2025/wedstrijd/36929
END:VEVENT
BEGIN:VTIMEZONE
TZID:Europe/Amsterdam
BEGIN:STANDARD
DTSTART:20250101T000000
TZNAME:CET
TZOFFSETTO:+0100
TZOFFSETFROM:+0100
END:STANDARD
BEGIN:DAYLIGHT
DTSTART:20250330T030000
TZNAME:CEST
TZOFFSETTO:+0200
TZOFFSETFROM:+0100
END:DAYLIGHT
BEGIN:STANDARD
DTSTART:20251026T020000
TZNAME:CET
TZOFFSETTO:+0100
TZOFFSETFROM:+0200
END:STANDARD
BEGIN:DAYLIGHT
DTSTART:20260329T030000
TZNAME:CEST
TZOFFSETTO:+0200
TZOFFSETFROM:+0100
END:DAYLIGHT
BEGIN:STANDARD
DTSTART:20261025T020000
TZNAME:CET
TZOFFSETTO:+0100
TZOFFSETFROM:+0200
END:STANDARD
END:VTIMEZONE
END:VCALENDAR
