BEGIN:VCALENDAR
PRODID:-//eluceo/ical//2.0/EN
VERSION:2.0
CALSCALE:GREGORIAN
BEGIN:VEVENT
UID:https://hbb.rivio.dev/senioren/2025/wedstrijd/36283
DTSTAMP:20260419T164708Z
SUMMARY:Geldrop 3 - Veldhoven 1
DESCRIPTION:Baan 11\, Wedstrijdnummer 116\, Afdeling 3e klasse I
DTSTART:20251001T200000
DTEND:20251001T230000
LOCATION:City Resort Helmond
ATTACH;FMTTYPE=text/plain:https://hbb.rivio.dev/senioren/2025/wedstrijd/362
 83
END:VEVENT
BEGIN:VEVENT
UID:https://hbb.rivio.dev/senioren/2025/wedstrijd/36315
DTSTAMP:20260419T164708Z
SUMMARY:Someren 4 - Geldrop 3
DESCRIPTION:Baan 13\, Wedstrijdnummer 119\, Afdeling 3e klasse I
DTSTART:20251009T200000
DTEND:20251009T230000
LOCATION:City Resort Helmond
ATTACH;FMTTYPE=text/plain:https://hbb.rivio.dev/senioren/2025/wedstrijd/363
 15
END:VEVENT
BEGIN:VEVENT
UID:https://hbb.rivio.dev/senioren/2025/wedstrijd/36344
DTSTAMP:20260419T164708Z
SUMMARY:Mierlo 8 - Geldrop 3
DESCRIPTION:Baan 12\, Wedstrijdnummer 121\, Afdeling 3e klasse I
DTSTART:20251029T200000
DTEND:20251029T230000
LOCATION:City Resort Helmond
ATTACH;FMTTYPE=text/plain:https://hbb.rivio.dev/senioren/2025/wedstrijd/363
 44
END:VEVENT
BEGIN:VEVENT
UID:https://hbb.rivio.dev/senioren/2025/wedstrijd/36366
DTSTAMP:20260419T164708Z
SUMMARY:Geldrop 3 - Gemert 2
DESCRIPTION:Baan 14\, Wedstrijdnummer 123\, Afdeling 3e klasse I
DTSTART:20251105T200000
DTEND:20251105T230000
LOCATION:City Resort Helmond
ATTACH;FMTTYPE=text/plain:https://hbb.rivio.dev/senioren/2025/wedstrijd/363
 66
END:VEVENT
BEGIN:VEVENT
UID:https://hbb.rivio.dev/senioren/2025/wedstrijd/36421
DTSTAMP:20260419T164708Z
SUMMARY:Geldrop 3 - Heeze 2
DESCRIPTION:Baan 4\, Wedstrijdnummer 3011\, Afdeling 3e klasse I
DTSTART:20251203T200000
DTEND:20251203T230000
LOCATION:City Resort Helmond
ATTACH;FMTTYPE=text/plain:https://hbb.rivio.dev/senioren/2025/wedstrijd/364
 21
END:VEVENT
BEGIN:VEVENT
UID:https://hbb.rivio.dev/senioren/2025/wedstrijd/36445
DTSTAMP:20260419T164708Z
SUMMARY:Geldrop 3 - Con Brio 4
DESCRIPTION:Baan 14\, Wedstrijdnummer 127\, Afdeling 3e klasse I
DTSTART:20251210T200000
DTEND:20251210T230000
LOCATION:City Resort Helmond
ATTACH;FMTTYPE=text/plain:https://hbb.rivio.dev/senioren/2025/wedstrijd/364
 45
END:VEVENT
BEGIN:VEVENT
UID:https://hbb.rivio.dev/senioren/2025/wedstrijd/36494
DTSTAMP:20260419T164708Z
SUMMARY:Veldhoven 1 - Geldrop 3
DESCRIPTION:Baan 13\, Wedstrijdnummer 1116\, Afdeling 3e klasse I
DTSTART:20260115T200000
DTEND:20260115T230000
LOCATION:City Resort Helmond
ATTACH;FMTTYPE=text/plain:https://hbb.rivio.dev/senioren/2025/wedstrijd/364
 94
END:VEVENT
BEGIN:VEVENT
UID:https://hbb.rivio.dev/senioren/2025/wedstrijd/36525
DTSTAMP:20260419T164708Z
SUMMARY:Geldrop 3 - Someren 4
DESCRIPTION:Baan 3\, Wedstrijdnummer 1119\, Afdeling 3e klasse I
DTSTART:20260204T200000
DTEND:20260204T230000
LOCATION:City Resort Helmond
ATTACH;FMTTYPE=text/plain:https://hbb.rivio.dev/senioren/2025/wedstrijd/365
 25
END:VEVENT
BEGIN:VEVENT
UID:https://hbb.rivio.dev/senioren/2025/wedstrijd/36570
DTSTAMP:20260419T164708Z
SUMMARY:Geldrop 3 - Mierlo 8
DESCRIPTION:Baan 14\, Wedstrijdnummer 1121\, Afdeling 3e klasse I
DTSTART:20260225T200000
DTEND:20260225T230000
LOCATION:City Resort Helmond
ATTACH;FMTTYPE=text/plain:https://hbb.rivio.dev/senioren/2025/wedstrijd/365
 70
END:VEVENT
BEGIN:VEVENT
UID:https://hbb.rivio.dev/senioren/2025/wedstrijd/36604
DTSTAMP:20260419T164708Z
SUMMARY:Gemert 2 - Geldrop 3
DESCRIPTION:Baan 5\, Wedstrijdnummer 1123\, Afdeling 3e klasse I
DTSTART:20260318T200000
DTEND:20260318T230000
LOCATION:City Resort Helmond
ATTACH;FMTTYPE=text/plain:https://hbb.rivio.dev/senioren/2025/wedstrijd/366
 04
END:VEVENT
BEGIN:VEVENT
UID:https://hbb.rivio.dev/senioren/2025/wedstrijd/36628
DTSTAMP:20260419T164708Z
SUMMARY:Con Brio 4 - Geldrop 3
DESCRIPTION:Baan 14\, Wedstrijdnummer 1127\, Afdeling 3e klasse I
DTSTART:20260325T200000
DTEND:20260325T230000
LOCATION:City Resort Helmond
ATTACH;FMTTYPE=text/plain:https://hbb.rivio.dev/senioren/2025/wedstrijd/366
 28
END:VEVENT
BEGIN:VTIMEZONE
TZID:Europe/Amsterdam
BEGIN:STANDARD
DTSTART:20250101T000000
TZNAME:CET
TZOFFSETTO:+0100
TZOFFSETFROM:+0100
END:STANDARD
BEGIN:DAYLIGHT
DTSTART:20250330T030000
TZNAME:CEST
TZOFFSETTO:+0200
TZOFFSETFROM:+0100
END:DAYLIGHT
BEGIN:STANDARD
DTSTART:20251026T020000
TZNAME:CET
TZOFFSETTO:+0100
TZOFFSETFROM:+0200
END:STANDARD
BEGIN:DAYLIGHT
DTSTART:20260329T030000
TZNAME:CEST
TZOFFSETTO:+0200
TZOFFSETFROM:+0100
END:DAYLIGHT
BEGIN:STANDARD
DTSTART:20261025T020000
TZNAME:CET
TZOFFSETTO:+0100
TZOFFSETFROM:+0200
END:STANDARD
END:VTIMEZONE
END:VCALENDAR
