BEGIN:VCALENDAR
PRODID:-//eluceo/ical//2.0/EN
VERSION:2.0
CALSCALE:GREGORIAN
BEGIN:VEVENT
UID:https://hbb.rivio.dev/jeugd/2025/wedstrijd/36665
DTSTAMP:20260420T150309Z
SUMMARY:Phoenix 2 - Gemert 2
DESCRIPTION:Baan 12\, Wedstrijdnummer 24\, Afdeling C-klasse 
DTSTART:20250914T093000
DTEND:20250914T111500
LOCATION:City Resort Helmond
ATTACH;FMTTYPE=text/plain:https://hbb.rivio.dev/jeugd/2025/wedstrijd/36665
END:VEVENT
BEGIN:VEVENT
UID:https://hbb.rivio.dev/jeugd/2025/wedstrijd/36682
DTSTAMP:20260420T150309Z
SUMMARY:Brabantia 1 - Phoenix 2
DESCRIPTION:Baan 3\, Wedstrijdnummer 27\, Afdeling C-klasse 
DTSTART:20250928T093000
DTEND:20250928T111500
LOCATION:City Resort Helmond
ATTACH;FMTTYPE=text/plain:https://hbb.rivio.dev/jeugd/2025/wedstrijd/36682
END:VEVENT
BEGIN:VEVENT
UID:https://hbb.rivio.dev/jeugd/2025/wedstrijd/36723
DTSTAMP:20260420T150309Z
SUMMARY:Veldhoven 1 - Phoenix 2
DESCRIPTION:Baan 1\, Wedstrijdnummer 32\, Afdeling C-klasse 
DTSTART:20251102T123000
DTEND:20251102T230000
LOCATION:City Resort Helmond
ATTACH;FMTTYPE=text/plain:https://hbb.rivio.dev/jeugd/2025/wedstrijd/36723
END:VEVENT
BEGIN:VEVENT
UID:https://hbb.rivio.dev/jeugd/2025/wedstrijd/36736
DTSTAMP:20260420T150309Z
SUMMARY:'t Veertje 1 - Phoenix 2
DESCRIPTION:Baan 4\, Wedstrijdnummer 34\, Afdeling C-klasse 
DTSTART:20251109T093000
DTEND:20251109T111500
LOCATION:City Resort Helmond
ATTACH;FMTTYPE=text/plain:https://hbb.rivio.dev/jeugd/2025/wedstrijd/36736
END:VEVENT
BEGIN:VEVENT
UID:https://hbb.rivio.dev/jeugd/2025/wedstrijd/36757
DTSTAMP:20260420T150309Z
SUMMARY:Phoenix 2 - Mixed 3
DESCRIPTION:Baan 5\, Wedstrijdnummer 38\, Afdeling C-klasse 
DTSTART:20251116T093000
DTEND:20251116T111500
LOCATION:City Resort Helmond
ATTACH;FMTTYPE=text/plain:https://hbb.rivio.dev/jeugd/2025/wedstrijd/36757
END:VEVENT
BEGIN:VEVENT
UID:https://hbb.rivio.dev/jeugd/2025/wedstrijd/36778
DTSTAMP:20260420T150309Z
SUMMARY:Phoenix 2 - Mierlo 2
DESCRIPTION:Baan 5\, Wedstrijdnummer 41\, Afdeling C-klasse 
DTSTART:20251123T093000
DTEND:20251123T111500
LOCATION:City Resort Helmond
ATTACH;FMTTYPE=text/plain:https://hbb.rivio.dev/jeugd/2025/wedstrijd/36778
END:VEVENT
BEGIN:VEVENT
UID:https://hbb.rivio.dev/jeugd/2025/wedstrijd/36802
DTSTAMP:20260420T150309Z
SUMMARY:Gemert 2 - Phoenix 2
DESCRIPTION:Baan 12\, Wedstrijdnummer 1024\, Afdeling C-klasse 
DTSTART:20251207T093000
DTEND:20251207T111500
LOCATION:City Resort Helmond
ATTACH;FMTTYPE=text/plain:https://hbb.rivio.dev/jeugd/2025/wedstrijd/36802
END:VEVENT
BEGIN:VEVENT
UID:https://hbb.rivio.dev/jeugd/2025/wedstrijd/36826
DTSTAMP:20260420T150309Z
SUMMARY:Phoenix 2 - Brabantia 1
DESCRIPTION:Baan 1\, Wedstrijdnummer 1027\, Afdeling C-klasse 
DTSTART:20260118T093000
DTEND:20260118T111500
LOCATION:City Resort Helmond
ATTACH;FMTTYPE=text/plain:https://hbb.rivio.dev/jeugd/2025/wedstrijd/36826
END:VEVENT
BEGIN:VEVENT
UID:https://hbb.rivio.dev/jeugd/2025/wedstrijd/36863
DTSTAMP:20260420T150309Z
SUMMARY:Phoenix 2 - Veldhoven 1
DESCRIPTION:Baan 5\, Wedstrijdnummer 1032\, Afdeling C-klasse 
DTSTART:20260208T093000
DTEND:20260208T111500
LOCATION:City Resort Helmond
ATTACH;FMTTYPE=text/plain:https://hbb.rivio.dev/jeugd/2025/wedstrijd/36863
END:VEVENT
BEGIN:VEVENT
UID:https://hbb.rivio.dev/jeugd/2025/wedstrijd/36895
DTSTAMP:20260420T150309Z
SUMMARY:Phoenix 2 - 't Veertje 1
DESCRIPTION:Baan 4\, Wedstrijdnummer 1034\, Afdeling C-klasse 
DTSTART:20260322T123000
DTEND:20260322T230000
LOCATION:City Resort Helmond
ATTACH;FMTTYPE=text/plain:https://hbb.rivio.dev/jeugd/2025/wedstrijd/36895
END:VEVENT
BEGIN:VEVENT
UID:https://hbb.rivio.dev/jeugd/2025/wedstrijd/36903
DTSTAMP:20260420T150309Z
SUMMARY:Mixed 3 - Phoenix 2
DESCRIPTION:Baan 2\, Wedstrijdnummer 1038\, Afdeling C-klasse 
DTSTART:20260329T093000
DTEND:20260329T111500
LOCATION:City Resort Helmond
ATTACH;FMTTYPE=text/plain:https://hbb.rivio.dev/jeugd/2025/wedstrijd/36903
END:VEVENT
BEGIN:VEVENT
UID:https://hbb.rivio.dev/jeugd/2025/wedstrijd/36927
DTSTAMP:20260420T150309Z
SUMMARY:Mierlo 2 - Phoenix 2
DESCRIPTION:Baan 5\, Wedstrijdnummer 1041\, Afdeling C-klasse 
DTSTART:20260412T093000
DTEND:20260412T111500
LOCATION:City Resort Helmond
ATTACH;FMTTYPE=text/plain:https://hbb.rivio.dev/jeugd/2025/wedstrijd/36927
END:VEVENT
BEGIN:VTIMEZONE
TZID:Europe/Amsterdam
BEGIN:STANDARD
DTSTART:20250101T000000
TZNAME:CET
TZOFFSETTO:+0100
TZOFFSETFROM:+0100
END:STANDARD
BEGIN:DAYLIGHT
DTSTART:20250330T030000
TZNAME:CEST
TZOFFSETTO:+0200
TZOFFSETFROM:+0100
END:DAYLIGHT
BEGIN:STANDARD
DTSTART:20251026T020000
TZNAME:CET
TZOFFSETTO:+0100
TZOFFSETFROM:+0200
END:STANDARD
BEGIN:DAYLIGHT
DTSTART:20260329T030000
TZNAME:CEST
TZOFFSETTO:+0200
TZOFFSETFROM:+0100
END:DAYLIGHT
BEGIN:STANDARD
DTSTART:20261025T020000
TZNAME:CET
TZOFFSETTO:+0100
TZOFFSETFROM:+0200
END:STANDARD
END:VTIMEZONE
END:VCALENDAR
