BEGIN:VCALENDAR
PRODID:-//eluceo/ical//2.0/EN
VERSION:2.0
CALSCALE:GREGORIAN
BEGIN:VEVENT
UID:https://hbb.rivio.dev/jeugd/2025/wedstrijd/36673
DTSTAMP:20260420T171137Z
SUMMARY:Mixed 8 - Mixed 9
DESCRIPTION:Baan 5\, Wedstrijdnummer 106\, Afdeling H-klasse 
DTSTART:20250921T093000
DTEND:20250921T111500
LOCATION:City Resort Helmond
ATTACH;FMTTYPE=text/plain:https://hbb.rivio.dev/jeugd/2025/wedstrijd/36673
END:VEVENT
BEGIN:VEVENT
UID:https://hbb.rivio.dev/jeugd/2025/wedstrijd/36699
DTSTAMP:20260420T171137Z
SUMMARY:Mixed 9 - Ganzeveer 2
DESCRIPTION:Baan 14\, Wedstrijdnummer 112\, Afdeling H-klasse 
DTSTART:20250928T123000
DTEND:20250928T230000
LOCATION:City Resort Helmond
ATTACH;FMTTYPE=text/plain:https://hbb.rivio.dev/jeugd/2025/wedstrijd/36699
END:VEVENT
BEGIN:VEVENT
UID:https://hbb.rivio.dev/jeugd/2025/wedstrijd/36722
DTSTAMP:20260420T171137Z
SUMMARY:Mixed 9 - Phoenix 4
DESCRIPTION:Baan 15\, Wedstrijdnummer 117\, Afdeling H-klasse 
DTSTART:20251102T093000
DTEND:20251102T111500
LOCATION:City Resort Helmond
ATTACH;FMTTYPE=text/plain:https://hbb.rivio.dev/jeugd/2025/wedstrijd/36722
END:VEVENT
BEGIN:VEVENT
UID:https://hbb.rivio.dev/jeugd/2025/wedstrijd/36742
DTSTAMP:20260420T171137Z
SUMMARY:Nuenen 4 - Mixed 9
DESCRIPTION:Baan 15\, Wedstrijdnummer 121\, Afdeling H-klasse 
DTSTART:20251109T093000
DTEND:20251109T111500
LOCATION:City Resort Helmond
ATTACH;FMTTYPE=text/plain:https://hbb.rivio.dev/jeugd/2025/wedstrijd/36742
END:VEVENT
BEGIN:VEVENT
UID:https://hbb.rivio.dev/jeugd/2025/wedstrijd/36761
DTSTAMP:20260420T171137Z
SUMMARY:Veldhoven 5 - Mixed 9
DESCRIPTION:Baan 13\, Wedstrijdnummer 124\, Afdeling H-klasse 
DTSTART:20251116T093000
DTEND:20251116T111500
LOCATION:City Resort Helmond
ATTACH;FMTTYPE=text/plain:https://hbb.rivio.dev/jeugd/2025/wedstrijd/36761
END:VEVENT
BEGIN:VEVENT
UID:https://hbb.rivio.dev/jeugd/2025/wedstrijd/36781
DTSTAMP:20260420T171137Z
SUMMARY:De Valken 1 - Mixed 9
DESCRIPTION:Baan 12\, Wedstrijdnummer 127\, Afdeling H-klasse 
DTSTART:20251123T093000
DTEND:20251123T111500
LOCATION:City Resort Helmond
ATTACH;FMTTYPE=text/plain:https://hbb.rivio.dev/jeugd/2025/wedstrijd/36781
END:VEVENT
BEGIN:VEVENT
UID:https://hbb.rivio.dev/jeugd/2025/wedstrijd/36803
DTSTAMP:20260420T171137Z
SUMMARY:Mixed 9 - Geldrop 2
DESCRIPTION:Baan 13\, Wedstrijdnummer 131\, Afdeling H-klasse 
DTSTART:20251207T093000
DTEND:20251207T111500
LOCATION:City Resort Helmond
ATTACH;FMTTYPE=text/plain:https://hbb.rivio.dev/jeugd/2025/wedstrijd/36803
END:VEVENT
BEGIN:VEVENT
UID:https://hbb.rivio.dev/jeugd/2025/wedstrijd/36815
DTSTAMP:20260420T171137Z
SUMMARY:Mixed 9 - Mixed 8
DESCRIPTION:Baan 15\, Wedstrijdnummer 1106\, Afdeling H-klasse 
DTSTART:20251214T093000
DTEND:20251214T111500
LOCATION:City Resort Helmond
ATTACH;FMTTYPE=text/plain:https://hbb.rivio.dev/jeugd/2025/wedstrijd/36815
END:VEVENT
BEGIN:VEVENT
UID:https://hbb.rivio.dev/jeugd/2025/wedstrijd/36844
DTSTAMP:20260420T171137Z
SUMMARY:Ganzeveer 2 - Mixed 9
DESCRIPTION:Baan 12\, Wedstrijdnummer 1112\, Afdeling H-klasse 
DTSTART:20260125T093000
DTEND:20260125T111500
LOCATION:City Resort Helmond
ATTACH;FMTTYPE=text/plain:https://hbb.rivio.dev/jeugd/2025/wedstrijd/36844
END:VEVENT
BEGIN:VEVENT
UID:https://hbb.rivio.dev/jeugd/2025/wedstrijd/36868
DTSTAMP:20260420T171137Z
SUMMARY:Phoenix 4 - Mixed 9
DESCRIPTION:Baan 14\, Wedstrijdnummer 1117\, Afdeling H-klasse 
DTSTART:20260208T093000
DTEND:20260208T111500
LOCATION:City Resort Helmond
ATTACH;FMTTYPE=text/plain:https://hbb.rivio.dev/jeugd/2025/wedstrijd/36868
END:VEVENT
BEGIN:VEVENT
UID:https://hbb.rivio.dev/jeugd/2025/wedstrijd/36880
DTSTAMP:20260420T171137Z
SUMMARY:Mixed 9 - Nuenen 4
DESCRIPTION:Baan 15\, Wedstrijdnummer 1121\, Afdeling H-klasse 
DTSTART:20260308T093000
DTEND:20260308T111500
LOCATION:City Resort Helmond
ATTACH;FMTTYPE=text/plain:https://hbb.rivio.dev/jeugd/2025/wedstrijd/36880
END:VEVENT
BEGIN:VEVENT
UID:https://hbb.rivio.dev/jeugd/2025/wedstrijd/36900
DTSTAMP:20260420T171137Z
SUMMARY:Mixed 9 - Veldhoven 5
DESCRIPTION:Baan 14\, Wedstrijdnummer 1124\, Afdeling H-klasse 
DTSTART:20260322T123000
DTEND:20260322T230000
LOCATION:City Resort Helmond
ATTACH;FMTTYPE=text/plain:https://hbb.rivio.dev/jeugd/2025/wedstrijd/36900
END:VEVENT
BEGIN:VEVENT
UID:https://hbb.rivio.dev/jeugd/2025/wedstrijd/36920
DTSTAMP:20260420T171137Z
SUMMARY:Mixed 9 - De Valken 1
DESCRIPTION:Baan 13\, Wedstrijdnummer 1127\, Afdeling H-klasse 
DTSTART:20260329T123000
DTEND:20260329T230000
LOCATION:City Resort Helmond
ATTACH;FMTTYPE=text/plain:https://hbb.rivio.dev/jeugd/2025/wedstrijd/36920
END:VEVENT
BEGIN:VEVENT
UID:https://hbb.rivio.dev/jeugd/2025/wedstrijd/36941
DTSTAMP:20260420T171137Z
SUMMARY:Geldrop 2 - Mixed 9
DESCRIPTION:Baan 13\, Wedstrijdnummer 1131\, Afdeling H-klasse 
DTSTART:20260412T123000
DTEND:20260412T230000
LOCATION:City Resort Helmond
ATTACH;FMTTYPE=text/plain:https://hbb.rivio.dev/jeugd/2025/wedstrijd/36941
END:VEVENT
BEGIN:VTIMEZONE
TZID:Europe/Amsterdam
BEGIN:STANDARD
DTSTART:20250101T000000
TZNAME:CET
TZOFFSETTO:+0100
TZOFFSETFROM:+0100
END:STANDARD
BEGIN:DAYLIGHT
DTSTART:20250330T030000
TZNAME:CEST
TZOFFSETTO:+0200
TZOFFSETFROM:+0100
END:DAYLIGHT
BEGIN:STANDARD
DTSTART:20251026T020000
TZNAME:CET
TZOFFSETTO:+0100
TZOFFSETFROM:+0200
END:STANDARD
BEGIN:DAYLIGHT
DTSTART:20260329T030000
TZNAME:CEST
TZOFFSETTO:+0200
TZOFFSETFROM:+0100
END:DAYLIGHT
BEGIN:STANDARD
DTSTART:20261025T020000
TZNAME:CET
TZOFFSETTO:+0100
TZOFFSETFROM:+0200
END:STANDARD
END:VTIMEZONE
END:VCALENDAR
