BEGIN:VCALENDAR
PRODID:-//eluceo/ical//2.0/EN
VERSION:2.0
CALSCALE:GREGORIAN
BEGIN:VEVENT
UID:https://hbb.rivio.dev/jeugd/2025/wedstrijd/36666
DTSTAMP:20260420T133444Z
SUMMARY:Mixed 5 - Mixed 4
DESCRIPTION:Baan 13\, Wedstrijdnummer 43\, Afdeling E-klasse 
DTSTART:20250914T093000
DTEND:20250914T111500
LOCATION:City Resort Helmond
ATTACH;FMTTYPE=text/plain:https://hbb.rivio.dev/jeugd/2025/wedstrijd/36666
END:VEVENT
BEGIN:VEVENT
UID:https://hbb.rivio.dev/jeugd/2025/wedstrijd/36684
DTSTAMP:20260420T133444Z
SUMMARY:Gemert 3 - Mixed 5
DESCRIPTION:Baan 5\, Wedstrijdnummer 47\, Afdeling E-klasse 
DTSTART:20250928T093000
DTEND:20250928T111500
LOCATION:City Resort Helmond
ATTACH;FMTTYPE=text/plain:https://hbb.rivio.dev/jeugd/2025/wedstrijd/36684
END:VEVENT
BEGIN:VEVENT
UID:https://hbb.rivio.dev/jeugd/2025/wedstrijd/36705
DTSTAMP:20260420T133444Z
SUMMARY:Nuenen 1 - Mixed 5
DESCRIPTION:Baan 5\, Wedstrijdnummer 50\, Afdeling E-klasse 
DTSTART:20251005T093000
DTEND:20251005T111500
LOCATION:City Resort Helmond
ATTACH;FMTTYPE=text/plain:https://hbb.rivio.dev/jeugd/2025/wedstrijd/36705
END:VEVENT
BEGIN:VEVENT
UID:https://hbb.rivio.dev/jeugd/2025/wedstrijd/36727
DTSTAMP:20260420T133444Z
SUMMARY:Veldhoven 2 - Mixed 5
DESCRIPTION:Baan 5\, Wedstrijdnummer 54\, Afdeling E-klasse 
DTSTART:20251102T123000
DTEND:20251102T230000
LOCATION:City Resort Helmond
ATTACH;FMTTYPE=text/plain:https://hbb.rivio.dev/jeugd/2025/wedstrijd/36727
END:VEVENT
BEGIN:VEVENT
UID:https://hbb.rivio.dev/jeugd/2025/wedstrijd/36746
DTSTAMP:20260420T133445Z
SUMMARY:Mixed 5 - Ganzeveer 1
DESCRIPTION:Baan 4\, Wedstrijdnummer 56\, Afdeling E-klasse 
DTSTART:20251109T123000
DTEND:20251109T230000
LOCATION:City Resort Helmond
ATTACH;FMTTYPE=text/plain:https://hbb.rivio.dev/jeugd/2025/wedstrijd/36746
END:VEVENT
BEGIN:VEVENT
UID:https://hbb.rivio.dev/jeugd/2025/wedstrijd/36787
DTSTAMP:20260420T133445Z
SUMMARY:Mixed 5 - Veldhoven 3
DESCRIPTION:Baan 3\, Wedstrijdnummer 63\, Afdeling E-klasse 
DTSTART:20251130T093000
DTEND:20251130T111500
LOCATION:City Resort Helmond
ATTACH;FMTTYPE=text/plain:https://hbb.rivio.dev/jeugd/2025/wedstrijd/36787
END:VEVENT
BEGIN:VEVENT
UID:https://hbb.rivio.dev/jeugd/2025/wedstrijd/36806
DTSTAMP:20260420T133445Z
SUMMARY:Mixed 4 - Mixed 5
DESCRIPTION:Baan 1\, Wedstrijdnummer 1043\, Afdeling E-klasse 
DTSTART:20251214T093000
DTEND:20251214T111500
LOCATION:City Resort Helmond
ATTACH;FMTTYPE=text/plain:https://hbb.rivio.dev/jeugd/2025/wedstrijd/36806
END:VEVENT
BEGIN:VEVENT
UID:https://hbb.rivio.dev/jeugd/2025/wedstrijd/36828
DTSTAMP:20260420T133445Z
SUMMARY:Mixed 5 - Gemert 3
DESCRIPTION:Baan 3\, Wedstrijdnummer 1047\, Afdeling E-klasse 
DTSTART:20260118T093000
DTEND:20260118T111500
LOCATION:City Resort Helmond
ATTACH;FMTTYPE=text/plain:https://hbb.rivio.dev/jeugd/2025/wedstrijd/36828
END:VEVENT
BEGIN:VEVENT
UID:https://hbb.rivio.dev/jeugd/2025/wedstrijd/36848
DTSTAMP:20260420T133445Z
SUMMARY:Mixed 5 - Nuenen 1
DESCRIPTION:Baan 1\, Wedstrijdnummer 1050\, Afdeling E-klasse 
DTSTART:20260201T093000
DTEND:20260201T111500
LOCATION:City Resort Helmond
ATTACH;FMTTYPE=text/plain:https://hbb.rivio.dev/jeugd/2025/wedstrijd/36848
END:VEVENT
BEGIN:VEVENT
UID:https://hbb.rivio.dev/jeugd/2025/wedstrijd/36870
DTSTAMP:20260420T133445Z
SUMMARY:Mixed 5 - Veldhoven 2
DESCRIPTION:Baan 1\, Wedstrijdnummer 1054\, Afdeling E-klasse 
DTSTART:20260308T093000
DTEND:20260308T111500
LOCATION:City Resort Helmond
ATTACH;FMTTYPE=text/plain:https://hbb.rivio.dev/jeugd/2025/wedstrijd/36870
END:VEVENT
BEGIN:VEVENT
UID:https://hbb.rivio.dev/jeugd/2025/wedstrijd/36889
DTSTAMP:20260420T133445Z
SUMMARY:Ganzeveer 1 - Mixed 5
DESCRIPTION:Baan 13\, Wedstrijdnummer 1056\, Afdeling E-klasse 
DTSTART:20260322T093000
DTEND:20260322T111500
LOCATION:City Resort Helmond
ATTACH;FMTTYPE=text/plain:https://hbb.rivio.dev/jeugd/2025/wedstrijd/36889
END:VEVENT
BEGIN:VEVENT
UID:https://hbb.rivio.dev/jeugd/2025/wedstrijd/36932
DTSTAMP:20260420T133445Z
SUMMARY:Veldhoven 3 - Mixed 5
DESCRIPTION:Baan 14\, Wedstrijdnummer 1063\, Afdeling E-klasse 
DTSTART:20260412T093000
DTEND:20260412T111500
LOCATION:City Resort Helmond
ATTACH;FMTTYPE=text/plain:https://hbb.rivio.dev/jeugd/2025/wedstrijd/36932
END:VEVENT
BEGIN:VTIMEZONE
TZID:Europe/Amsterdam
BEGIN:STANDARD
DTSTART:20250101T000000
TZNAME:CET
TZOFFSETTO:+0100
TZOFFSETFROM:+0100
END:STANDARD
BEGIN:DAYLIGHT
DTSTART:20250330T030000
TZNAME:CEST
TZOFFSETTO:+0200
TZOFFSETFROM:+0100
END:DAYLIGHT
BEGIN:STANDARD
DTSTART:20251026T020000
TZNAME:CET
TZOFFSETTO:+0100
TZOFFSETFROM:+0200
END:STANDARD
BEGIN:DAYLIGHT
DTSTART:20260329T030000
TZNAME:CEST
TZOFFSETTO:+0200
TZOFFSETFROM:+0100
END:DAYLIGHT
BEGIN:STANDARD
DTSTART:20261025T020000
TZNAME:CET
TZOFFSETTO:+0100
TZOFFSETFROM:+0200
END:STANDARD
END:VTIMEZONE
END:VCALENDAR
