BEGIN:VCALENDAR
PRODID:-//eluceo/ical//2.0/EN
VERSION:2.0
CALSCALE:GREGORIAN
BEGIN:VEVENT
UID:https://hbb.rivio.dev/jeugd/2025/wedstrijd/36660
DTSTAMP:20260420T164653Z
SUMMARY:Mixed 2 - Mixed 1
DESCRIPTION:Baan 3\, Wedstrijdnummer 3\, Afdeling A-klasse 
DTSTART:20250914T093000
DTEND:20250914T111500
LOCATION:City Resort Helmond
ATTACH;FMTTYPE=text/plain:https://hbb.rivio.dev/jeugd/2025/wedstrijd/36660
END:VEVENT
BEGIN:VEVENT
UID:https://hbb.rivio.dev/jeugd/2025/wedstrijd/36691
DTSTAMP:20260420T164653Z
SUMMARY:Bakel 1 - Mixed 2
DESCRIPTION:Baan 1\, Wedstrijdnummer 7\, Afdeling A-klasse 
DTSTART:20250928T123000
DTEND:20250928T230000
LOCATION:City Resort Helmond
ATTACH;FMTTYPE=text/plain:https://hbb.rivio.dev/jeugd/2025/wedstrijd/36691
END:VEVENT
BEGIN:VEVENT
UID:https://hbb.rivio.dev/jeugd/2025/wedstrijd/36713
DTSTAMP:20260420T164653Z
SUMMARY:Mixed 2 - Mierlo 1
DESCRIPTION:Baan 2\, Wedstrijdnummer 11\, Afdeling A-klasse 
DTSTART:20251102T093000
DTEND:20251102T111500
LOCATION:City Resort Helmond
ATTACH;FMTTYPE=text/plain:https://hbb.rivio.dev/jeugd/2025/wedstrijd/36713
END:VEVENT
BEGIN:VEVENT
UID:https://hbb.rivio.dev/jeugd/2025/wedstrijd/36734
DTSTAMP:20260420T164653Z
SUMMARY:Gemert 1 - Mixed 2
DESCRIPTION:Baan 2\, Wedstrijdnummer 14\, Afdeling A-klasse 
DTSTART:20251109T093000
DTEND:20251109T111500
LOCATION:City Resort Helmond
ATTACH;FMTTYPE=text/plain:https://hbb.rivio.dev/jeugd/2025/wedstrijd/36734
END:VEVENT
BEGIN:VEVENT
UID:https://hbb.rivio.dev/jeugd/2025/wedstrijd/36766
DTSTAMP:20260420T164653Z
SUMMARY:Mixed 2 - Phoenix 1
DESCRIPTION:Baan 3\, Wedstrijdnummer 18\, Afdeling A-klasse 
DTSTART:20251116T123000
DTEND:20251116T230000
LOCATION:City Resort Helmond
ATTACH;FMTTYPE=text/plain:https://hbb.rivio.dev/jeugd/2025/wedstrijd/36766
END:VEVENT
BEGIN:VEVENT
UID:https://hbb.rivio.dev/jeugd/2025/wedstrijd/36776
DTSTAMP:20260420T164653Z
SUMMARY:Con Brio 1 - Mixed 2
DESCRIPTION:Baan 3\, Wedstrijdnummer 21\, Afdeling A-klasse 
DTSTART:20251123T093000
DTEND:20251123T111500
LOCATION:City Resort Helmond
ATTACH;FMTTYPE=text/plain:https://hbb.rivio.dev/jeugd/2025/wedstrijd/36776
END:VEVENT
BEGIN:VEVENT
UID:https://hbb.rivio.dev/jeugd/2025/wedstrijd/36797
DTSTAMP:20260420T164653Z
SUMMARY:Mixed 1 - Mixed 2
DESCRIPTION:Baan 3\, Wedstrijdnummer 1003\, Afdeling A-klasse 
DTSTART:20251207T093000
DTEND:20251207T111500
LOCATION:City Resort Helmond
ATTACH;FMTTYPE=text/plain:https://hbb.rivio.dev/jeugd/2025/wedstrijd/36797
END:VEVENT
BEGIN:VEVENT
UID:https://hbb.rivio.dev/jeugd/2025/wedstrijd/36837
DTSTAMP:20260420T164653Z
SUMMARY:Mixed 2 - Bakel 1
DESCRIPTION:Baan 1\, Wedstrijdnummer 1007\, Afdeling A-klasse 
DTSTART:20260125T093000
DTEND:20260125T111500
LOCATION:City Resort Helmond
ATTACH;FMTTYPE=text/plain:https://hbb.rivio.dev/jeugd/2025/wedstrijd/36837
END:VEVENT
BEGIN:VEVENT
UID:https://hbb.rivio.dev/jeugd/2025/wedstrijd/36860
DTSTAMP:20260420T164653Z
SUMMARY:Mierlo 1 - Mixed 2
DESCRIPTION:Baan 2\, Wedstrijdnummer 1011\, Afdeling A-klasse 
DTSTART:20260208T093000
DTEND:20260208T111500
LOCATION:City Resort Helmond
ATTACH;FMTTYPE=text/plain:https://hbb.rivio.dev/jeugd/2025/wedstrijd/36860
END:VEVENT
BEGIN:VEVENT
UID:https://hbb.rivio.dev/jeugd/2025/wedstrijd/36882
DTSTAMP:20260420T164653Z
SUMMARY:Mixed 2 - Gemert 1
DESCRIPTION:Baan 2\, Wedstrijdnummer 1014\, Afdeling A-klasse 
DTSTART:20260322T093000
DTEND:20260322T111500
LOCATION:City Resort Helmond
ATTACH;FMTTYPE=text/plain:https://hbb.rivio.dev/jeugd/2025/wedstrijd/36882
END:VEVENT
BEGIN:VEVENT
UID:https://hbb.rivio.dev/jeugd/2025/wedstrijd/36915
DTSTAMP:20260420T164653Z
SUMMARY:Phoenix 1 - Mixed 2
DESCRIPTION:Baan 3\, Wedstrijdnummer 1018\, Afdeling A-klasse 
DTSTART:20260329T123000
DTEND:20260329T230000
LOCATION:City Resort Helmond
ATTACH;FMTTYPE=text/plain:https://hbb.rivio.dev/jeugd/2025/wedstrijd/36915
END:VEVENT
BEGIN:VEVENT
UID:https://hbb.rivio.dev/jeugd/2025/wedstrijd/36925
DTSTAMP:20260420T164653Z
SUMMARY:Mixed 2 - Con Brio 1
DESCRIPTION:Baan 3\, Wedstrijdnummer 1021\, Afdeling A-klasse 
DTSTART:20260412T093000
DTEND:20260412T111500
LOCATION:City Resort Helmond
ATTACH;FMTTYPE=text/plain:https://hbb.rivio.dev/jeugd/2025/wedstrijd/36925
END:VEVENT
BEGIN:VTIMEZONE
TZID:Europe/Amsterdam
BEGIN:STANDARD
DTSTART:20250101T000000
TZNAME:CET
TZOFFSETTO:+0100
TZOFFSETFROM:+0100
END:STANDARD
BEGIN:DAYLIGHT
DTSTART:20250330T030000
TZNAME:CEST
TZOFFSETTO:+0200
TZOFFSETFROM:+0100
END:DAYLIGHT
BEGIN:STANDARD
DTSTART:20251026T020000
TZNAME:CET
TZOFFSETTO:+0100
TZOFFSETFROM:+0200
END:STANDARD
BEGIN:DAYLIGHT
DTSTART:20260329T030000
TZNAME:CEST
TZOFFSETTO:+0200
TZOFFSETFROM:+0100
END:DAYLIGHT
BEGIN:STANDARD
DTSTART:20261025T020000
TZNAME:CET
TZOFFSETTO:+0100
TZOFFSETFROM:+0200
END:STANDARD
END:VTIMEZONE
END:VCALENDAR
