BEGIN:VCALENDAR
PRODID:-//eluceo/ical//2.0/EN
VERSION:2.0
CALSCALE:GREGORIAN
BEGIN:VEVENT
UID:https://hbb.rivio.dev/senioren/2025/wedstrijd/36294
DTSTAMP:20260420T150545Z
SUMMARY:Mierlo 9 - Never Down 1
DESCRIPTION:Baan 12\, Wedstrijdnummer 147\, Afdeling 4e klasse I
DTSTART:20251002T200000
DTEND:20251002T230000
LOCATION:City Resort Helmond
ATTACH;FMTTYPE=text/plain:https://hbb.rivio.dev/senioren/2025/wedstrijd/362
 94
END:VEVENT
BEGIN:VEVENT
UID:https://hbb.rivio.dev/senioren/2025/wedstrijd/36329
DTSTAMP:20260420T150545Z
SUMMARY:Never Down 1 - Mixed 5
DESCRIPTION:Baan 2\, Wedstrijdnummer 150\, Afdeling 4e klasse I
DTSTART:20251023T200000
DTEND:20251023T230000
LOCATION:City Resort Helmond
ATTACH;FMTTYPE=text/plain:https://hbb.rivio.dev/senioren/2025/wedstrijd/363
 29
END:VEVENT
BEGIN:VEVENT
UID:https://hbb.rivio.dev/senioren/2025/wedstrijd/36340
DTSTAMP:20260420T150545Z
SUMMARY:Ganzeveer 4 - Never Down 1
DESCRIPTION:Baan 3\, Wedstrijdnummer 153\, Afdeling 4e klasse I
DTSTART:20251029T200000
DTEND:20251029T230000
LOCATION:City Resort Helmond
ATTACH;FMTTYPE=text/plain:https://hbb.rivio.dev/senioren/2025/wedstrijd/363
 40
END:VEVENT
BEGIN:VEVENT
UID:https://hbb.rivio.dev/senioren/2025/wedstrijd/36379
DTSTAMP:20260420T150545Z
SUMMARY:Never Down 1 - Heiakker 2
DESCRIPTION:Baan 2\, Wedstrijdnummer 156\, Afdeling 4e klasse I
DTSTART:20251113T200000
DTEND:20251113T230000
LOCATION:City Resort Helmond
ATTACH;FMTTYPE=text/plain:https://hbb.rivio.dev/senioren/2025/wedstrijd/363
 79
END:VEVENT
BEGIN:VEVENT
UID:https://hbb.rivio.dev/senioren/2025/wedstrijd/36394
DTSTAMP:20260420T150545Z
SUMMARY:Bakel 4 - Never Down 1
DESCRIPTION:Baan 12\, Wedstrijdnummer 159\, Afdeling 4e klasse I
DTSTART:20251120T200000
DTEND:20251120T230000
LOCATION:City Resort Helmond
ATTACH;FMTTYPE=text/plain:https://hbb.rivio.dev/senioren/2025/wedstrijd/363
 94
END:VEVENT
BEGIN:VEVENT
UID:https://hbb.rivio.dev/senioren/2025/wedstrijd/36415
DTSTAMP:20260420T150545Z
SUMMARY:Never Down 1 - Gemert 3
DESCRIPTION:Baan 13\, Wedstrijdnummer 162\, Afdeling 4e klasse I
DTSTART:20251127T200000
DTEND:20251127T230000
LOCATION:City Resort Helmond
ATTACH;FMTTYPE=text/plain:https://hbb.rivio.dev/senioren/2025/wedstrijd/364
 15
END:VEVENT
BEGIN:VEVENT
UID:https://hbb.rivio.dev/senioren/2025/wedstrijd/36431
DTSTAMP:20260420T150545Z
SUMMARY:Never Down 1 - Heiakker 1
DESCRIPTION:Baan 5\, Wedstrijdnummer 3013\, Afdeling 4e klasse I
DTSTART:20251204T200000
DTEND:20251204T230000
LOCATION:City Resort Helmond
ATTACH;FMTTYPE=text/plain:https://hbb.rivio.dev/senioren/2025/wedstrijd/364
 31
END:VEVENT
BEGIN:VEVENT
UID:https://hbb.rivio.dev/senioren/2025/wedstrijd/36533
DTSTAMP:20260420T150545Z
SUMMARY:Never Down 1 - Mierlo 9
DESCRIPTION:Baan 1\, Wedstrijdnummer 1147\, Afdeling 4e klasse I
DTSTART:20260205T200000
DTEND:20260205T230000
LOCATION:City Resort Helmond
ATTACH;FMTTYPE=text/plain:https://hbb.rivio.dev/senioren/2025/wedstrijd/365
 33
END:VEVENT
BEGIN:VEVENT
UID:https://hbb.rivio.dev/senioren/2025/wedstrijd/36552
DTSTAMP:20260420T150545Z
SUMMARY:Mixed 5 - Never Down 1
DESCRIPTION:Baan 1\, Wedstrijdnummer 1150\, Afdeling 4e klasse I
DTSTART:20260212T200000
DTEND:20260212T230000
LOCATION:City Resort Helmond
ATTACH;FMTTYPE=text/plain:https://hbb.rivio.dev/senioren/2025/wedstrijd/365
 52
END:VEVENT
BEGIN:VEVENT
UID:https://hbb.rivio.dev/senioren/2025/wedstrijd/36572
DTSTAMP:20260420T150545Z
SUMMARY:Never Down 1 - Ganzeveer 4
DESCRIPTION:Baan 1\, Wedstrijdnummer 1153\, Afdeling 4e klasse I
DTSTART:20260226T200000
DTEND:20260226T230000
LOCATION:City Resort Helmond
ATTACH;FMTTYPE=text/plain:https://hbb.rivio.dev/senioren/2025/wedstrijd/365
 72
END:VEVENT
BEGIN:VEVENT
UID:https://hbb.rivio.dev/senioren/2025/wedstrijd/36594
DTSTAMP:20260420T150545Z
SUMMARY:Heiakker 2 - Never Down 1
DESCRIPTION:Baan 3\, Wedstrijdnummer 1156\, Afdeling 4e klasse I
DTSTART:20260305T200000
DTEND:20260305T230000
LOCATION:City Resort Helmond
ATTACH;FMTTYPE=text/plain:https://hbb.rivio.dev/senioren/2025/wedstrijd/365
 94
END:VEVENT
BEGIN:VEVENT
UID:https://hbb.rivio.dev/senioren/2025/wedstrijd/36618
DTSTAMP:20260420T150545Z
SUMMARY:Never Down 1 - Bakel 4
DESCRIPTION:Baan 14\, Wedstrijdnummer 1159\, Afdeling 4e klasse I
DTSTART:20260319T200000
DTEND:20260319T230000
LOCATION:City Resort Helmond
ATTACH;FMTTYPE=text/plain:https://hbb.rivio.dev/senioren/2025/wedstrijd/366
 18
END:VEVENT
BEGIN:VEVENT
UID:https://hbb.rivio.dev/senioren/2025/wedstrijd/36643
DTSTAMP:20260420T150545Z
SUMMARY:Gemert 3 - Never Down 1
DESCRIPTION:Baan 5\, Wedstrijdnummer 1162\, Afdeling 4e klasse I
DTSTART:20260401T200000
DTEND:20260401T230000
LOCATION:City Resort Helmond
ATTACH;FMTTYPE=text/plain:https://hbb.rivio.dev/senioren/2025/wedstrijd/366
 43
END:VEVENT
BEGIN:VTIMEZONE
TZID:Europe/Amsterdam
BEGIN:STANDARD
DTSTART:20250101T000000
TZNAME:CET
TZOFFSETTO:+0100
TZOFFSETFROM:+0100
END:STANDARD
BEGIN:DAYLIGHT
DTSTART:20250330T030000
TZNAME:CEST
TZOFFSETTO:+0200
TZOFFSETFROM:+0100
END:DAYLIGHT
BEGIN:STANDARD
DTSTART:20251026T020000
TZNAME:CET
TZOFFSETTO:+0100
TZOFFSETFROM:+0200
END:STANDARD
BEGIN:DAYLIGHT
DTSTART:20260329T030000
TZNAME:CEST
TZOFFSETTO:+0200
TZOFFSETFROM:+0100
END:DAYLIGHT
BEGIN:STANDARD
DTSTART:20261025T020000
TZNAME:CET
TZOFFSETTO:+0100
TZOFFSETFROM:+0200
END:STANDARD
END:VTIMEZONE
END:VCALENDAR
