BEGIN:VCALENDAR
PRODID:-//eluceo/ical//2.0/EN
VERSION:2.0
CALSCALE:GREGORIAN
BEGIN:VEVENT
UID:https://hbb.rivio.dev/senioren/2025/wedstrijd/36275
DTSTAMP:20260420T190337Z
SUMMARY:Heeze 1 - Smashing Bruang 1
DESCRIPTION:Baan 13\, Wedstrijdnummer 58\, Afdeling 1e klasse 
DTSTART:20250925T200000
DTEND:20250925T230000
LOCATION:City Resort Helmond
ATTACH;FMTTYPE=text/plain:https://hbb.rivio.dev/senioren/2025/wedstrijd/362
 75
END:VEVENT
BEGIN:VEVENT
UID:https://hbb.rivio.dev/senioren/2025/wedstrijd/36305
DTSTAMP:20260420T190337Z
SUMMARY:De Valken 3 - Smashing Bruang 1
DESCRIPTION:Baan 13\, Wedstrijdnummer 63\, Afdeling 1e klasse 
DTSTART:20251008T200000
DTEND:20251008T230000
LOCATION:City Resort Helmond
ATTACH;FMTTYPE=text/plain:https://hbb.rivio.dev/senioren/2025/wedstrijd/363
 05
END:VEVENT
BEGIN:VEVENT
UID:https://hbb.rivio.dev/senioren/2025/wedstrijd/36350
DTSTAMP:20260420T190337Z
SUMMARY:Smashing Bruang 1 - Mierlo 3
DESCRIPTION:Baan 3\, Wedstrijdnummer 67\, Afdeling 1e klasse 
DTSTART:20251030T200000
DTEND:20251030T230000
LOCATION:City Resort Helmond
ATTACH;FMTTYPE=text/plain:https://hbb.rivio.dev/senioren/2025/wedstrijd/363
 50
END:VEVENT
BEGIN:VEVENT
UID:https://hbb.rivio.dev/senioren/2025/wedstrijd/36373
DTSTAMP:20260420T190337Z
SUMMARY:Smashing Bruang 1 - Gemert 1
DESCRIPTION:Baan 11\, Wedstrijdnummer 71\, Afdeling 1e klasse 
DTSTART:20251106T200000
DTEND:20251106T230000
LOCATION:City Resort Helmond
ATTACH;FMTTYPE=text/plain:https://hbb.rivio.dev/senioren/2025/wedstrijd/363
 73
END:VEVENT
BEGIN:VEVENT
UID:https://hbb.rivio.dev/senioren/2025/wedstrijd/36390
DTSTAMP:20260420T190337Z
SUMMARY:Smashing Bruang 1 - 't Veertje 1
DESCRIPTION:Baan 3\, Wedstrijdnummer 74\, Afdeling 1e klasse 
DTSTART:20251120T200000
DTEND:20251120T230000
LOCATION:City Resort Helmond
ATTACH;FMTTYPE=text/plain:https://hbb.rivio.dev/senioren/2025/wedstrijd/363
 90
END:VEVENT
BEGIN:VEVENT
UID:https://hbb.rivio.dev/senioren/2025/wedstrijd/36413
DTSTAMP:20260420T190337Z
SUMMARY:Mierlo 4 - Smashing Bruang 1
DESCRIPTION:Baan 11\, Wedstrijdnummer 77\, Afdeling 1e klasse 
DTSTART:20251127T200000
DTEND:20251127T230000
LOCATION:City Resort Helmond
ATTACH;FMTTYPE=text/plain:https://hbb.rivio.dev/senioren/2025/wedstrijd/364
 13
END:VEVENT
BEGIN:VEVENT
UID:https://hbb.rivio.dev/senioren/2025/wedstrijd/36469
DTSTAMP:20260420T190337Z
SUMMARY:Smashing Bruang 1 - Heeze 1
DESCRIPTION:Baan 3\, Wedstrijdnummer 1058\, Afdeling 1e klasse 
DTSTART:20260108T200000
DTEND:20260108T230000
LOCATION:City Resort Helmond
ATTACH;FMTTYPE=text/plain:https://hbb.rivio.dev/senioren/2025/wedstrijd/364
 69
END:VEVENT
BEGIN:VEVENT
UID:https://hbb.rivio.dev/senioren/2025/wedstrijd/36518
DTSTAMP:20260420T190337Z
SUMMARY:Mierlo 3 - Smashing Bruang 1
DESCRIPTION:Baan 1\, Wedstrijdnummer 3028\, Afdeling 1e klasse 
DTSTART:20260129T200000
DTEND:20260129T230000
LOCATION:City Resort Helmond
ATTACH;FMTTYPE=text/plain:https://hbb.rivio.dev/senioren/2025/wedstrijd/365
 18
END:VEVENT
BEGIN:VEVENT
UID:https://hbb.rivio.dev/senioren/2025/wedstrijd/36538
DTSTAMP:20260420T190337Z
SUMMARY:Smashing Bruang 1 - De Valken 3
DESCRIPTION:Baan 11\, Wedstrijdnummer 1063\, Afdeling 1e klasse 
DTSTART:20260205T200000
DTEND:20260205T230000
LOCATION:City Resort Helmond
ATTACH;FMTTYPE=text/plain:https://hbb.rivio.dev/senioren/2025/wedstrijd/365
 38
END:VEVENT
BEGIN:VEVENT
UID:https://hbb.rivio.dev/senioren/2025/wedstrijd/36559
DTSTAMP:20260420T190337Z
SUMMARY:Mierlo 3 - Smashing Bruang 1
DESCRIPTION:Baan 13\, Wedstrijdnummer 1067\, Afdeling 1e klasse 
DTSTART:20260212T200000
DTEND:20260212T230000
LOCATION:City Resort Helmond
ATTACH;FMTTYPE=text/plain:https://hbb.rivio.dev/senioren/2025/wedstrijd/365
 59
END:VEVENT
BEGIN:VEVENT
UID:https://hbb.rivio.dev/senioren/2025/wedstrijd/36569
DTSTAMP:20260420T190337Z
SUMMARY:Gemert 1 - Smashing Bruang 1
DESCRIPTION:Baan 13\, Wedstrijdnummer 1071\, Afdeling 1e klasse 
DTSTART:20260225T200000
DTEND:20260225T230000
LOCATION:City Resort Helmond
ATTACH;FMTTYPE=text/plain:https://hbb.rivio.dev/senioren/2025/wedstrijd/365
 69
END:VEVENT
BEGIN:VEVENT
UID:https://hbb.rivio.dev/senioren/2025/wedstrijd/36603
DTSTAMP:20260420T190337Z
SUMMARY:'t Veertje 1 - Smashing Bruang 1
DESCRIPTION:Baan 4\, Wedstrijdnummer 1074\, Afdeling 1e klasse 
DTSTART:20260318T200000
DTEND:20260318T230000
LOCATION:City Resort Helmond
ATTACH;FMTTYPE=text/plain:https://hbb.rivio.dev/senioren/2025/wedstrijd/366
 03
END:VEVENT
BEGIN:VEVENT
UID:https://hbb.rivio.dev/senioren/2025/wedstrijd/36636
DTSTAMP:20260420T190337Z
SUMMARY:Smashing Bruang 1 - Mierlo 4
DESCRIPTION:Baan 13\, Wedstrijdnummer 1077\, Afdeling 1e klasse 
DTSTART:20260326T200000
DTEND:20260326T230000
LOCATION:City Resort Helmond
ATTACH;FMTTYPE=text/plain:https://hbb.rivio.dev/senioren/2025/wedstrijd/366
 36
END:VEVENT
BEGIN:VTIMEZONE
TZID:Europe/Amsterdam
BEGIN:STANDARD
DTSTART:20250101T000000
TZNAME:CET
TZOFFSETTO:+0100
TZOFFSETFROM:+0100
END:STANDARD
BEGIN:DAYLIGHT
DTSTART:20250330T030000
TZNAME:CEST
TZOFFSETTO:+0200
TZOFFSETFROM:+0100
END:DAYLIGHT
BEGIN:STANDARD
DTSTART:20251026T020000
TZNAME:CET
TZOFFSETTO:+0100
TZOFFSETFROM:+0200
END:STANDARD
BEGIN:DAYLIGHT
DTSTART:20260329T030000
TZNAME:CEST
TZOFFSETTO:+0200
TZOFFSETFROM:+0100
END:DAYLIGHT
BEGIN:STANDARD
DTSTART:20261025T020000
TZNAME:CET
TZOFFSETTO:+0100
TZOFFSETFROM:+0200
END:STANDARD
END:VTIMEZONE
END:VCALENDAR
