BEGIN:VCALENDAR
PRODID:-//eluceo/ical//2.0/EN
VERSION:2.0
CALSCALE:GREGORIAN
BEGIN:VEVENT
UID:https://hbb.rivio.dev/jeugd/2025/wedstrijd/36658
DTSTAMP:20260420T181826Z
SUMMARY:Bakel 1 - Mierlo 1
DESCRIPTION:Baan 1\, Wedstrijdnummer 1\, Afdeling A-klasse 
DTSTART:20250914T093000
DTEND:20250914T111500
LOCATION:City Resort Helmond
ATTACH;FMTTYPE=text/plain:https://hbb.rivio.dev/jeugd/2025/wedstrijd/36658
END:VEVENT
BEGIN:VEVENT
UID:https://hbb.rivio.dev/jeugd/2025/wedstrijd/36669
DTSTAMP:20260420T181826Z
SUMMARY:Phoenix 1 - Bakel 1
DESCRIPTION:Baan 1\, Wedstrijdnummer 4\, Afdeling A-klasse 
DTSTART:20250921T093000
DTEND:20250921T111500
LOCATION:City Resort Helmond
ATTACH;FMTTYPE=text/plain:https://hbb.rivio.dev/jeugd/2025/wedstrijd/36669
END:VEVENT
BEGIN:VEVENT
UID:https://hbb.rivio.dev/jeugd/2025/wedstrijd/36691
DTSTAMP:20260420T181826Z
SUMMARY:Bakel 1 - Mixed 2
DESCRIPTION:Baan 1\, Wedstrijdnummer 7\, Afdeling A-klasse 
DTSTART:20250928T123000
DTEND:20250928T230000
LOCATION:City Resort Helmond
ATTACH;FMTTYPE=text/plain:https://hbb.rivio.dev/jeugd/2025/wedstrijd/36691
END:VEVENT
BEGIN:VEVENT
UID:https://hbb.rivio.dev/jeugd/2025/wedstrijd/36712
DTSTAMP:20260420T181826Z
SUMMARY:Con Brio 1 - Bakel 1
DESCRIPTION:Baan 1\, Wedstrijdnummer 10\, Afdeling A-klasse 
DTSTART:20251102T093000
DTEND:20251102T111500
LOCATION:City Resort Helmond
ATTACH;FMTTYPE=text/plain:https://hbb.rivio.dev/jeugd/2025/wedstrijd/36712
END:VEVENT
BEGIN:VEVENT
UID:https://hbb.rivio.dev/jeugd/2025/wedstrijd/36764
DTSTAMP:20260420T181826Z
SUMMARY:Gemert 1 - Bakel 1
DESCRIPTION:Baan 1\, Wedstrijdnummer 16\, Afdeling A-klasse 
DTSTART:20251116T123000
DTEND:20251116T230000
LOCATION:City Resort Helmond
ATTACH;FMTTYPE=text/plain:https://hbb.rivio.dev/jeugd/2025/wedstrijd/36764
END:VEVENT
BEGIN:VEVENT
UID:https://hbb.rivio.dev/jeugd/2025/wedstrijd/36774
DTSTAMP:20260420T181826Z
SUMMARY:Bakel 1 - Mixed 1
DESCRIPTION:Baan 1\, Wedstrijdnummer 19\, Afdeling A-klasse 
DTSTART:20251123T093000
DTEND:20251123T111500
LOCATION:City Resort Helmond
ATTACH;FMTTYPE=text/plain:https://hbb.rivio.dev/jeugd/2025/wedstrijd/36774
END:VEVENT
BEGIN:VEVENT
UID:https://hbb.rivio.dev/jeugd/2025/wedstrijd/36795
DTSTAMP:20260420T181826Z
SUMMARY:Mierlo 1 - Bakel 1
DESCRIPTION:Baan 1\, Wedstrijdnummer 1001\, Afdeling A-klasse 
DTSTART:20251207T093000
DTEND:20251207T111500
LOCATION:City Resort Helmond
ATTACH;FMTTYPE=text/plain:https://hbb.rivio.dev/jeugd/2025/wedstrijd/36795
END:VEVENT
BEGIN:VEVENT
UID:https://hbb.rivio.dev/jeugd/2025/wedstrijd/36816
DTSTAMP:20260420T181826Z
SUMMARY:Bakel 1 - Phoenix 1
DESCRIPTION:Baan 1\, Wedstrijdnummer 1004\, Afdeling A-klasse 
DTSTART:20260111T093000
DTEND:20260111T111500
LOCATION:City Resort Helmond
ATTACH;FMTTYPE=text/plain:https://hbb.rivio.dev/jeugd/2025/wedstrijd/36816
END:VEVENT
BEGIN:VEVENT
UID:https://hbb.rivio.dev/jeugd/2025/wedstrijd/36837
DTSTAMP:20260420T181826Z
SUMMARY:Mixed 2 - Bakel 1
DESCRIPTION:Baan 1\, Wedstrijdnummer 1007\, Afdeling A-klasse 
DTSTART:20260125T093000
DTEND:20260125T111500
LOCATION:City Resort Helmond
ATTACH;FMTTYPE=text/plain:https://hbb.rivio.dev/jeugd/2025/wedstrijd/36837
END:VEVENT
BEGIN:VEVENT
UID:https://hbb.rivio.dev/jeugd/2025/wedstrijd/36859
DTSTAMP:20260420T181826Z
SUMMARY:Bakel 1 - Con Brio 1
DESCRIPTION:Baan 1\, Wedstrijdnummer 1010\, Afdeling A-klasse 
DTSTART:20260208T093000
DTEND:20260208T111500
LOCATION:City Resort Helmond
ATTACH;FMTTYPE=text/plain:https://hbb.rivio.dev/jeugd/2025/wedstrijd/36859
END:VEVENT
BEGIN:VEVENT
UID:https://hbb.rivio.dev/jeugd/2025/wedstrijd/36913
DTSTAMP:20260420T181826Z
SUMMARY:Bakel 1 - Gemert 1
DESCRIPTION:Baan 1\, Wedstrijdnummer 1016\, Afdeling A-klasse 
DTSTART:20260329T123000
DTEND:20260329T230000
LOCATION:City Resort Helmond
ATTACH;FMTTYPE=text/plain:https://hbb.rivio.dev/jeugd/2025/wedstrijd/36913
END:VEVENT
BEGIN:VEVENT
UID:https://hbb.rivio.dev/jeugd/2025/wedstrijd/36923
DTSTAMP:20260420T181826Z
SUMMARY:Mixed 1 - Bakel 1
DESCRIPTION:Baan 1\, Wedstrijdnummer 1019\, Afdeling A-klasse 
DTSTART:20260412T093000
DTEND:20260412T111500
LOCATION:City Resort Helmond
ATTACH;FMTTYPE=text/plain:https://hbb.rivio.dev/jeugd/2025/wedstrijd/36923
END:VEVENT
BEGIN:VTIMEZONE
TZID:Europe/Amsterdam
BEGIN:STANDARD
DTSTART:20250101T000000
TZNAME:CET
TZOFFSETTO:+0100
TZOFFSETFROM:+0100
END:STANDARD
BEGIN:DAYLIGHT
DTSTART:20250330T030000
TZNAME:CEST
TZOFFSETTO:+0200
TZOFFSETFROM:+0100
END:DAYLIGHT
BEGIN:STANDARD
DTSTART:20251026T020000
TZNAME:CET
TZOFFSETTO:+0100
TZOFFSETFROM:+0200
END:STANDARD
BEGIN:DAYLIGHT
DTSTART:20260329T030000
TZNAME:CEST
TZOFFSETTO:+0200
TZOFFSETFROM:+0100
END:DAYLIGHT
BEGIN:STANDARD
DTSTART:20261025T020000
TZNAME:CET
TZOFFSETTO:+0100
TZOFFSETFROM:+0200
END:STANDARD
END:VTIMEZONE
END:VCALENDAR
