BEGIN:VCALENDAR
PRODID:-//eluceo/ical//2.0/EN
VERSION:2.0
CALSCALE:GREGORIAN
BEGIN:VEVENT
UID:https://hbb.rivio.dev/senioren/2025/wedstrijd/36269
DTSTAMP:20260419T164704Z
SUMMARY:Brabantia 1 - Mixed 1
DESCRIPTION:Baan 2\, Wedstrijdnummer 2\, Afdeling Topklasse 
DTSTART:20250925T200000
DTEND:20250925T230000
LOCATION:City Resort Helmond
ATTACH;FMTTYPE=text/plain:https://hbb.rivio.dev/senioren/2025/wedstrijd/362
 69
END:VEVENT
BEGIN:VEVENT
UID:https://hbb.rivio.dev/senioren/2025/wedstrijd/36279
DTSTAMP:20260419T164704Z
SUMMARY:Brabantia 1 - Geldrop 1
DESCRIPTION:Baan 2\, Wedstrijdnummer 7\, Afdeling Topklasse 
DTSTART:20251001T200000
DTEND:20251001T230000
LOCATION:City Resort Helmond
ATTACH;FMTTYPE=text/plain:https://hbb.rivio.dev/senioren/2025/wedstrijd/362
 79
END:VEVENT
BEGIN:VEVENT
UID:https://hbb.rivio.dev/senioren/2025/wedstrijd/36304
DTSTAMP:20260419T164704Z
SUMMARY:Brabantia 1 - Con Brio 1
DESCRIPTION:Baan 12\, Wedstrijdnummer 12\, Afdeling Topklasse 
DTSTART:20251008T200000
DTEND:20251008T230000
LOCATION:City Resort Helmond
ATTACH;FMTTYPE=text/plain:https://hbb.rivio.dev/senioren/2025/wedstrijd/363
 04
END:VEVENT
BEGIN:VEVENT
UID:https://hbb.rivio.dev/senioren/2025/wedstrijd/36338
DTSTAMP:20260419T164704Z
SUMMARY:Phoenix 1 - Brabantia 1
DESCRIPTION:Baan 1\, Wedstrijdnummer 16\, Afdeling Topklasse 
DTSTART:20251029T200000
DTEND:20251029T230000
LOCATION:City Resort Helmond
ATTACH;FMTTYPE=text/plain:https://hbb.rivio.dev/senioren/2025/wedstrijd/363
 38
END:VEVENT
BEGIN:VEVENT
UID:https://hbb.rivio.dev/senioren/2025/wedstrijd/36359
DTSTAMP:20260419T164704Z
SUMMARY:Mierlo 1 - Brabantia 1
DESCRIPTION:Baan 2\, Wedstrijdnummer 19\, Afdeling Topklasse 
DTSTART:20251105T200000
DTEND:20251105T230000
LOCATION:City Resort Helmond
ATTACH;FMTTYPE=text/plain:https://hbb.rivio.dev/senioren/2025/wedstrijd/363
 59
END:VEVENT
BEGIN:VEVENT
UID:https://hbb.rivio.dev/senioren/2025/wedstrijd/36388
DTSTAMP:20260419T164704Z
SUMMARY:De Valken 1 - Brabantia 1
DESCRIPTION:Baan 1\, Wedstrijdnummer 22\, Afdeling Topklasse 
DTSTART:20251120T200000
DTEND:20251120T230000
LOCATION:City Resort Helmond
ATTACH;FMTTYPE=text/plain:https://hbb.rivio.dev/senioren/2025/wedstrijd/363
 88
END:VEVENT
BEGIN:VEVENT
UID:https://hbb.rivio.dev/senioren/2025/wedstrijd/36411
DTSTAMP:20260419T164704Z
SUMMARY:Bakel 1 - Brabantia 1
DESCRIPTION:Baan 4\, Wedstrijdnummer 25\, Afdeling Topklasse 
DTSTART:20251127T200000
DTEND:20251127T230000
LOCATION:City Resort Helmond
ATTACH;FMTTYPE=text/plain:https://hbb.rivio.dev/senioren/2025/wedstrijd/364
 11
END:VEVENT
BEGIN:VEVENT
UID:https://hbb.rivio.dev/senioren/2025/wedstrijd/36456
DTSTAMP:20260419T164704Z
SUMMARY:Mixed 1 - Brabantia 1
DESCRIPTION:Baan 15\, Wedstrijdnummer 1002\, Afdeling Topklasse 
DTSTART:20251211T200000
DTEND:20251211T230000
LOCATION:City Resort Helmond
ATTACH;FMTTYPE=text/plain:https://hbb.rivio.dev/senioren/2025/wedstrijd/364
 56
END:VEVENT
BEGIN:VEVENT
UID:https://hbb.rivio.dev/senioren/2025/wedstrijd/36480
DTSTAMP:20260419T164704Z
SUMMARY:Geldrop 1 - Brabantia 1
DESCRIPTION:Baan 4\, Wedstrijdnummer 1007\, Afdeling Topklasse 
DTSTART:20260114T200000
DTEND:20260114T230000
LOCATION:City Resort Helmond
ATTACH;FMTTYPE=text/plain:https://hbb.rivio.dev/senioren/2025/wedstrijd/364
 80
END:VEVENT
BEGIN:VEVENT
UID:https://hbb.rivio.dev/senioren/2025/wedstrijd/36503
DTSTAMP:20260419T164704Z
SUMMARY:Brabantia 1 - Con Brio 1
DESCRIPTION:Baan 13\, Wedstrijdnummer 3023\, Afdeling Topklasse 
DTSTART:20260121T200000
DTEND:20260121T230000
LOCATION:City Resort Helmond
ATTACH;FMTTYPE=text/plain:https://hbb.rivio.dev/senioren/2025/wedstrijd/365
 03
END:VEVENT
BEGIN:VEVENT
UID:https://hbb.rivio.dev/senioren/2025/wedstrijd/36517
DTSTAMP:20260419T164704Z
SUMMARY:Con Brio 1 - Brabantia 1
DESCRIPTION:Baan 15\, Wedstrijdnummer 1012\, Afdeling Topklasse 
DTSTART:20260128T200000
DTEND:20260128T230000
LOCATION:City Resort Helmond
ATTACH;FMTTYPE=text/plain:https://hbb.rivio.dev/senioren/2025/wedstrijd/365
 17
END:VEVENT
BEGIN:VEVENT
UID:https://hbb.rivio.dev/senioren/2025/wedstrijd/36546
DTSTAMP:20260419T164704Z
SUMMARY:Brabantia 1 - Phoenix 1
DESCRIPTION:Baan 4\, Wedstrijdnummer 1016\, Afdeling Topklasse 
DTSTART:20260211T200000
DTEND:20260211T230000
LOCATION:City Resort Helmond
ATTACH;FMTTYPE=text/plain:https://hbb.rivio.dev/senioren/2025/wedstrijd/365
 46
END:VEVENT
BEGIN:VEVENT
UID:https://hbb.rivio.dev/senioren/2025/wedstrijd/36566
DTSTAMP:20260419T164704Z
SUMMARY:Brabantia 1 - Mierlo 1
DESCRIPTION:Baan 5\, Wedstrijdnummer 1019\, Afdeling Topklasse 
DTSTART:20260225T200000
DTEND:20260225T230000
LOCATION:City Resort Helmond
ATTACH;FMTTYPE=text/plain:https://hbb.rivio.dev/senioren/2025/wedstrijd/365
 66
END:VEVENT
BEGIN:VEVENT
UID:https://hbb.rivio.dev/senioren/2025/wedstrijd/36611
DTSTAMP:20260419T164704Z
SUMMARY:Brabantia 1 - De Valken 1
DESCRIPTION:Baan 2\, Wedstrijdnummer 1022\, Afdeling Topklasse 
DTSTART:20260319T200000
DTEND:20260319T230000
LOCATION:City Resort Helmond
ATTACH;FMTTYPE=text/plain:https://hbb.rivio.dev/senioren/2025/wedstrijd/366
 11
END:VEVENT
BEGIN:VEVENT
UID:https://hbb.rivio.dev/senioren/2025/wedstrijd/36634
DTSTAMP:20260419T164704Z
SUMMARY:Brabantia 1 - Bakel 1
DESCRIPTION:Baan 11\, Wedstrijdnummer 1025\, Afdeling Topklasse 
DTSTART:20260326T200000
DTEND:20260326T230000
LOCATION:City Resort Helmond
ATTACH;FMTTYPE=text/plain:https://hbb.rivio.dev/senioren/2025/wedstrijd/366
 34
END:VEVENT
BEGIN:VTIMEZONE
TZID:Europe/Amsterdam
BEGIN:STANDARD
DTSTART:20250101T000000
TZNAME:CET
TZOFFSETTO:+0100
TZOFFSETFROM:+0100
END:STANDARD
BEGIN:DAYLIGHT
DTSTART:20250330T030000
TZNAME:CEST
TZOFFSETTO:+0200
TZOFFSETFROM:+0100
END:DAYLIGHT
BEGIN:STANDARD
DTSTART:20251026T020000
TZNAME:CET
TZOFFSETTO:+0100
TZOFFSETFROM:+0200
END:STANDARD
BEGIN:DAYLIGHT
DTSTART:20260329T030000
TZNAME:CEST
TZOFFSETTO:+0200
TZOFFSETFROM:+0100
END:DAYLIGHT
BEGIN:STANDARD
DTSTART:20261025T020000
TZNAME:CET
TZOFFSETTO:+0100
TZOFFSETFROM:+0200
END:STANDARD
END:VTIMEZONE
END:VCALENDAR
