BEGIN:VCALENDAR
PRODID:-//eluceo/ical//2.0/EN
VERSION:2.0
CALSCALE:GREGORIAN
BEGIN:VEVENT
UID:https://hbb.rivio.dev/senioren/2025/wedstrijd/36260
DTSTAMP:20260420T224015Z
SUMMARY:Gemert 3 - Mierlo 9
DESCRIPTION:Baan 3\, Wedstrijdnummer 144\, Afdeling 4e klasse I
DTSTART:20250924T200000
DTEND:20250924T230000
LOCATION:City Resort Helmond
ATTACH;FMTTYPE=text/plain:https://hbb.rivio.dev/senioren/2025/wedstrijd/362
 60
END:VEVENT
BEGIN:VEVENT
UID:https://hbb.rivio.dev/senioren/2025/wedstrijd/36294
DTSTAMP:20260420T224015Z
SUMMARY:Mierlo 9 - Never Down 1
DESCRIPTION:Baan 12\, Wedstrijdnummer 147\, Afdeling 4e klasse I
DTSTART:20251002T200000
DTEND:20251002T230000
LOCATION:City Resort Helmond
ATTACH;FMTTYPE=text/plain:https://hbb.rivio.dev/senioren/2025/wedstrijd/362
 94
END:VEVENT
BEGIN:VEVENT
UID:https://hbb.rivio.dev/senioren/2025/wedstrijd/36323
DTSTAMP:20260420T224015Z
SUMMARY:Mierlo 9 - Ganzeveer 4
DESCRIPTION:Baan 11\, Wedstrijdnummer 151\, Afdeling 4e klasse I
DTSTART:20251022T200000
DTEND:20251022T230000
LOCATION:City Resort Helmond
ATTACH;FMTTYPE=text/plain:https://hbb.rivio.dev/senioren/2025/wedstrijd/363
 23
END:VEVENT
BEGIN:VEVENT
UID:https://hbb.rivio.dev/senioren/2025/wedstrijd/36352
DTSTAMP:20260420T224015Z
SUMMARY:Mierlo 9 - Bakel 4
DESCRIPTION:Baan 5\, Wedstrijdnummer 155\, Afdeling 4e klasse I
DTSTART:20251030T200000
DTEND:20251030T230000
LOCATION:City Resort Helmond
ATTACH;FMTTYPE=text/plain:https://hbb.rivio.dev/senioren/2025/wedstrijd/363
 52
END:VEVENT
BEGIN:VEVENT
UID:https://hbb.rivio.dev/senioren/2025/wedstrijd/36406
DTSTAMP:20260420T224015Z
SUMMARY:Mixed 5 - Mierlo 9
DESCRIPTION:Baan 14\, Wedstrijdnummer 161\, Afdeling 4e klasse I
DTSTART:20251126T200000
DTEND:20251126T230000
LOCATION:City Resort Helmond
ATTACH;FMTTYPE=text/plain:https://hbb.rivio.dev/senioren/2025/wedstrijd/364
 06
END:VEVENT
BEGIN:VEVENT
UID:https://hbb.rivio.dev/senioren/2025/wedstrijd/36436
DTSTAMP:20260420T224015Z
SUMMARY:Mierlo 9 - BC '85 1
DESCRIPTION:Baan 15\, Wedstrijdnummer 3019\, Afdeling 4e klasse I
DTSTART:20251204T200000
DTEND:20251204T230000
LOCATION:City Resort Helmond
ATTACH;FMTTYPE=text/plain:https://hbb.rivio.dev/senioren/2025/wedstrijd/364
 36
END:VEVENT
BEGIN:VEVENT
UID:https://hbb.rivio.dev/senioren/2025/wedstrijd/36452
DTSTAMP:20260420T224016Z
SUMMARY:Heiakker 2 - Mierlo 9
DESCRIPTION:Baan 11\, Wedstrijdnummer 163\, Afdeling 4e klasse I
DTSTART:20251211T200000
DTEND:20251211T230000
LOCATION:City Resort Helmond
ATTACH;FMTTYPE=text/plain:https://hbb.rivio.dev/senioren/2025/wedstrijd/364
 52
END:VEVENT
BEGIN:VEVENT
UID:https://hbb.rivio.dev/senioren/2025/wedstrijd/36465
DTSTAMP:20260420T224016Z
SUMMARY:Mierlo 9 - Gemert 3
DESCRIPTION:Baan 14\, Wedstrijdnummer 1144\, Afdeling 4e klasse I
DTSTART:20260107T200000
DTEND:20260107T230000
LOCATION:City Resort Helmond
ATTACH;FMTTYPE=text/plain:https://hbb.rivio.dev/senioren/2025/wedstrijd/364
 65
END:VEVENT
BEGIN:VEVENT
UID:https://hbb.rivio.dev/senioren/2025/wedstrijd/36533
DTSTAMP:20260420T224016Z
SUMMARY:Never Down 1 - Mierlo 9
DESCRIPTION:Baan 1\, Wedstrijdnummer 1147\, Afdeling 4e klasse I
DTSTART:20260205T200000
DTEND:20260205T230000
LOCATION:City Resort Helmond
ATTACH;FMTTYPE=text/plain:https://hbb.rivio.dev/senioren/2025/wedstrijd/365
 33
END:VEVENT
BEGIN:VEVENT
UID:https://hbb.rivio.dev/senioren/2025/wedstrijd/36543
DTSTAMP:20260420T224016Z
SUMMARY:Ganzeveer 4 - Mierlo 9
DESCRIPTION:Baan 1\, Wedstrijdnummer 1151\, Afdeling 4e klasse I
DTSTART:20260211T200000
DTEND:20260211T230000
LOCATION:City Resort Helmond
ATTACH;FMTTYPE=text/plain:https://hbb.rivio.dev/senioren/2025/wedstrijd/365
 43
END:VEVENT
BEGIN:VEVENT
UID:https://hbb.rivio.dev/senioren/2025/wedstrijd/36574
DTSTAMP:20260420T224016Z
SUMMARY:Bakel 4 - Mierlo 9
DESCRIPTION:Baan 3\, Wedstrijdnummer 1155\, Afdeling 4e klasse I
DTSTART:20260226T200000
DTEND:20260226T230000
LOCATION:City Resort Helmond
ATTACH;FMTTYPE=text/plain:https://hbb.rivio.dev/senioren/2025/wedstrijd/365
 74
END:VEVENT
BEGIN:VEVENT
UID:https://hbb.rivio.dev/senioren/2025/wedstrijd/36625
DTSTAMP:20260420T224016Z
SUMMARY:Mierlo 9 - Mixed 5
DESCRIPTION:Baan 11\, Wedstrijdnummer 1161\, Afdeling 4e klasse I
DTSTART:20260325T200000
DTEND:20260325T230000
LOCATION:City Resort Helmond
ATTACH;FMTTYPE=text/plain:https://hbb.rivio.dev/senioren/2025/wedstrijd/366
 25
END:VEVENT
BEGIN:VEVENT
UID:https://hbb.rivio.dev/senioren/2025/wedstrijd/36651
DTSTAMP:20260420T224016Z
SUMMARY:Mierlo 9 - Heiakker 2
DESCRIPTION:Baan 4\, Wedstrijdnummer 1163\, Afdeling 4e klasse I
DTSTART:20260402T200000
DTEND:20260402T230000
LOCATION:City Resort Helmond
ATTACH;FMTTYPE=text/plain:https://hbb.rivio.dev/senioren/2025/wedstrijd/366
 51
END:VEVENT
BEGIN:VTIMEZONE
TZID:Europe/Amsterdam
BEGIN:STANDARD
DTSTART:20250101T000000
TZNAME:CET
TZOFFSETTO:+0100
TZOFFSETFROM:+0100
END:STANDARD
BEGIN:DAYLIGHT
DTSTART:20250330T030000
TZNAME:CEST
TZOFFSETTO:+0200
TZOFFSETFROM:+0100
END:DAYLIGHT
BEGIN:STANDARD
DTSTART:20251026T020000
TZNAME:CET
TZOFFSETTO:+0100
TZOFFSETFROM:+0200
END:STANDARD
BEGIN:DAYLIGHT
DTSTART:20260329T030000
TZNAME:CEST
TZOFFSETTO:+0200
TZOFFSETFROM:+0100
END:DAYLIGHT
BEGIN:STANDARD
DTSTART:20261025T020000
TZNAME:CET
TZOFFSETTO:+0100
TZOFFSETFROM:+0200
END:STANDARD
END:VTIMEZONE
END:VCALENDAR
