BEGIN:VCALENDAR
PRODID:-//eluceo/ical//2.0/EN
VERSION:2.0
CALSCALE:GREGORIAN
BEGIN:VEVENT
UID:https://hbb.rivio.dev/senioren/2025/wedstrijd/36298
DTSTAMP:20260419T200650Z
SUMMARY:Mierlo 6 - Con Brio 2
DESCRIPTION:Baan 1\, Wedstrijdnummer 80\, Afdeling 2e klasse I
DTSTART:20251008T200000
DTEND:20251008T230000
LOCATION:City Resort Helmond
ATTACH;FMTTYPE=text/plain:https://hbb.rivio.dev/senioren/2025/wedstrijd/362
 98
END:VEVENT
BEGIN:VEVENT
UID:https://hbb.rivio.dev/senioren/2025/wedstrijd/36322
DTSTAMP:20260419T200650Z
SUMMARY:ASML 1 - Mierlo 6
DESCRIPTION:Baan 5\, Wedstrijdnummer 83\, Afdeling 2e klasse I
DTSTART:20251022T200000
DTEND:20251022T230000
LOCATION:City Resort Helmond
ATTACH;FMTTYPE=text/plain:https://hbb.rivio.dev/senioren/2025/wedstrijd/363
 22
END:VEVENT
BEGIN:VEVENT
UID:https://hbb.rivio.dev/senioren/2025/wedstrijd/36346
DTSTAMP:20260419T200650Z
SUMMARY:Ganzeveer 2 - Mierlo 6
DESCRIPTION:Baan 14\, Wedstrijdnummer 85\, Afdeling 2e klasse I
DTSTART:20251029T200000
DTEND:20251029T230000
LOCATION:City Resort Helmond
ATTACH;FMTTYPE=text/plain:https://hbb.rivio.dev/senioren/2025/wedstrijd/363
 46
END:VEVENT
BEGIN:VEVENT
UID:https://hbb.rivio.dev/senioren/2025/wedstrijd/36404
DTSTAMP:20260419T200650Z
SUMMARY:Mierlo 6 - Mixed 4
DESCRIPTION:Baan 12\, Wedstrijdnummer 87\, Afdeling 2e klasse I
DTSTART:20251126T200000
DTEND:20251126T230000
LOCATION:City Resort Helmond
ATTACH;FMTTYPE=text/plain:https://hbb.rivio.dev/senioren/2025/wedstrijd/364
 04
END:VEVENT
BEGIN:VEVENT
UID:https://hbb.rivio.dev/senioren/2025/wedstrijd/36427
DTSTAMP:20260419T200650Z
SUMMARY:De Valken 4 - Mierlo 6
DESCRIPTION:Baan 1\, Wedstrijdnummer 3004\, Afdeling 2e klasse II
DTSTART:20251204T200000
DTEND:20251204T230000
LOCATION:City Resort Helmond
ATTACH;FMTTYPE=text/plain:https://hbb.rivio.dev/senioren/2025/wedstrijd/364
 27
END:VEVENT
BEGIN:VEVENT
UID:https://hbb.rivio.dev/senioren/2025/wedstrijd/36451
DTSTAMP:20260419T200650Z
SUMMARY:Mierlo 6 - Geldrop 2
DESCRIPTION:Baan 5\, Wedstrijdnummer 91\, Afdeling 2e klasse I
DTSTART:20251211T200000
DTEND:20251211T230000
LOCATION:City Resort Helmond
ATTACH;FMTTYPE=text/plain:https://hbb.rivio.dev/senioren/2025/wedstrijd/364
 51
END:VEVENT
BEGIN:VEVENT
UID:https://hbb.rivio.dev/senioren/2025/wedstrijd/36497
DTSTAMP:20260419T200650Z
SUMMARY:Con Brio 2 - Mierlo 6
DESCRIPTION:Baan 1\, Wedstrijdnummer 1080\, Afdeling 2e klasse I
DTSTART:20260121T200000
DTEND:20260121T230000
LOCATION:City Resort Helmond
ATTACH;FMTTYPE=text/plain:https://hbb.rivio.dev/senioren/2025/wedstrijd/364
 97
END:VEVENT
BEGIN:VEVENT
UID:https://hbb.rivio.dev/senioren/2025/wedstrijd/36530
DTSTAMP:20260419T200650Z
SUMMARY:Mierlo 6 - ASML 1
DESCRIPTION:Baan 13\, Wedstrijdnummer 1083\, Afdeling 2e klasse I
DTSTART:20260204T200000
DTEND:20260204T230000
LOCATION:City Resort Helmond
ATTACH;FMTTYPE=text/plain:https://hbb.rivio.dev/senioren/2025/wedstrijd/365
 30
END:VEVENT
BEGIN:VEVENT
UID:https://hbb.rivio.dev/senioren/2025/wedstrijd/36584
DTSTAMP:20260419T200650Z
SUMMARY:Mierlo 6 - Ganzeveer 2
DESCRIPTION:Baan 3\, Wedstrijdnummer 1085\, Afdeling 2e klasse I
DTSTART:20260304T200000
DTEND:20260304T230000
LOCATION:City Resort Helmond
ATTACH;FMTTYPE=text/plain:https://hbb.rivio.dev/senioren/2025/wedstrijd/365
 84
END:VEVENT
BEGIN:VEVENT
UID:https://hbb.rivio.dev/senioren/2025/wedstrijd/36606
DTSTAMP:20260419T200650Z
SUMMARY:Mixed 4 - Mierlo 6
DESCRIPTION:Baan 12\, Wedstrijdnummer 1087\, Afdeling 2e klasse I
DTSTART:20260318T200000
DTEND:20260318T230000
LOCATION:City Resort Helmond
ATTACH;FMTTYPE=text/plain:https://hbb.rivio.dev/senioren/2025/wedstrijd/366
 06
END:VEVENT
BEGIN:VEVENT
UID:https://hbb.rivio.dev/senioren/2025/wedstrijd/36640
DTSTAMP:20260419T200650Z
SUMMARY:Geldrop 2 - Mierlo 6
DESCRIPTION:Baan 2\, Wedstrijdnummer 1091\, Afdeling 2e klasse I
DTSTART:20260401T200000
DTEND:20260401T230000
LOCATION:City Resort Helmond
ATTACH;FMTTYPE=text/plain:https://hbb.rivio.dev/senioren/2025/wedstrijd/366
 40
END:VEVENT
BEGIN:VTIMEZONE
TZID:Europe/Amsterdam
BEGIN:STANDARD
DTSTART:20250101T000000
TZNAME:CET
TZOFFSETTO:+0100
TZOFFSETFROM:+0100
END:STANDARD
BEGIN:DAYLIGHT
DTSTART:20250330T030000
TZNAME:CEST
TZOFFSETTO:+0200
TZOFFSETFROM:+0100
END:DAYLIGHT
BEGIN:STANDARD
DTSTART:20251026T020000
TZNAME:CET
TZOFFSETTO:+0100
TZOFFSETFROM:+0200
END:STANDARD
BEGIN:DAYLIGHT
DTSTART:20260329T030000
TZNAME:CEST
TZOFFSETTO:+0200
TZOFFSETFROM:+0100
END:DAYLIGHT
BEGIN:STANDARD
DTSTART:20261025T020000
TZNAME:CET
TZOFFSETTO:+0100
TZOFFSETFROM:+0200
END:STANDARD
END:VTIMEZONE
END:VCALENDAR
