BEGIN:VCALENDAR
PRODID:-//eluceo/ical//2.0/EN
VERSION:2.0
CALSCALE:GREGORIAN
BEGIN:VEVENT
UID:https://hbb.rivio.dev/senioren/2025/wedstrijd/36258
DTSTAMP:20260419T164704Z
SUMMARY:Con Brio 1 - Mierlo 1
DESCRIPTION:Baan 1\, Wedstrijdnummer 3\, Afdeling Topklasse 
DTSTART:20250924T200000
DTEND:20250924T230000
LOCATION:City Resort Helmond
ATTACH;FMTTYPE=text/plain:https://hbb.rivio.dev/senioren/2025/wedstrijd/362
 58
END:VEVENT
BEGIN:VEVENT
UID:https://hbb.rivio.dev/senioren/2025/wedstrijd/36278
DTSTAMP:20260419T164704Z
SUMMARY:Phoenix 1 - Mierlo 1
DESCRIPTION:Baan 1\, Wedstrijdnummer 6\, Afdeling Topklasse 
DTSTART:20251001T200000
DTEND:20251001T230000
LOCATION:City Resort Helmond
ATTACH;FMTTYPE=text/plain:https://hbb.rivio.dev/senioren/2025/wedstrijd/362
 78
END:VEVENT
BEGIN:VEVENT
UID:https://hbb.rivio.dev/senioren/2025/wedstrijd/36312
DTSTAMP:20260419T164704Z
SUMMARY:Bakel 1 - Mierlo 1
DESCRIPTION:Baan 5\, Wedstrijdnummer 9\, Afdeling Topklasse 
DTSTART:20251009T200000
DTEND:20251009T230000
LOCATION:City Resort Helmond
ATTACH;FMTTYPE=text/plain:https://hbb.rivio.dev/senioren/2025/wedstrijd/363
 12
END:VEVENT
BEGIN:VEVENT
UID:https://hbb.rivio.dev/senioren/2025/wedstrijd/36337
DTSTAMP:20260419T164704Z
SUMMARY:Mierlo 1 - De Valken 1
DESCRIPTION:Baan 15\, Wedstrijdnummer 14\, Afdeling Topklasse 
DTSTART:20251023T200000
DTEND:20251023T230000
LOCATION:City Resort Helmond
ATTACH;FMTTYPE=text/plain:https://hbb.rivio.dev/senioren/2025/wedstrijd/363
 37
END:VEVENT
BEGIN:VEVENT
UID:https://hbb.rivio.dev/senioren/2025/wedstrijd/36359
DTSTAMP:20260419T164704Z
SUMMARY:Mierlo 1 - Brabantia 1
DESCRIPTION:Baan 2\, Wedstrijdnummer 19\, Afdeling Topklasse 
DTSTART:20251105T200000
DTEND:20251105T230000
LOCATION:City Resort Helmond
ATTACH;FMTTYPE=text/plain:https://hbb.rivio.dev/senioren/2025/wedstrijd/363
 59
END:VEVENT
BEGIN:VEVENT
UID:https://hbb.rivio.dev/senioren/2025/wedstrijd/36389
DTSTAMP:20260419T164704Z
SUMMARY:Mierlo 1 - Mixed 1
DESCRIPTION:Baan 2\, Wedstrijdnummer 24\, Afdeling Topklasse 
DTSTART:20251120T200000
DTEND:20251120T230000
LOCATION:City Resort Helmond
ATTACH;FMTTYPE=text/plain:https://hbb.rivio.dev/senioren/2025/wedstrijd/363
 89
END:VEVENT
BEGIN:VEVENT
UID:https://hbb.rivio.dev/senioren/2025/wedstrijd/36441
DTSTAMP:20260419T164704Z
SUMMARY:Geldrop 1 - Mierlo 1
DESCRIPTION:Baan 5\, Wedstrijdnummer 28\, Afdeling Topklasse 
DTSTART:20251210T200000
DTEND:20251210T230000
LOCATION:City Resort Helmond
ATTACH;FMTTYPE=text/plain:https://hbb.rivio.dev/senioren/2025/wedstrijd/364
 41
END:VEVENT
BEGIN:VEVENT
UID:https://hbb.rivio.dev/senioren/2025/wedstrijd/36468
DTSTAMP:20260419T164704Z
SUMMARY:Mierlo 1 - Con Brio 1
DESCRIPTION:Baan 2\, Wedstrijdnummer 1003\, Afdeling Topklasse 
DTSTART:20260108T200000
DTEND:20260108T230000
LOCATION:City Resort Helmond
ATTACH;FMTTYPE=text/plain:https://hbb.rivio.dev/senioren/2025/wedstrijd/364
 68
END:VEVENT
BEGIN:VEVENT
UID:https://hbb.rivio.dev/senioren/2025/wedstrijd/36479
DTSTAMP:20260419T164704Z
SUMMARY:Mierlo 1 - Phoenix 1
DESCRIPTION:Baan 3\, Wedstrijdnummer 1006\, Afdeling Topklasse 
DTSTART:20260114T200000
DTEND:20260114T230000
LOCATION:City Resort Helmond
ATTACH;FMTTYPE=text/plain:https://hbb.rivio.dev/senioren/2025/wedstrijd/364
 79
END:VEVENT
BEGIN:VEVENT
UID:https://hbb.rivio.dev/senioren/2025/wedstrijd/36501
DTSTAMP:20260419T164704Z
SUMMARY:Mierlo 1 - Mixed 1
DESCRIPTION:Baan 11\, Wedstrijdnummer 3021\, Afdeling Topklasse 
DTSTART:20260121T200000
DTEND:20260121T230000
LOCATION:City Resort Helmond
ATTACH;FMTTYPE=text/plain:https://hbb.rivio.dev/senioren/2025/wedstrijd/365
 01
END:VEVENT
BEGIN:VEVENT
UID:https://hbb.rivio.dev/senioren/2025/wedstrijd/36534
DTSTAMP:20260419T164704Z
SUMMARY:Mierlo 1 - Bakel 1
DESCRIPTION:Baan 2\, Wedstrijdnummer 1009\, Afdeling Topklasse 
DTSTART:20260205T200000
DTEND:20260205T230000
LOCATION:City Resort Helmond
ATTACH;FMTTYPE=text/plain:https://hbb.rivio.dev/senioren/2025/wedstrijd/365
 34
END:VEVENT
BEGIN:VEVENT
UID:https://hbb.rivio.dev/senioren/2025/wedstrijd/36558
DTSTAMP:20260419T164704Z
SUMMARY:De Valken 1 - Mierlo 1
DESCRIPTION:Baan 12\, Wedstrijdnummer 1014\, Afdeling Topklasse 
DTSTART:20260212T200000
DTEND:20260212T230000
LOCATION:City Resort Helmond
ATTACH;FMTTYPE=text/plain:https://hbb.rivio.dev/senioren/2025/wedstrijd/365
 58
END:VEVENT
BEGIN:VEVENT
UID:https://hbb.rivio.dev/senioren/2025/wedstrijd/36566
DTSTAMP:20260419T164704Z
SUMMARY:Brabantia 1 - Mierlo 1
DESCRIPTION:Baan 5\, Wedstrijdnummer 1019\, Afdeling Topklasse 
DTSTART:20260225T200000
DTEND:20260225T230000
LOCATION:City Resort Helmond
ATTACH;FMTTYPE=text/plain:https://hbb.rivio.dev/senioren/2025/wedstrijd/365
 66
END:VEVENT
BEGIN:VEVENT
UID:https://hbb.rivio.dev/senioren/2025/wedstrijd/36612
DTSTAMP:20260419T164704Z
SUMMARY:Mixed 1 - Mierlo 1
DESCRIPTION:Baan 3\, Wedstrijdnummer 1024\, Afdeling Topklasse 
DTSTART:20260319T200000
DTEND:20260319T230000
LOCATION:City Resort Helmond
ATTACH;FMTTYPE=text/plain:https://hbb.rivio.dev/senioren/2025/wedstrijd/366
 12
END:VEVENT
BEGIN:VEVENT
UID:https://hbb.rivio.dev/senioren/2025/wedstrijd/36622
DTSTAMP:20260419T164704Z
SUMMARY:Mierlo 1 - Geldrop 1
DESCRIPTION:Baan 3\, Wedstrijdnummer 1028\, Afdeling Topklasse 
DTSTART:20260325T200000
DTEND:20260325T230000
LOCATION:City Resort Helmond
ATTACH;FMTTYPE=text/plain:https://hbb.rivio.dev/senioren/2025/wedstrijd/366
 22
END:VEVENT
BEGIN:VTIMEZONE
TZID:Europe/Amsterdam
BEGIN:STANDARD
DTSTART:20250101T000000
TZNAME:CET
TZOFFSETTO:+0100
TZOFFSETFROM:+0100
END:STANDARD
BEGIN:DAYLIGHT
DTSTART:20250330T030000
TZNAME:CEST
TZOFFSETTO:+0200
TZOFFSETFROM:+0100
END:DAYLIGHT
BEGIN:STANDARD
DTSTART:20251026T020000
TZNAME:CET
TZOFFSETTO:+0100
TZOFFSETFROM:+0200
END:STANDARD
BEGIN:DAYLIGHT
DTSTART:20260329T030000
TZNAME:CEST
TZOFFSETTO:+0200
TZOFFSETFROM:+0100
END:DAYLIGHT
BEGIN:STANDARD
DTSTART:20261025T020000
TZNAME:CET
TZOFFSETTO:+0100
TZOFFSETFROM:+0200
END:STANDARD
END:VTIMEZONE
END:VCALENDAR
