BEGIN:VCALENDAR
PRODID:-//eluceo/ical//2.0/EN
VERSION:2.0
CALSCALE:GREGORIAN
BEGIN:VEVENT
UID:https://hbb.rivio.dev/jeugd/2025/wedstrijd/36680
DTSTAMP:20260420T164851Z
SUMMARY:Mierlo 2 - 't Veertje 1
DESCRIPTION:Baan 1\, Wedstrijdnummer 25\, Afdeling C-klasse 
DTSTART:20250928T093000
DTEND:20250928T111500
LOCATION:City Resort Helmond
ATTACH;FMTTYPE=text/plain:https://hbb.rivio.dev/jeugd/2025/wedstrijd/36680
END:VEVENT
BEGIN:VEVENT
UID:https://hbb.rivio.dev/jeugd/2025/wedstrijd/36701
DTSTAMP:20260420T164851Z
SUMMARY:'t Veertje 1 - Veldhoven 1
DESCRIPTION:Baan 1\, Wedstrijdnummer 28\, Afdeling C-klasse 
DTSTART:20251005T093000
DTEND:20251005T111500
LOCATION:City Resort Helmond
ATTACH;FMTTYPE=text/plain:https://hbb.rivio.dev/jeugd/2025/wedstrijd/36701
END:VEVENT
BEGIN:VEVENT
UID:https://hbb.rivio.dev/jeugd/2025/wedstrijd/36715
DTSTAMP:20260420T164851Z
SUMMARY:Gemert 2 - 't Veertje 1
DESCRIPTION:Baan 4\, Wedstrijdnummer 31\, Afdeling C-klasse 
DTSTART:20251102T093000
DTEND:20251102T111500
LOCATION:City Resort Helmond
ATTACH;FMTTYPE=text/plain:https://hbb.rivio.dev/jeugd/2025/wedstrijd/36715
END:VEVENT
BEGIN:VEVENT
UID:https://hbb.rivio.dev/jeugd/2025/wedstrijd/36736
DTSTAMP:20260420T164851Z
SUMMARY:'t Veertje 1 - Phoenix 2
DESCRIPTION:Baan 4\, Wedstrijdnummer 34\, Afdeling C-klasse 
DTSTART:20251109T093000
DTEND:20251109T111500
LOCATION:City Resort Helmond
ATTACH;FMTTYPE=text/plain:https://hbb.rivio.dev/jeugd/2025/wedstrijd/36736
END:VEVENT
BEGIN:VEVENT
UID:https://hbb.rivio.dev/jeugd/2025/wedstrijd/36756
DTSTAMP:20260420T164851Z
SUMMARY:Brabantia 1 - 't Veertje 1
DESCRIPTION:Baan 4\, Wedstrijdnummer 37\, Afdeling C-klasse 
DTSTART:20251116T093000
DTEND:20251116T111500
LOCATION:City Resort Helmond
ATTACH;FMTTYPE=text/plain:https://hbb.rivio.dev/jeugd/2025/wedstrijd/36756
END:VEVENT
BEGIN:VEVENT
UID:https://hbb.rivio.dev/jeugd/2025/wedstrijd/36777
DTSTAMP:20260420T164851Z
SUMMARY:'t Veertje 1 - Mixed 3
DESCRIPTION:Baan 4\, Wedstrijdnummer 40\, Afdeling C-klasse 
DTSTART:20251123T093000
DTEND:20251123T111500
LOCATION:City Resort Helmond
ATTACH;FMTTYPE=text/plain:https://hbb.rivio.dev/jeugd/2025/wedstrijd/36777
END:VEVENT
BEGIN:VEVENT
UID:https://hbb.rivio.dev/jeugd/2025/wedstrijd/36819
DTSTAMP:20260420T164851Z
SUMMARY:'t Veertje 1 - Mierlo 2
DESCRIPTION:Baan 4\, Wedstrijdnummer 1025\, Afdeling C-klasse 
DTSTART:20260111T093000
DTEND:20260111T111500
LOCATION:City Resort Helmond
ATTACH;FMTTYPE=text/plain:https://hbb.rivio.dev/jeugd/2025/wedstrijd/36819
END:VEVENT
BEGIN:VEVENT
UID:https://hbb.rivio.dev/jeugd/2025/wedstrijd/36840
DTSTAMP:20260420T164851Z
SUMMARY:Veldhoven 1 - 't Veertje 1
DESCRIPTION:Baan 4\, Wedstrijdnummer 1028\, Afdeling C-klasse 
DTSTART:20260125T093000
DTEND:20260125T111500
LOCATION:City Resort Helmond
ATTACH;FMTTYPE=text/plain:https://hbb.rivio.dev/jeugd/2025/wedstrijd/36840
END:VEVENT
BEGIN:VEVENT
UID:https://hbb.rivio.dev/jeugd/2025/wedstrijd/36862
DTSTAMP:20260420T164851Z
SUMMARY:'t Veertje 1 - Gemert 2
DESCRIPTION:Baan 4\, Wedstrijdnummer 1031\, Afdeling C-klasse 
DTSTART:20260208T093000
DTEND:20260208T111500
LOCATION:City Resort Helmond
ATTACH;FMTTYPE=text/plain:https://hbb.rivio.dev/jeugd/2025/wedstrijd/36862
END:VEVENT
BEGIN:VEVENT
UID:https://hbb.rivio.dev/jeugd/2025/wedstrijd/36895
DTSTAMP:20260420T164851Z
SUMMARY:Phoenix 2 - 't Veertje 1
DESCRIPTION:Baan 4\, Wedstrijdnummer 1034\, Afdeling C-klasse 
DTSTART:20260322T123000
DTEND:20260322T230000
LOCATION:City Resort Helmond
ATTACH;FMTTYPE=text/plain:https://hbb.rivio.dev/jeugd/2025/wedstrijd/36895
END:VEVENT
BEGIN:VEVENT
UID:https://hbb.rivio.dev/jeugd/2025/wedstrijd/36902
DTSTAMP:20260420T164851Z
SUMMARY:'t Veertje 1 - Brabantia 1
DESCRIPTION:Baan 1\, Wedstrijdnummer 1037\, Afdeling C-klasse 
DTSTART:20260329T093000
DTEND:20260329T111500
LOCATION:City Resort Helmond
ATTACH;FMTTYPE=text/plain:https://hbb.rivio.dev/jeugd/2025/wedstrijd/36902
END:VEVENT
BEGIN:VEVENT
UID:https://hbb.rivio.dev/jeugd/2025/wedstrijd/36926
DTSTAMP:20260420T164851Z
SUMMARY:Mixed 3 - 't Veertje 1
DESCRIPTION:Baan 4\, Wedstrijdnummer 1040\, Afdeling C-klasse 
DTSTART:20260412T093000
DTEND:20260412T111500
LOCATION:City Resort Helmond
ATTACH;FMTTYPE=text/plain:https://hbb.rivio.dev/jeugd/2025/wedstrijd/36926
END:VEVENT
BEGIN:VTIMEZONE
TZID:Europe/Amsterdam
BEGIN:STANDARD
DTSTART:20250101T000000
TZNAME:CET
TZOFFSETTO:+0100
TZOFFSETFROM:+0100
END:STANDARD
BEGIN:DAYLIGHT
DTSTART:20250330T030000
TZNAME:CEST
TZOFFSETTO:+0200
TZOFFSETFROM:+0100
END:DAYLIGHT
BEGIN:STANDARD
DTSTART:20251026T020000
TZNAME:CET
TZOFFSETTO:+0100
TZOFFSETFROM:+0200
END:STANDARD
BEGIN:DAYLIGHT
DTSTART:20260329T030000
TZNAME:CEST
TZOFFSETTO:+0200
TZOFFSETFROM:+0100
END:DAYLIGHT
BEGIN:STANDARD
DTSTART:20261025T020000
TZNAME:CET
TZOFFSETTO:+0100
TZOFFSETFROM:+0200
END:STANDARD
END:VTIMEZONE
END:VCALENDAR
