BEGIN:VCALENDAR
PRODID:-//eluceo/ical//2.0/EN
VERSION:2.0
CALSCALE:GREGORIAN
BEGIN:VEVENT
UID:https://hbb.rivio.dev/senioren/2025/wedstrijd/36267
DTSTAMP:20260419T132421Z
SUMMARY:Gemert 2 - Con Brio 4
DESCRIPTION:Baan 15\, Wedstrijdnummer 114\, Afdeling 3e klasse I
DTSTART:20250924T200000
DTEND:20250924T230000
LOCATION:City Resort Helmond
ATTACH;FMTTYPE=text/plain:https://hbb.rivio.dev/senioren/2025/wedstrijd/362
 67
END:VEVENT
BEGIN:VEVENT
UID:https://hbb.rivio.dev/senioren/2025/wedstrijd/36314
DTSTAMP:20260419T132421Z
SUMMARY:Con Brio 4 - Veldhoven 1
DESCRIPTION:Baan 12\, Wedstrijdnummer 118\, Afdeling 3e klasse I
DTSTART:20251009T200000
DTEND:20251009T230000
LOCATION:City Resort Helmond
ATTACH;FMTTYPE=text/plain:https://hbb.rivio.dev/senioren/2025/wedstrijd/363
 14
END:VEVENT
BEGIN:VEVENT
UID:https://hbb.rivio.dev/senioren/2025/wedstrijd/36374
DTSTAMP:20260419T132421Z
SUMMARY:Con Brio 4 - Someren 4
DESCRIPTION:Baan 12\, Wedstrijdnummer 122\, Afdeling 3e klasse I
DTSTART:20251106T200000
DTEND:20251106T230000
LOCATION:City Resort Helmond
ATTACH;FMTTYPE=text/plain:https://hbb.rivio.dev/senioren/2025/wedstrijd/363
 74
END:VEVENT
BEGIN:VEVENT
UID:https://hbb.rivio.dev/senioren/2025/wedstrijd/36403
DTSTAMP:20260419T132421Z
SUMMARY:Mierlo 8 - Con Brio 4
DESCRIPTION:Baan 11\, Wedstrijdnummer 125\, Afdeling 3e klasse I
DTSTART:20251126T200000
DTEND:20251126T230000
LOCATION:City Resort Helmond
ATTACH;FMTTYPE=text/plain:https://hbb.rivio.dev/senioren/2025/wedstrijd/364
 03
END:VEVENT
BEGIN:VEVENT
UID:https://hbb.rivio.dev/senioren/2025/wedstrijd/36429
DTSTAMP:20260419T132421Z
SUMMARY:Con Brio 4 - RBC 2
DESCRIPTION:Baan 3\, Wedstrijdnummer 3009\, Afdeling 3e klasse I
DTSTART:20251204T200000
DTEND:20251204T230000
LOCATION:City Resort Helmond
ATTACH;FMTTYPE=text/plain:https://hbb.rivio.dev/senioren/2025/wedstrijd/364
 29
END:VEVENT
BEGIN:VEVENT
UID:https://hbb.rivio.dev/senioren/2025/wedstrijd/36445
DTSTAMP:20260419T132421Z
SUMMARY:Geldrop 3 - Con Brio 4
DESCRIPTION:Baan 14\, Wedstrijdnummer 127\, Afdeling 3e klasse I
DTSTART:20251210T200000
DTEND:20251210T230000
LOCATION:City Resort Helmond
ATTACH;FMTTYPE=text/plain:https://hbb.rivio.dev/senioren/2025/wedstrijd/364
 45
END:VEVENT
BEGIN:VEVENT
UID:https://hbb.rivio.dev/senioren/2025/wedstrijd/36483
DTSTAMP:20260419T132421Z
SUMMARY:Con Brio 4 - Gemert 2
DESCRIPTION:Baan 12\, Wedstrijdnummer 1114\, Afdeling 3e klasse I
DTSTART:20260114T200000
DTEND:20260114T230000
LOCATION:City Resort Helmond
ATTACH;FMTTYPE=text/plain:https://hbb.rivio.dev/senioren/2025/wedstrijd/364
 83
END:VEVENT
BEGIN:VEVENT
UID:https://hbb.rivio.dev/senioren/2025/wedstrijd/36540
DTSTAMP:20260419T132421Z
SUMMARY:Veldhoven 1 - Con Brio 4
DESCRIPTION:Baan 13\, Wedstrijdnummer 1118\, Afdeling 3e klasse I
DTSTART:20260205T200000
DTEND:20260205T230000
LOCATION:City Resort Helmond
ATTACH;FMTTYPE=text/plain:https://hbb.rivio.dev/senioren/2025/wedstrijd/365
 40
END:VEVENT
BEGIN:VEVENT
UID:https://hbb.rivio.dev/senioren/2025/wedstrijd/36581
DTSTAMP:20260419T132421Z
SUMMARY:Someren 4 - Con Brio 4
DESCRIPTION:Baan 15\, Wedstrijdnummer 1122\, Afdeling 3e klasse I
DTSTART:20260226T200000
DTEND:20260226T230000
LOCATION:City Resort Helmond
ATTACH;FMTTYPE=text/plain:https://hbb.rivio.dev/senioren/2025/wedstrijd/365
 81
END:VEVENT
BEGIN:VEVENT
UID:https://hbb.rivio.dev/senioren/2025/wedstrijd/36614
DTSTAMP:20260419T132421Z
SUMMARY:Con Brio 4 - Mierlo 8
DESCRIPTION:Baan 5\, Wedstrijdnummer 1125\, Afdeling 3e klasse I
DTSTART:20260319T200000
DTEND:20260319T230000
LOCATION:City Resort Helmond
ATTACH;FMTTYPE=text/plain:https://hbb.rivio.dev/senioren/2025/wedstrijd/366
 14
END:VEVENT
BEGIN:VEVENT
UID:https://hbb.rivio.dev/senioren/2025/wedstrijd/36628
DTSTAMP:20260419T132421Z
SUMMARY:Con Brio 4 - Geldrop 3
DESCRIPTION:Baan 14\, Wedstrijdnummer 1127\, Afdeling 3e klasse I
DTSTART:20260325T200000
DTEND:20260325T230000
LOCATION:City Resort Helmond
ATTACH;FMTTYPE=text/plain:https://hbb.rivio.dev/senioren/2025/wedstrijd/366
 28
END:VEVENT
BEGIN:VTIMEZONE
TZID:Europe/Amsterdam
BEGIN:STANDARD
DTSTART:20250101T000000
TZNAME:CET
TZOFFSETTO:+0100
TZOFFSETFROM:+0100
END:STANDARD
BEGIN:DAYLIGHT
DTSTART:20250330T030000
TZNAME:CEST
TZOFFSETTO:+0200
TZOFFSETFROM:+0100
END:DAYLIGHT
BEGIN:STANDARD
DTSTART:20251026T020000
TZNAME:CET
TZOFFSETTO:+0100
TZOFFSETFROM:+0200
END:STANDARD
BEGIN:DAYLIGHT
DTSTART:20260329T030000
TZNAME:CEST
TZOFFSETTO:+0200
TZOFFSETFROM:+0100
END:DAYLIGHT
BEGIN:STANDARD
DTSTART:20261025T020000
TZNAME:CET
TZOFFSETTO:+0100
TZOFFSETFROM:+0200
END:STANDARD
END:VTIMEZONE
END:VCALENDAR
