BEGIN:VCALENDAR
PRODID:-//eluceo/ical//2.0/EN
VERSION:2.0
CALSCALE:GREGORIAN
BEGIN:VEVENT
UID:https://hbb.rivio.dev/senioren/2025/wedstrijd/36298
DTSTAMP:20260419T150137Z
SUMMARY:Mierlo 6 - Con Brio 2
DESCRIPTION:Baan 1\, Wedstrijdnummer 80\, Afdeling 2e klasse I
DTSTART:20251008T200000
DTEND:20251008T230000
LOCATION:City Resort Helmond
ATTACH;FMTTYPE=text/plain:https://hbb.rivio.dev/senioren/2025/wedstrijd/362
 98
END:VEVENT
BEGIN:VEVENT
UID:https://hbb.rivio.dev/senioren/2025/wedstrijd/36321
DTSTAMP:20260419T150137Z
SUMMARY:Geldrop 2 - Con Brio 2
DESCRIPTION:Baan 4\, Wedstrijdnummer 82\, Afdeling 2e klasse I
DTSTART:20251022T200000
DTEND:20251022T230000
LOCATION:City Resort Helmond
ATTACH;FMTTYPE=text/plain:https://hbb.rivio.dev/senioren/2025/wedstrijd/363
 21
END:VEVENT
BEGIN:VEVENT
UID:https://hbb.rivio.dev/senioren/2025/wedstrijd/36345
DTSTAMP:20260419T150137Z
SUMMARY:Mixed 4 - Con Brio 2
DESCRIPTION:Baan 13\, Wedstrijdnummer 84\, Afdeling 2e klasse I
DTSTART:20251029T200000
DTEND:20251029T230000
LOCATION:City Resort Helmond
ATTACH;FMTTYPE=text/plain:https://hbb.rivio.dev/senioren/2025/wedstrijd/363
 45
END:VEVENT
BEGIN:VEVENT
UID:https://hbb.rivio.dev/senioren/2025/wedstrijd/36367
DTSTAMP:20260419T150137Z
SUMMARY:Con Brio 2 - ASML 1
DESCRIPTION:Baan 15\, Wedstrijdnummer 88\, Afdeling 2e klasse I
DTSTART:20251105T200000
DTEND:20251105T230000
LOCATION:City Resort Helmond
ATTACH;FMTTYPE=text/plain:https://hbb.rivio.dev/senioren/2025/wedstrijd/363
 67
END:VEVENT
BEGIN:VEVENT
UID:https://hbb.rivio.dev/senioren/2025/wedstrijd/36419
DTSTAMP:20260419T150137Z
SUMMARY:Con Brio 2 - VBSC 1
DESCRIPTION:Baan 2\, Wedstrijdnummer 3005\, Afdeling 2e klasse I
DTSTART:20251203T200000
DTEND:20251203T230000
LOCATION:City Resort Helmond
ATTACH;FMTTYPE=text/plain:https://hbb.rivio.dev/senioren/2025/wedstrijd/364
 19
END:VEVENT
BEGIN:VEVENT
UID:https://hbb.rivio.dev/senioren/2025/wedstrijd/36457
DTSTAMP:20260419T150137Z
SUMMARY:Con Brio 2 - Ganzeveer 2
DESCRIPTION:Baan 1\, Wedstrijdnummer 92\, Afdeling 2e klasse I
DTSTART:20260107T200000
DTEND:20260107T230000
LOCATION:City Resort Helmond
ATTACH;FMTTYPE=text/plain:https://hbb.rivio.dev/senioren/2025/wedstrijd/364
 57
END:VEVENT
BEGIN:VEVENT
UID:https://hbb.rivio.dev/senioren/2025/wedstrijd/36497
DTSTAMP:20260419T150137Z
SUMMARY:Con Brio 2 - Mierlo 6
DESCRIPTION:Baan 1\, Wedstrijdnummer 1080\, Afdeling 2e klasse I
DTSTART:20260121T200000
DTEND:20260121T230000
LOCATION:City Resort Helmond
ATTACH;FMTTYPE=text/plain:https://hbb.rivio.dev/senioren/2025/wedstrijd/364
 97
END:VEVENT
BEGIN:VEVENT
UID:https://hbb.rivio.dev/senioren/2025/wedstrijd/36529
DTSTAMP:20260419T150137Z
SUMMARY:Con Brio 2 - Geldrop 2
DESCRIPTION:Baan 12\, Wedstrijdnummer 1082\, Afdeling 2e klasse I
DTSTART:20260204T200000
DTEND:20260204T230000
LOCATION:City Resort Helmond
ATTACH;FMTTYPE=text/plain:https://hbb.rivio.dev/senioren/2025/wedstrijd/365
 29
END:VEVENT
BEGIN:VEVENT
UID:https://hbb.rivio.dev/senioren/2025/wedstrijd/36583
DTSTAMP:20260419T150137Z
SUMMARY:Con Brio 2 - Mixed 4
DESCRIPTION:Baan 2\, Wedstrijdnummer 1084\, Afdeling 2e klasse I
DTSTART:20260304T200000
DTEND:20260304T230000
LOCATION:City Resort Helmond
ATTACH;FMTTYPE=text/plain:https://hbb.rivio.dev/senioren/2025/wedstrijd/365
 83
END:VEVENT
BEGIN:VEVENT
UID:https://hbb.rivio.dev/senioren/2025/wedstrijd/36607
DTSTAMP:20260419T150137Z
SUMMARY:ASML 1 - Con Brio 2
DESCRIPTION:Baan 13\, Wedstrijdnummer 1088\, Afdeling 2e klasse I
DTSTART:20260318T200000
DTEND:20260318T230000
LOCATION:City Resort Helmond
ATTACH;FMTTYPE=text/plain:https://hbb.rivio.dev/senioren/2025/wedstrijd/366
 07
END:VEVENT
BEGIN:VEVENT
UID:https://hbb.rivio.dev/senioren/2025/wedstrijd/36641
DTSTAMP:20260419T150137Z
SUMMARY:Ganzeveer 2 - Con Brio 2
DESCRIPTION:Baan 3\, Wedstrijdnummer 1092\, Afdeling 2e klasse I
DTSTART:20260401T200000
DTEND:20260401T230000
LOCATION:City Resort Helmond
ATTACH;FMTTYPE=text/plain:https://hbb.rivio.dev/senioren/2025/wedstrijd/366
 41
END:VEVENT
BEGIN:VTIMEZONE
TZID:Europe/Amsterdam
BEGIN:STANDARD
DTSTART:20250101T000000
TZNAME:CET
TZOFFSETTO:+0100
TZOFFSETFROM:+0100
END:STANDARD
BEGIN:DAYLIGHT
DTSTART:20250330T030000
TZNAME:CEST
TZOFFSETTO:+0200
TZOFFSETFROM:+0100
END:DAYLIGHT
BEGIN:STANDARD
DTSTART:20251026T020000
TZNAME:CET
TZOFFSETTO:+0100
TZOFFSETFROM:+0200
END:STANDARD
BEGIN:DAYLIGHT
DTSTART:20260329T030000
TZNAME:CEST
TZOFFSETTO:+0200
TZOFFSETFROM:+0100
END:DAYLIGHT
BEGIN:STANDARD
DTSTART:20261025T020000
TZNAME:CET
TZOFFSETTO:+0100
TZOFFSETFROM:+0200
END:STANDARD
END:VTIMEZONE
END:VCALENDAR
